{"text_format":"3","workbook":"xlsx","n_sheets":4,"sheets":["Αναλυτικά","Συγκεντρωτικά","Δημοτικοί ανά χωριό","Παράμετροι"],"not_rendered":{"images":3,"macros":1,"defined_names":5},"read":"whole","date_system":"1900"}

{"sheet":"Αναλυτικά","index":0,"n_rows":213,"n_cols":43,"rows_kept":213,"merged":[[1,5,1,14],[3,1,3,42],[4,1,5,2],[4,3,5,3],[4,4,5,4],[4,5,4,9],[4,11,4,12],[4,13,4,15],[4,16,4,18],[4,19,4,20],[4,21,4,23],[4,25,4,26],[4,27,4,28],[4,29,4,30],[4,31,4,36],[4,37,4,39],[4,40,4,41],[4,42,5,42],[6,1,48,2],[49,1,91,2],[92,1,126,2],[127,1,169,2],[170,1,212,2]]}
[{"$nulls":4},"Συνδυασμοί"]
[{"$nulls":4},"Υποψήφιος"]
[]
[null,"ΔΗΜΟΤΙΚΕΣ  ΕΚΛΟΓΕΣ 26 ΜΑΙΟΥ 2019"]
[null,"ΣΥΝΔ/ΣΜΟΣ",null,"Α/Α ","ΥΠΟΨΗΦΙΟΣ","ΦΗΡΑ",{"$nulls":4},"ΗΜΕΡΟΒΙΓΛΙ","ΒΟΥΡΒΟΥΛΟΣ",null,"ΚΑΡΤ/ΔΟΣ",null,null,"ΜΕΣΑΡΙΑ ",null,null,"ΒΟΘΩΝΑΣ",null,"ΕΠΙΣΚΟΠΗ-ΓΩΝΙΑΣ",null,null,"ΕΞΩ ΓΩΝΙΑ","ΠΥΡΓΟΣ",null,"ΜΕΓΑΛΟΧΩΡΙ",null,"ΑΚΡΩΤΗΡΙ",null,"ΕΜΠΟΡΕΙΟ ",{"$nulls":5},"ΟΙΑ ",null,null,"ΘΗΡΑΣΙΑ",null,"ΣΥΝΟΛΟ"]
[{"$nulls":5},"(38Β)","(39Β)","(40Β)","(41Β)","(42Β)","(43Β)","(44)","(45Β)","(46Β)","(47Β)","(48Β)","(49Β)","(50Β)","(51Β)","(52Β)","(53Β)","(54Β)","(55Β)","(56Β)","(57Β)","(58Β)","(59Β)","(60)","(61Β)","(62Β)","(63Β)","(64Β)","(65Β)","(66Β)","(67Β)","(68Β)","(69Β)","(70Β)","(71Β)","(72Β)","(73)","(74Β)"]
[7,"Θηραϊκή Πολιτεία",null,null,"ΔΗΜΟΤΙΚΗ ΕΝΟΤΗΤΑ ΘΗΡΑΣ",64,99,57,74,65,81,60,null,58,44,66,96,116,101,83,51,78,63,61,62,164,193,null,78,66,64,65,65,84,92,64,80,72,36,49,16,54,{"$f":"SUM(F7:AP7)","v":2621}]
[8,null,null,1,"ΑΡΒΑΝΙΤΗΣ ΜΙΧΑΗΛ του ΝΕΚΤΑΡΙΟΥ",2,0,1,3,1,0,2,null,2,0,2,2,2,2,2,1,2,5,2,1,25,33,null,12,3,0,3,3,0,2,5,4,0,2,0,0,0,124]
[9,null,null,2,"ΑΡΓΥΡΟΥ ΕΥΑΓΓΕΛΙΑ του ΜΗΝΑ",2,2,1,5,1,0,1,null,3,1,1,7,1,0,1,3,23,10,16,1,8,9,null,3,2,1,2,1,1,3,3,1,1,0,2,0,2,118]
[10,null,null,3,"ΒΑΛΣΑΜΑΚΗ ΕΙΡΗΝΗ του ΔΗΜΗΤΡΙΟΥ",14,13,7,5,5,49,5,null,18,9,11,8,10,6,5,7,4,8,3,4,5,8,null,4,3,4,2,3,8,13,4,8,4,2,2,0,0,261]
[11,null,null,4,"ΒΛΑΧΟΥ ΚΑΛΛΙΟΠΗ του ΝΕΚΤΑΡΙΟΥ",2,3,1,2,0,4,1,null,2,4,3,6,8,3,37,12,1,2,0,0,4,4,null,2,3,4,1,0,3,4,0,5,0,0,0,2,2,125]
[12,null,null,5,"ΓΑΛΑΙΟΣ ΕΛΕΥΘΕΡΙΟΣ του ΠΑΡΑΣΚΕΥΑ",1,1,0,3,1,0,2,null,0,0,0,0,4,3,2,0,0,2,2,1,24,37,null,2,5,10,2,4,2,7,4,6,2,1,1,0,0,129]
[13,null,null,6,"ΓΕΡΟΥ ΙΩΑΝΝΗΣ του ΗΡΑΚΛΗ",5,5,0,0,4,1,2,null,18,9,15,2,1,0,2,0,2,1,5,0,2,4,null,1,1,0,0,0,1,1,1,1,0,6,0,0,0,90]
[14,null,null,7,"ΔΑΝΕΖΗΣ ΙΩΑΝΝΗΣ του ΕΥΑΓΓΕΛΟΥ",0,1,0,5,2,1,5,null,3,3,1,1,5,5,26,14,0,0,0,3,2,8,null,3,1,1,3,6,2,2,1,2,0,0,0,0,0,106]
[15,null,null,8,"ΔΑΡΖΕΝΤΑΣ ΑΝΑΡΓΥΡΟΣ του ΧΑΡΑΛΑΜΠΟΥ",2,4,2,1,1,6,3,null,3,0,3,2,2,10,6,4,5,0,1,4,8,4,null,18,7,5,31,41,29,26,17,22,3,2,2,1,10,285]
[16,null,null,9,"ΔΙΑΜΑΝΤΟΠΟΥΛΟΥ ΜΟΣΧΑ του ΓΕΩΡΓΙΟΥ",6,9,1,2,3,3,1,null,2,2,0,3,2,3,0,1,3,5,1,21,6,6,null,1,2,0,1,3,2,1,2,1,1,1,1,0,0,96]
[17,null,null,10,"ΔΡΟΣΟΣ ΕΛΕΥΘΕΡΙΟΣ του ΣΠΥΡΟΥ",1,3,0,1,1,1,9,null,0,2,3,5,0,3,2,1,1,2,0,6,12,15,null,3,5,2,19,12,32,16,13,14,1,0,0,2,11,198]
[18,null,null,11,"ΖΩΡΖΟΣ ΕΥΑΓΓΕΛΟΣ του ΧΡΙΣΤΟΦΟΡΟΥ",6,12,6,13,4,8,10,null,5,7,4,7,7,9,3,4,13,12,10,9,135,143,null,28,10,9,13,9,10,13,12,12,6,1,5,3,0,558]
[19,null,null,12,"ΚΑΒΑΛΛΑΡΗΣ ΣΤΑΥΡΟΣ του ΠΕΤΡΟΥ",9,22,10,10,12,1,8,null,2,1,2,2,1,2,7,3,3,0,4,0,5,3,null,0,1,0,2,1,0,2,0,1,0,0,3,0,6,123]
[20,null,null,13,"ΚΑΜΠΟΥΡΑΚΗΣ ΝΙΚΟΛΑΟΣ του ΧΑΡΑΛΑΜΠΟΥ",13,15,9,13,11,10,8,null,11,10,16,55,77,50,12,11,5,10,2,5,12,9,null,8,5,5,5,10,4,11,6,11,6,0,1,0,4,440]
[21,null,null,14,"ΚΑΝΕΛΛΑΚΗΣ ΚΩΝΣΤΑΝΤΙΝΟΣ του ΧΡΗΣΤΟΥ",1,11,4,7,4,14,11,null,1,1,1,5,5,7,9,5,4,5,4,3,22,23,null,45,8,6,7,2,7,15,10,7,2,1,1,0,0,258]
[22,null,null,15,"ΚΑΡΑΜΟΛΕΓΚΟΥ ΦΛΩΡΑ ΛΗΔΑ του ΕΜΜΑΝΟΥΗΛ",0,4,2,2,1,0,4,null,0,0,1,0,4,3,0,1,0,1,0,0,1,0,null,1,0,0,0,5,6,9,7,2,1,0,0,0,0,55]
[23,null,null,16,"ΚΑΤΣΙΠΗ ΑΝΔΡΟΜΑΧΗ του ΚΩΝΣΤΑΝΤΙΝΟΥ",1,1,4,0,0,0,0,null,1,0,0,0,2,0,0,0,5,0,0,0,4,0,null,0,0,1,3,1,1,6,3,8,1,0,0,0,0,42]
[24,null,null,17,"ΚΑΦΙΕΡΗΣ ΜΗΝΑΣ του ΔΗΜΗΤΡΙΟΥ",23,35,16,21,23,18,8,null,6,10,11,12,17,7,17,16,14,10,25,5,16,19,null,3,15,21,11,5,7,14,4,9,12,6,5,0,1,442]
[25,null,null,18,"ΛΙΓΝΟΥ ΑΝΝΑ του ΧΡΙΣΤΟΦΟΡΟΥ",0,0,0,0,1,2,2,null,1,0,0,1,0,1,1,0,22,19,13,2,4,2,null,3,2,1,2,0,1,3,2,0,0,0,0,0,0,85]
[26,null,null,19,"ΜΕΛΙΧΟΥΡΤΗΣ ΣΤΕΡΓΙΟΣ του ΑΝΑΣΤΑΣΙΟΥ",8,16,13,8,8,3,1,null,1,1,0,3,3,0,2,3,4,0,0,1,8,9,null,0,0,1,0,1,0,2,1,0,0,0,0,0,0,97]
[27,null,null,20,"ΝOMIKOY ΓΕΩΡΓΙΑ (ΤΖΩΡΤΖΑΚΗ) του ΙΩΑΝΝΗ",2,6,0,0,3,2,0,null,0,2,0,7,0,1,0,0,2,1,1,0,4,3,null,4,0,1,12,16,21,14,23,15,0,0,0,0,0,140]
[28,null,null,21,"ΝΟΜΙΚΟΣ ΓΕΩΡΓΙΟΣ (ΜΠΟΥΑΣ) του ΑΝΤΩΝΙΟΥ",5,7,3,5,1,4,8,null,4,5,11,40,30,31,24,9,11,3,3,6,11,27,null,21,2,2,4,7,1,5,2,7,2,2,3,1,1,308]
[29,null,null,22,"ΝΟΜΙΚΟΣ ΙΩΑΝΝΗΣ (ΣΑΞΕΟΣ) του ΖΩΡΖΗ",4,10,7,3,4,5,3,null,7,4,7,10,15,9,17,2,7,11,7,40,21,15,null,5,1,1,8,8,9,2,5,7,8,2,0,0,1,265]
[30,null,null,23,"ΞΑΓΟΡΑΡΗΣ ΔΗΜΗΤΡΙΟΣ του ΜΑΡΚΟΥ",9,3,4,13,4,1,0,null,2,3,7,3,1,6,9,3,6,2,1,1,15,31,null,0,1,8,0,0,3,0,2,4,0,0,1,0,1,144]
[31,null,null,24,"ΟΛΙΒΕΡΑ ΒΙΟΛΕΤΑ του ΚΑΡΛΟΥ‑ΓΕΩΡΓΙΟΥ",5,7,5,2,3,3,1,null,1,0,1,4,4,2,1,3,0,0,1,1,2,2,null,6,19,31,8,2,1,5,3,5,1,0,0,1,0,130]
[32,null,null,25,"ΠΕΛΕΚΑΝΟΣ ΓΕΩΡΓΙΟΣ του ΙΩΑΝΝΗ",8,3,1,8,6,0,6,null,23,12,29,1,4,4,0,2,0,2,0,3,1,8,null,0,2,2,4,1,1,1,0,0,1,0,0,0,0,133]
[33,null,null,26,"ΠΕΛΕΚΗΣ ΗΛΙΑΣ του ΝΙΚΟΛΑΟΥ",0,1,1,1,2,3,5,null,2,1,1,3,8,2,2,5,34,24,23,9,3,14,null,3,8,0,1,0,0,0,1,1,0,0,0,0,0,158]
[34,null,null,27,"ΠΟΛΥΧΡΟΝΑΚΗΣ ΠΑΝΑΓΙΩΤΗΣ του ΝΙΚΟΛΑΟΥ",2,4,2,4,2,3,1,null,1,4,2,8,7,17,4,4,0,3,4,0,1,5,null,7,28,26,16,15,11,27,11,10,0,1,2,2,7,241]
[35,null,null,28,"ΡΕΝΙΕΡΗ ΕΙΡΗΝΗ του ΓΕΡΑΣΙΜΟΥ",1,3,1,1,3,2,9,null,0,0,0,3,1,7,0,1,0,0,0,0,0,2,null,0,2,1,0,1,2,2,0,2,0,0,0,0,0,44]
[36,null,null,29,"ΡΟΥΣΣΟΥ ΧΡΙΣΤΙΝΑ του ΙΩΑΝΝΗ",0,0,1,2,0,0,0,null,0,0,2,5,2,8,1,2,1,0,0,1,10,21,null,2,1,1,0,1,0,0,0,1,0,0,3,0,0,65]
[37,null,null,30,"ΣΙΓΑΛΑ ΑΡΤΕΜΙΑ του ΓΕΩΡΓΙΟΥ",0,0,1,0,0,23,2,null,1,0,1,1,2,0,0,2,0,1,1,0,2,0,null,2,0,1,0,0,0,1,1,3,0,0,0,0,0,45]
[38,null,null,31,"ΣΙΓΑΛΑ ΝΙΚΟΛΕΤΤΑ του ΑΝΤΩΝΙΟΥ",1,6,1,0,1,1,0,null,0,0,0,0,1,0,0,3,1,2,1,0,7,5,null,1,0,0,2,2,6,11,2,9,1,0,0,0,0,64]
[39,null,null,32,"ΣΙΓΑΛΑΣ ΝΙΚΟΛΑΟΣ του ΕΥΣΤΑΘΙΟΥ",0,1,4,2,10,2,0,null,1,1,1,2,1,0,4,1,2,0,0,1,5,2,null,0,0,0,6,3,8,9,4,10,0,0,0,0,1,{"$f":"SUM(F39:AP39)","v":81}]
[40,null,null,33,"ΤΖΟΥΡΟΣ ΕΛΕΥΘΕΡΙΟΣ του ΑΠΟΣΤΟΛΟΥ",19,23,17,15,19,8,12,null,15,13,10,4,11,11,6,4,7,3,6,3,22,33,null,8,11,5,2,2,3,10,8,2,12,8,8,2,1,343]
[41,null,null,34,"ΦΟΥΣΤΕΡΗΣ ΠΑΝΤΕΛΕΗΜΩΝ του ΑΘΑΝΑΣΙΟΥ",0,4,1,3,1,4,0,null,3,2,4,22,19,19,2,5,1,2,1,0,16,30,null,4,0,0,0,2,1,1,1,1,2,0,0,0,0,151]
[42,null,null,35,"ΧΑΛΑΡΗ ΕΙΡΗΝΗ του ΙΩΑΝΝΗ",0,2,1,0,1,0,0,null,0,0,2,6,1,2,0,0,7,2,15,0,2,0,null,0,1,0,1,3,1,1,1,1,0,0,0,1,1,52]
[43,null,null,36,"ΧΑΛΑΡΗ ΠΑΝΑΓΙΩΤΑ του ΠΑΝΑΓΙΩΤΗ",1,4,5,3,0,3,0,null,0,0,0,0,3,1,0,0,0,0,0,0,2,1,null,0,1,0,0,0,0,0,0,0,1,0,4,0,1,30]
[44,{"$nulls":3},"ΔΗΜΟΤΙΚΗ ΕΝΟΤΗΤΑ ΟΙΑΣ"]
[45,null,null,1,"ΒΑΖΑΙΟΣ ΔΗΜΗΤΡΙΟΣ του ΙΩΑΝΝΗ",11,5,2,8,9,8,17,null,9,6,9,9,18,2,4,0,6,7,8,1,19,19,null,9,4,2,2,4,2,7,7,11,11,3,1,0,1,{"$f":"SUM(F45:AP45)","v":241}]
[46,null,null,2,"ΠΑΓΩΝΗΣ ΕΙΡΗΝΙΚΟΣ του ΑΝΤΩΝΙΟΥ",5,9,8,5,4,4,3,null,9,3,15,12,13,14,3,2,2,4,9,11,26,25,null,9,4,7,5,5,4,5,3,10,3,7,8,0,1,257]
[47,null,null,3,"ΠΑΡΑΒΑΛΟΥ ΑΝΤΩΝΙΑ του ΕΥΑΓΓΕΛΟΥ",4,5,3,0,2,6,1,null,0,3,4,4,7,6,1,0,4,2,1,1,17,19,null,4,5,4,5,9,27,11,10,9,0,0,1,10,38,223]
[48,null,null,4,"ΠΑΣΣΑΡΗΣ ΑΛΕΞΑΝΔΡΟΣ του ΠΕΤΡΟΥ",6,10,9,9,10,18,10,null,17,14,12,11,15,12,20,9,3,5,5,3,13,33,null,4,6,5,1,9,9,18,5,4,42,18,27,4,12,408]
[49,null,null,5,"ΧΑΛΑΡΗΣ ΜΑΡΙΟΣ του ΤΖΩΡΤΖΗ",6,6,2,3,4,4,3,null,3,2,5,13,20,18,7,1,6,3,2,3,17,22,null,8,5,8,18,4,5,8,6,11,7,4,8,0,0,242]
[50,"Σαντορίνη Θηρασία Ενότητα Αλλαγή",null,null,"ΔΗΜΟΤΙΚΗ ΕΝΟΤΗΤΑ ΘΗΡΑΣ",64,60,61,58,43,43,67,null,22,28,33,31,22,22,14,15,23,18,30,47,33,20,null,66,28,30,175,188,170,180,156,185,22,21,29,27,38,{"$f":"SUM(F50:AP50)","v":2069}]
[51,null,null,1,"ΑΛΕΦΡΑΓΚΗΣ ΕΥΑΓΓΕΛΟΣ του ΔΗΜΗΤΡΙΟΥ",0,2,1,1,1,0,0,null,2,2,6,1,0,1,0,1,1,0,0,0,0,1,null,0,15,9,1,0,0,0,0,3,0,1,2,0,1,{"$f":"SUM(F51:AP51)","v":52}]
[52,null,null,2,"ΑΞΙΩΤΗΣ ΚΩΝΣΤΑΝΤΙΝΟΣ του ΑΝΔΡΟΝΙΚΟΥ",3,2,1,3,3,1,3,null,3,3,3,2,2,0,0,0,7,6,10,3,1,1,null,1,1,0,2,0,1,1,3,3,1,1,0,0,0,71]
[53,null,null,3,"ΑΡΓΥΡΟΣ ΙΩΑΝΝΗΣ (ΓΑΔΑΡΟΣ) του ΚΩΝΣΤΑΝΤΙΝΟΥ",19,22,17,19,16,7,10,null,3,2,3,7,3,2,5,1,0,0,1,4,2,2,null,10,2,0,4,7,13,12,12,7,6,1,1,0,2,222]
[54,null,null,4,"ΒΑΛΒΗ ΜΑΡΓΑΡΙΤΑ (ΓΕΓΕ) του ΜΙΧΑΗΛ",2,1,0,1,1,2,0,null,0,0,0,0,0,2,0,0,0,1,0,2,2,2,null,0,0,0,38,18,15,29,23,25,0,0,0,0,0,164]
[55,null,null,5,"ΒΑΛΒΗΣ ΝΙΚΟΛΑΟΣ (ΜΠΑΜΠΑΚΑΡΗΣ) του ΜΑΡΚΟΥ",1,1,1,2,3,1,1,null,0,0,0,3,0,1,0,0,0,0,4,0,1,0,null,3,2,6,32,28,31,22,15,23,0,0,1,0,0,182]
[56,null,null,6,"ΓΚΛΑΒΑ ΑΔΑΜΑΝΤΙΑ του ΔΗΜΗΤΡΙΟΥ",2,1,1,1,0,2,0,null,0,0,1,0,0,2,0,0,1,0,0,0,11,4,null,5,0,2,2,1,0,2,2,2,0,0,0,0,0,42]
[57,null,null,7,"ΔΑΜΑΣΚΗΝΟΥ ΓΕΩΡΓΙΑ (ΓΕΡΟΜΑΝΩΛΗ) του ΕΛΕΥΘΕΡΙΟΥ",1,3,3,0,0,1,0,null,1,0,0,1,0,1,0,0,0,0,0,1,3,1,null,9,0,1,2,1,2,4,0,2,0,0,0,0,0,37]
[58,null,null,8,"ΔΑΜΙΓΟΥ ΜΑΡΙΑ (ΠΡΟΕΔΡΟΥ) του ΝΙΚΟΛΑΟΥ",2,1,0,1,0,1,33,null,0,0,0,0,1,0,0,1,1,1,0,5,2,0,null,4,2,0,0,3,2,0,0,1,0,0,1,0,0,62]
[59,null,null,9,"ΔΑΡΖΕΝΤΑΣ ΓΕΩΡΓΙΟΣ (ΣΚΟΥΜΠΡΗΣ) του ΙΩΑΝΝΗ",5,9,0,1,4,7,3,null,0,0,2,6,1,5,1,0,1,0,1,4,2,1,null,3,0,4,44,63,35,58,56,65,0,0,0,0,2,383]
[60,null,null,10,"ΔΑΡΖΕΝΤΑΣ ΝΙΚΟΛΑΟΣ (ΝΙΚΑΚΗΣ) του ΖΑΝΝΕ",0,5,2,0,7,0,1,null,0,1,1,9,1,1,2,1,1,2,0,2,0,1,null,1,1,4,44,44,16,36,26,29,0,1,0,0,0,239]
[61,null,null,11,"ΔΡΟΣΟΣ ΖΗΣΗΣ του ΣΠΥΡΟΥ",8,2,2,1,1,3,3,null,4,0,0,1,3,0,4,0,0,4,1,9,4,0,null,11,0,4,20,22,33,12,27,32,1,0,0,0,0,212]
[62,null,null,12,"ΔΡΟΣΟΣ ΣΤΥΛΙΑΝΟΣ (ΦΡΑΓΚΙΑΣ) του ΝΙΚΟΛΑΟΥ",3,2,1,5,1,2,1,null,0,0,1,1,2,1,1,1,0,1,0,2,0,0,null,1,1,2,19,12,38,16,17,21,1,1,0,0,1,155]
[63,null,null,13,"ΔΡΟΣΟΣ ΧΑΡΑΛΑΜΠΟΣ (ΚΟΝΤΟΣ) του ΛΟΥΚΑ",0,1,0,2,0,0,1,null,0,0,1,0,0,0,0,0,0,0,0,1,1,0,null,0,0,1,2,7,22,7,8,5,1,0,0,0,0,60]
[64,null,null,14,"ΔΡΟΣΟΥ ΕΙΡΗΝΗ του ΝΙΚΟΛΑΟΥ",0,0,0,2,1,5,1,null,0,0,0,0,1,0,0,0,4,0,0,0,2,0,null,0,1,0,9,6,21,5,3,6,0,0,1,0,1,69]
[65,null,null,15,"ΖΏΡΖΟΣ ΜΑΡΚΟΣ του ΙΩΑΝΝΗ",4,3,3,1,6,0,0,null,1,0,1,1,4,1,1,0,1,0,1,14,4,0,null,3,1,1,12,2,13,4,2,3,1,0,0,0,0,88]
[66,null,null,16,"ΖΑΜΠΕΛΗΣ ΕΥΑΓΓΕΛΟΣ (ΤΡΑΜΑΤΙΑΣ) του ΓΕΩΡΓΙΟΥ",3,1,0,1,0,0,0,null,2,1,2,2,1,6,1,0,0,1,0,6,4,2,null,4,2,1,38,36,34,46,27,34,0,0,0,0,0,255]
[67,null,null,17,"ΚΑΡΑΜΟΛΕΓΚΟΣ ΑΝΤΩΝΙΟΣ του ΕΛΕΥΘΕΡΙΟΥ",6,5,5,2,7,1,0,null,2,2,3,16,2,1,1,1,9,0,1,3,17,12,null,12,0,1,3,3,3,8,3,4,0,0,2,3,3,141]
[68,null,null,18,"ΚΑΡΑΜΟΛΕΓΚΟΥ ΜΑΡΙΑ του ΕΡΜΟΛΑΟΥ",0,1,1,2,0,1,0,null,0,0,0,0,0,0,0,0,0,2,0,0,0,1,null,0,0,0,1,2,6,8,1,1,0,0,1,0,0,28]
[69,null,null,19,"ΚΑΦΟΥΡΟΣ ΝΙΚΟΛΑΟΣ του ΓΕΡΑΣΙΜΟΥ",1,8,3,3,2,5,46,null,0,2,4,4,5,1,2,2,2,1,0,0,2,0,null,2,1,0,2,5,2,2,0,0,0,0,1,0,0,108]
[70,null,null,20,"ΚΙΤΣΟΥ ΣΟΦΙΑ του ΧΑΡΑΛΑΜΠΟΥ",20,18,14,17,12,21,4,null,4,3,10,7,2,5,3,4,8,2,3,14,4,1,null,10,4,13,9,12,12,19,12,22,3,5,4,2,2,305]
[71,null,null,21,"ΛΕΙΒΑΔΑΡΟΣ ΕΜΜΑΝΟΥΗΛ (ΚΟΣΚΩΤΑΣ) του ΠΕΤΡΟΥ",4,3,6,4,2,2,7,null,1,1,3,4,4,2,1,2,3,1,0,2,9,1,null,32,5,4,12,7,13,14,19,26,0,0,0,5,3,202]
[72,null,null,22,"ΜΑΝΤΟΥΣΗΣ ΓΡΗΓΟΡΙΟΣ του ΘΕΟΔΩΡΟΥ",24,13,20,15,8,19,6,null,7,8,8,10,5,4,2,5,2,2,11,9,4,2,null,9,4,2,11,14,27,22,14,13,3,2,2,4,1,312]
[73,null,null,23,"ΜΠΑΝΟΣ ΔΗΜΗΤΡΙΟΣ του ΕΥΑΓΓΕΛΟΥ",3,4,1,2,0,0,6,null,2,0,1,2,4,1,2,2,1,0,2,3,1,0,null,1,2,2,21,29,29,29,23,23,0,0,1,0,0,197]
[74,null,null,24,"ΜΠΙΣΛΙΑΓΑΚΗ ΒΑΓΙΑ του ΠΑΣΧΑΛΗ",2,3,1,1,2,0,0,null,0,0,0,1,0,0,0,0,1,0,2,14,0,0,null,0,0,0,0,1,2,1,0,2,0,0,0,0,0,33]
[75,null,null,25,"ΜΠΟΥΛΙΕΡΗ ΛΑΜΠΡΙΝΗ (ΣΙΓΑΛΑ) του ΠΑΝΑΓΙΩΤΗ",3,2,0,2,1,0,0,null,2,5,1,0,2,0,0,1,10,5,8,8,0,0,null,0,0,0,0,1,0,1,0,1,0,0,0,0,0,53]
[76,null,null,26,"ΞΑΓΟΡΑΡΗΣ ΑΝΤΩΝΙΟΣ (ΚΑΡΑΜΑΛΗΣ) του ΕΥΣΤΑΘΙΟΥ",3,6,7,9,6,1,1,null,2,3,2,4,2,1,0,0,1,2,1,1,0,2,null,0,1,0,1,2,1,3,0,1,0,0,0,2,1,66]
[77,null,null,27,"ΠΑΛΑΙΟΛΟΓΟΥ ΝΙΚΟΛΙΤΣΑ του ΠΑΝΑΓΙΩΤΗ",1,0,1,2,0,0,0,null,2,2,1,0,0,0,1,1,0,0,2,0,0,0,null,1,0,0,0,0,0,1,2,0,0,0,0,0,1,18]
[78,null,null,28,"ΠΑΠΑΪΩΑΝΝΟΥ ΙΩΑΝΝΑ του ΑΠΟΣΤΟΛΟΥ",1,0,2,0,0,0,0,null,0,0,0,0,0,0,0,0,0,0,0,4,1,0,null,0,0,0,0,0,1,0,0,1,0,0,0,0,0,10]
[79,null,null,29,"ΠΑΣΣΑΡΗΣ ΜΑΡΙΟΣ του ΕΛΕΥΘΕΡΙΟΥ",1,0,2,4,0,11,0,null,0,0,0,1,2,0,0,1,0,0,0,1,0,0,null,8,1,0,0,3,4,1,1,1,0,1,2,0,0,45]
[80,null,null,30,"ΠΡΕΚΑ ΣΠΥΡΙΔΟΥΛΑ του ΑΓΓΕΛΟΥ",0,0,0,0,1,0,0,null,0,1,2,1,1,0,0,0,0,0,3,0,1,2,null,5,1,0,31,49,11,26,36,38,0,0,1,0,0,210]
[81,null,null,31,"ΡΕΝΙΕΡΗΣ ΓΕΩΡΓΙΟΣ (ΜΠΑΤΟΥΡΟΣ) του ΕΛΕΥΘΕΡΙΟΥ",5,6,12,25,8,2,4,null,0,1,1,0,0,0,1,0,0,1,0,0,0,0,null,0,0,0,5,0,1,2,1,0,0,0,0,0,0,75]
[82,null,null,32,"ΡΟΥΣΣΟΣ ΕΥΑΓΓΕΛΟΣ (ΛΟΝΤΟΣ) του ΝΙΚΟΛΑΟΥ",2,5,1,1,0,0,0,null,6,6,9,0,0,0,0,0,0,1,0,0,0,1,null,2,0,0,0,0,1,3,0,1,0,0,0,0,1,40]
[83,null,null,33,"ΣΙΓΑΛΑ ΚΑΛΛΙΟΠΗ (ΒΑΒΟΥΛΑ) συζ. ΑΝΤΩΝΙΟΥ",3,4,5,2,3,2,5,null,0,0,0,0,0,3,0,0,1,1,1,3,2,2,null,5,4,1,39,54,26,30,32,48,1,3,1,7,13,301]
[84,null,null,34,"ΣΤΕΦΑΝΑΚΗΣ ΓΕΩΡΓΙΟΣ του ΔΗΜΗΤΡΙΟΥ",6,2,6,2,6,0,0,null,2,2,2,2,2,6,1,0,0,0,1,1,0,2,null,3,3,6,51,51,45,59,37,49,0,0,1,0,0,348]
[85,null,null,35,"ΦΙΛΙΠΠΑΙΟΥ ΜΑΡΙΑ του ΚΩΝΣΤΑΝΤΙΝΟΥ",0,1,0,1,2,0,0,null,1,1,3,1,0,2,0,2,1,0,4,0,1,1,null,0,2,0,0,2,0,0,1,0,1,0,0,0,0,27]
[86,null,null,36,"ΧΑΛΑΡΗΣ ΕΥΑΓΓΕΛΟΣ (ΣΚΑΡΑΜΑΓΚΑΣ) του ΕΜΜΑΝΟΥΗΛ",4,4,7,1,3,0,4,null,1,4,5,0,0,1,0,0,1,0,2,2,0,0,null,0,2,0,9,2,2,2,0,2,0,0,1,1,0,60]
[87,{"$nulls":3},"ΔΗΜΟΤΙΚΗ ΕΝΟΤΗΤΑ ΟΙΑΣ"]
[88,null,null,1,"ΚΟΥΡΤΗ ΧΑΡΟΥΛΑ του ΦΩΤΙΟΥ‑ΘΕΟΦΑΝΟΥΣ",2,2,3,1,7,2,1,null,2,3,1,1,2,1,0,0,3,3,4,3,0,0,null,6,3,3,5,4,5,7,7,7,4,4,1,0,0,{"$f":"SUM(F88:AP88)","v":97}]
[89,null,null,2,"ΜΑΡΚΟΖΑΝΕΣ ΣΙΓΟΥΡΑΣ του ΠΑΝΑΓΙΩΤΗ",3,2,2,1,0,4,0,null,0,2,1,3,1,1,2,0,2,0,0,4,10,2,null,4,5,2,17,22,20,18,16,23,3,4,4,0,0,178]
[90,null,null,3,"ΠΕΛΕΚΑΝΟΥ ΣΟΦΙΑ ‑ ΡΟΖΑ του ΛΟΥΚΑ",4,2,3,5,10,4,26,null,3,2,3,3,2,6,1,1,4,3,0,6,6,2,null,3,2,1,27,43,24,35,45,25,3,2,10,1,0,317]
[91,null,null,4,"ΠΙΤΣΙΚΑΛΗΣ ΜΑΡΙΝΟΣ του ΜΑΤΘΑΙΟΥ",5,3,0,4,0,2,1,null,2,2,2,4,0,1,0,0,3,1,0,5,1,1,null,7,3,2,13,9,8,6,12,23,0,0,2,21,35,178]
[92,null,null,5,"ΣΙΓΑΛΑΣ ΣΤΑΥΡΟΣ του ΠΕΤΡΟΥ",13,15,1,18,11,14,1,null,6,2,4,12,3,3,6,null,3,1,3,3,3,5,null,12,1,2,37,36,27,31,17,49,7,5,9,0,2,362]
[93,"Λαϊκή Συσπείρωση",null,null,"ΔΗΜΟΤΙΚΗ ΕΝΟΤΗΤΑ ΘΗΡΑΣ",17,9,17,16,16,11,7,null,8,11,12,20,12,18,12,16,80,75,87,17,16,11,null,13,10,26,7,15,16,28,11,14,13,16,13,7,7,{"$f":"SUM(F93:AP93)","v":684}]
[94,null,null,1,"ΑΡΓΥΡΟΣ ΑΡΤΕΜΙΟΣ του ΙΩΑΝΝΗ",2,0,1,0,1,2,0,null,0,1,0,0,1,0,1,0,21,12,15,2,2,1,null,3,1,1,0,1,0,0,0,1,0,1,1,0,1,{"$f":"SUM(F94:AP94)","v":72}]
[95,null,null,2,"ΑΣΗΜΑΚΟΠΟΥΛΟΣ ΝΙΚΟΛΑΟΣ του ΓΕΩΡΓΙΟΥ",0,0,1,0,1,10,0,null,0,0,1,1,0,0,0,0,1,3,0,0,0,0,null,0,0,0,2,1,0,2,1,0,0,0,0,0,0,24]
[96,null,null,3,"ΒΑΪΛΑ ΦΩΤΕΙΝΗ του ΑΝΤΩΝΙΟΥ",5,1,1,0,1,1,0,null,0,0,1,3,2,0,0,1,0,139,0,5,0,1,null,0,0,0,0,0,0,0,0,1,1,0,0,0,0,163]
[97,null,null,4,"ΔΑΜΙΓΟΣ ΜΗΝΑΣ του ΝΙΚΟΛΑΟΥ",1,0,0,0,0,1,2,null,2,0,1,1,1,0,0,1,5,4,4,1,1,1,null,1,0,0,0,0,0,0,0,0,0,0,0,0,0,27]
[98,null,null,5,"ΔΙΟΝΥΣΙΟΥ ΑΘΗΝΑ ΕΛΕΥΘΕΡΙΑ του ΙΩΑΝΝΗ",0,0,0,0,1,0,0,null,0,0,2,3,1,0,1,0,0,0,0,1,1,0,null,1,0,1,0,2,0,0,1,0,0,0,0,0,1,16]
[99,null,null,6,"ΔΡΟΣΟΥ ΜΑΡΟΥΣΩ του ΜΑΡΚΟΥ",0,0,1,0,0,0,1,null,0,0,0,7,2,5,3,0,3,2,3,0,0,1,null,0,0,0,0,0,6,4,2,2,0,0,0,0,0,42]
[100,null,null,7,"ΖΩΡΖΟΣ ΜΙΧΑΗΛ του ΘΕΜΙΣΤΟΚΛΗ",0,1,1,0,2,0,0,null,0,0,1,0,1,0,1,0,2,1,8,1,3,0,null,1,5,20,1,0,1,0,0,0,0,0,0,0,0,50]
[101,null,null,8,"ΘΕΟΔΩΡΟΠΟΥΛΟΣ ΚΩΝΣΤΑΝΤΙΝΟΣ του ΠΑΝΑΓΙΩΤΗ",0,2,1,1,0,2,0,null,0,0,3,62,2,4,1,1,0,0,0,3,0,2,null,2,1,1,0,4,1,6,2,3,1,0,0,0,0,105]
[102,null,null,9,"ΚΑΡΑΜΟΛΕΓΚΟΣ ΧΑΡΑΛΑΜΠΟΣ του ΓΕΩΡΓΙΟΥ",0,1,0,0,1,0,0,null,0,1,0,0,0,1,1,0,14,12,17,0,2,1,null,1,1,5,3,0,1,4,0,2,0,0,0,0,0,68]
[103,null,null,10,"ΚΑΡΕΛΗ ΡΟΥΜΠΙΝΗ του ΙΩΑΝΝΗ",2,0,1,1,0,0,0,null,0,0,1,0,0,2,0,0,0,0,1,0,3,0,null,0,2,3,0,2,1,1,1,3,0,0,0,1,0,25]
[104,null,null,11,"ΚΟΚΚΑΛΗ ΑΚΥΛΙΝΑ του ΜΙΧΑΗΛ",2,3,2,3,0,2,0,null,3,2,3,4,2,4,1,2,19,11,17,4,6,1,null,3,0,5,1,7,4,14,6,8,1,1,0,2,0,143]
[105,null,null,12,"ΚΟΚΚΑΛΗ ΑΝΤΩΝΙΑ συζ. ΙΑΚΩΒΟΥ",0,0,0,0,0,1,0,null,0,0,1,0,0,0,1,0,0,3,1,1,2,1,null,0,0,0,2,2,1,3,0,2,0,0,0,0,1,22]
[106,null,null,13,"ΛΙΚΑΪ ΡΕΑ του ΦΕΡΝΤΙΝΑΝΤ",0,0,0,0,0,0,0,null,0,0,0,0,0,1,0,0,4,3,1,1,2,1,null,1,0,0,1,0,0,1,0,1,0,0,0,0,0,17]
[107,null,null,14,"ΛΥΓΝΟΣ ΧΑΡΑΛΑΜΠΟΣ του ΛΟΥΚΑ",0,1,0,0,0,2,0,null,0,1,0,1,0,2,2,0,28,24,0,1,0,3,null,1,0,1,0,1,0,1,0,0,0,1,0,3,3,76]
[108,null,null,15,"ΜΑΡΓΙΩΛΗ ΒΑΣΙΛΙΚΗ του ΧΡΗΣΤΟΥ",0,0,0,0,2,1,0,null,0,0,0,0,1,0,2,0,2,0,0,0,0,0,null,0,0,0,1,1,0,0,0,0,0,0,0,0,0,10]
[109,null,null,16,"ΜΕΝΔΡΙΝΟΣ ΕΜΜΑΝΟΥΗΛ του ΓΕΩΡΓΙΟΥ",3,2,3,1,0,3,0,null,2,1,0,1,0,4,1,2,11,8,4,1,0,0,null,0,1,0,1,0,1,0,1,0,0,0,0,0,0,51]
[110,null,null,17,"ΞΑΓΟΡΑΡΗΣ ΙΑΚΩΒΟΣ του ΑΡΤΕΜΙΟΥ",0,0,0,0,0,0,0,null,0,0,0,0,0,1,0,0,4,3,10,3,0,0,null,0,1,0,3,0,0,3,0,1,0,0,0,0,0,29]
[111,null,null,18,"ΠΑΠΑΓΙΑΝΝΑΚΗ ΔΕΣΠΟΙΝΑ του ΙΩΑΝΝΗ",0,0,1,2,0,0,0,null,0,0,0,1,0,0,0,0,5,2,4,0,0,0,null,0,1,0,0,0,0,1,0,0,0,0,0,0,0,17]
[112,null,null,19,"ΠΑΠΑΔΟΠΟΥΛΟΣ ΙΩΑΝΝΗΣ του ΑΘΑΝΑΣΙΟΥ",1,3,5,1,0,1,0,null,1,5,1,1,1,1,0,1,2,4,3,1,1,1,null,0,1,3,0,0,0,1,0,1,0,1,0,0,0,41]
[113,null,null,20,"ΠΕΛΕΚΗ ΕΛΕΥΘΕΡΙΑ του ΜΙΧΑΗΛ",0,0,0,0,1,0,0,null,0,0,0,1,2,0,0,0,4,0,5,0,3,0,null,0,0,0,0,0,0,0,0,0,0,0,0,0,0,16]
[114,null,null,21,"ΡΑΓΚΟΥΣΗΣ ΓΕΩΡΓΙΟΣ του ΕΥΘΥΜΙΟΥ",0,1,0,0,5,0,0,null,0,0,0,1,1,0,0,0,0,0,0,0,0,0,null,0,1,0,0,1,0,0,0,0,0,1,2,0,0,13]
[115,null,null,22,"ΤΖΟΥΡΟΣ ΕΥΘΥΜΙΟΣ του ΑΠΟΣΤΟΛΟΥ",3,0,0,2,1,1,0,null,0,1,1,1,1,0,0,0,2,0,0,1,2,0,null,2,0,0,0,0,0,0,0,0,0,0,0,0,0,18]
[116,null,null,23,"ΤΣΙΓΓΕΡΛΙΩΤΗΣ ΙΩΑΝΝΗΣ του ΒΑΣΙΛΕΙΟΥ",1,1,1,4,0,1,0,null,0,0,0,1,1,1,1,1,3,1,2,0,5,1,null,2,0,1,0,3,1,9,5,3,1,1,1,0,0,52]
[117,null,null,24,"ΦΟΥΝΤΟΥΛΗΣ ΣΤΑΜΑΤΙΟΣ του ΓΕΩΡΓΙΟΥ",3,1,4,4,3,0,1,null,0,1,0,2,1,3,1,1,1,2,5,1,0,0,null,0,0,1,0,0,0,0,0,0,0,0,1,0,0,36]
[118,null,null,25,"ΦΡΑΓΚΑΚΟΥ ΓΡΗΓΟΡΙΑ (ΡΟΥΛΑ) του ΛΑΖΑΡΟΥ",2,0,3,6,0,0,2,null,2,1,3,3,2,4,3,0,0,5,4,0,4,2,null,2,2,2,2,4,2,8,0,6,0,1,0,0,0,75]
[119,null,null,26,"ΦΡΑΓΚΟΥ ΜΑΡΙΑ του ΘΕΟΔΩΡΟΥ",0,0,0,1,0,0,0,null,0,0,0,1,0,0,0,0,2,2,1,1,0,2,null,0,0,0,1,0,0,0,0,0,0,0,0,0,0,11]
[120,null,null,27,"ΦΥΤΡΟΣ ΓΕΩΡΓΙΟΣ του ΜΗΝΑ",0,0,0,0,0,0,0,null,0,1,0,1,0,0,0,0,1,0,7,0,1,1,null,0,1,1,0,0,0,2,0,0,0,0,0,0,0,16]
[121,null,null,28,"ΧΑΛΑΡΗ ΘΕΟΔΩΡΑ του ΣΤΕΦΑΝΟΥ",0,0,1,0,1,0,0,null,0,0,1,0,1,0,0,0,7,13,11,0,0,0,null,0,4,5,0,0,1,0,0,0,3,0,2,0,0,50]
[122,null,null,29,"ΧΑΛΑΡΗΣ ΣΤΕΦΑΝΟΣ του ΓΕΩΡΓΙΟΥ",0,1,0,0,1,1,0,null,1,1,1,0,0,1,0,1,19,35,28,3,0,0,null,1,1,0,0,1,0,0,0,0,0,0,1,0,0,97]
[123,null,null,30,"ΧΑΡΑΛΑΜΠΑΚΟΣ ΟΡΕΣΤΗΣ του ΒΑΣΙΛΕΙΟΥ",5,0,4,5,3,3,1,null,1,3,2,1,1,2,3,2,15,25,28,0,0,2,null,3,3,11,3,3,4,2,0,0,0,0,0,0,1,136]
[124,{"$nulls":3},"ΔΗΜΟΤΙΚΗ ΕΝΟΤΗΤΑ ΟΙΑΣ"]
[125,null,null,1,"ΓΙΑΚΙΜΙ ΑΛΚΕΝΤ του ΛΟΥΑΝ",2,1,2,2,0,1,0,null,1,1,1,1,4,4,2,1,13,6,8,0,2,2,null,0,2,5,0,3,1,6,2,4,1,1,2,4,2,87]
[126,null,null,2,"ΣΑΡΒΑΛΗ ΓΕΩΡΓΙΑ του ΘΕΟΔΩΡΟΥ",3,1,4,2,0,5,1,null,1,1,2,6,3,1,1,0,7,2,7,3,4,0,null,0,2,3,2,1,1,4,2,5,0,1,3,0,3,81]
[127,null,null,3,"ΦΟΥΣΤΕΡΗΣ ΠΑΣΧΑΛΗΣ του ΑΡΤΕΜΙΟΥ",0,1,1,4,2,2,0,null,0,3,0,0,2,3,1,0,7,44,9,2,1,0,null,2,2,6,1,1,0,2,0,3,2,0,2,1,0,104]
[128,"ΜΑΖΙ ΑΛΛΑΖΟΥΜΕ ΣΑΝΤΟΡΙΝΗ – ΘΗΡΑΣΙΑ",null,null,"ΔΗΜΟΤΙΚΗ ΕΝΟΤΗΤΑ ΘΗΡΑΣ",80,62,62,54,67,84,20,null,91,92,123,63,74,84,127,97,74,102,91,63,26,29,null,58,37,62,56,28,28,45,30,24,30,26,30,14,4,{"$f":"SUM(F128:AP128)","v":2037}]
[129,null,null,1,"ΑΛΕΦΡΑΓΚΗΣ ΑΝΤΩΝΙΟΣ του ΑΡΤΕMIΟΥ",11,3,4,3,4,3,2,null,1,0,0,2,2,2,0,1,1,2,2,1,0,0,null,0,1,3,1,0,1,0,0,0,1,0,0,0,0,{"$f":"SUM(F129:AP129)","v":51}]
[130,null,null,2,"ΑΡΒΑΝΙΤΗΣ ΗΛΙΑΣ του ΕΜΜΑΝΟYHΛ (ΤΟΥΡΚΙ)",0,0,22,1,1,0,0,null,1,0,0,2,6,6,1,0,3,1,0,2,0,0,null,0,3,1,0,0,1,0,0,0,0,0,1,0,0,52]
[131,null,null,3,"ΒΑΜΒΑΚΟΥΣΗ ΣΑΒΒΙΝΑ‑ΕΛΕΥΘΕΡΙΑ του ΑΝΤΩNIOΥ",2,0,2,2,2,1,0,null,0,1,1,3,1,2,1,0,0,2,2,0,11,6,null,0,0,2,0,0,1,1,0,2,0,0,0,0,0,45]
[132,null,null,4,"ΒΑΣΣΑΛΟΣ ΛΟΥΚΑΣ του ΦΡΑΤZEΣΚΟΥ",5,2,0,4,0,1,0,null,8,4,2,9,2,4,8,1,10,7,6,5,1,1,null,9,3,3,21,15,2,12,6,5,0,0,0,1,0,157]
[133,null,null,5,"ΓΙΑΝΝΑΚΙΔΟΥ ΧΑΡΑΛΑΜΠΙΑ του ΧΡΗΣΤΟΥ (ΧΑΡΑ)",3,0,1,3,2,1,0,null,8,11,11,1,3,1,4,7,9,4,2,7,1,1,null,0,0,0,0,1,0,0,0,0,0,0,2,0,0,83]
[134,null,null,6,"ΓΡΑΤΣΙΑΣ ΙΩΑΝΝΗΣ του ΓΕΩΡΓΙΟΥ",39,21,26,20,11,30,6,null,27,17,25,9,19,16,55,39,25,21,23,19,3,4,null,4,1,2,6,3,3,11,4,2,5,7,9,0,0,512]
[135,null,null,7,"ΔΑΜΙΓΟΥ ΜΑΡΙΑ του ΝΙΚΟΛΑΟΥ",0,1,3,3,5,0,9,null,1,0,0,1,2,0,1,2,1,1,3,0,0,0,null,0,0,0,0,0,0,2,0,0,2,0,0,0,0,37]
[136,null,null,8,"ΔΡΟΣΟΣ ΣΠΥΡΙΔΩΝ του ΣΤΑΥΡΟΥ",24,7,23,8,17,5,1,null,70,80,96,10,8,14,24,6,10,10,2,8,2,1,null,29,12,18,9,4,8,5,7,6,2,6,0,2,1,535]
[137,null,null,9,"ΖΑΜΠΕΛΗ ΕΙΡΗΝΗ του ΑΝΑΣΤΑΣΙΟΥ",2,13,3,0,9,1,2,null,2,0,0,1,0,1,0,1,2,1,1,0,0,1,null,1,0,0,0,0,3,0,0,0,1,1,1,0,0,47]
[138,null,null,10,"ΖΑΜΠΕΛΗΣ ΓΕΩΡΓΙΟΣ του ΝΙΚΟΛΑΟΥ",1,0,0,1,3,1,1,null,0,1,0,2,1,0,1,4,0,1,0,1,2,0,null,8,2,2,6,2,6,8,6,2,0,0,0,0,0,62]
[139,null,null,11,"ΖΩΤΟΥ ΑΝΤΩΝΙΑ του ΙΩΑΝΝΗ (ΤΟΝΙΑ)",8,5,0,4,2,1,0,null,4,1,1,0,0,0,0,1,1,1,0,1,0,0,null,0,0,0,0,0,0,1,0,1,0,0,0,0,0,32]
[140,null,null,12,"ΚΑΛΑΪΔΟΠΟΥΛΟΥ ΚΥΡΙΑΚΗ του ΜΙΧΑΗΛ (ΚΑΙΤΗ)",1,1,0,1,1,1,1,null,6,1,2,0,1,0,1,1,0,1,3,0,0,0,null,0,0,0,1,0,1,1,1,0,0,0,0,0,0,26]
[141,null,null,13,"ΚΑΛΟΥΔΗΣ ΘΕΟΔΩΡΟΣ του ΕΛΕΥΘΕΡΙΟΥ",1,9,1,1,1,9,5,null,5,4,3,4,12,11,18,13,5,11,7,2,2,2,null,1,2,1,0,0,3,0,1,2,0,0,0,0,0,136]
[142,null,null,14,"ΚΑΝΤΖΕΛΗΣ ΧΡΗΣΤΟΣ του ΗΛΙΑ",1,0,3,5,3,4,0,null,3,5,4,3,1,0,7,4,15,14,11,11,0,3,null,0,0,4,0,0,1,4,2,0,2,0,3,0,0,113]
[143,null,null,15,"ΚΑΤΣΙΠΗΣ ΑΝΤΩΝΙΟΣ του ΓΕΩΡΓΙΟΥ",10,15,5,5,9,4,0,null,0,1,2,8,10,4,9,4,0,0,3,2,3,2,null,10,1,2,19,6,3,16,7,4,0,0,0,0,0,164]
[144,null,null,16,"ΚΑΤΣΙΠΗΣ ΕΜΜΑΝΟΥΗΛ του ΝΙΚΟΛΑΟΥ (ΣΠΕΗΣ)",2,0,1,2,0,0,0,null,0,1,1,2,1,0,0,1,0,0,1,0,3,1,null,3,0,0,12,3,4,12,4,5,0,0,0,0,0,59]
[145,null,null,17,"ΚΑΤΣΙΠΗΣ ΣΑΜΨΩΝ του ΙΑΚΩΒΟΥ",6,2,1,4,8,6,2,null,3,2,0,2,2,4,4,4,3,2,1,6,9,7,null,11,1,4,8,0,7,5,9,4,0,0,0,0,0,127]
[146,null,null,18,"ΚΟΥΡΟΥΠΗ ΑΙΚΑΤΕΡΙΝΗ του ΝΙΚΟΛΑΟΥ",2,1,2,0,2,1,0,null,1,0,0,2,0,2,0,0,2,0,0,0,0,0,null,0,0,0,0,0,0,0,0,2,0,1,0,0,0,18]
[147,null,null,19,"ΛΙΓΝΟΥ ΠΑΡΑΣΚΕΥΗ του ΕΜΜΑΝΟΥΗΛ",4,7,9,6,2,12,0,null,3,3,2,0,2,7,37,23,7,4,0,4,1,2,null,3,3,4,1,0,2,0,3,3,1,0,1,0,0,156]
[148,null,null,20,"ΜΑΪΝΑΣ ΙΩΑΝΝΗΣ του ΝΙΚΟΛΑΟΥ",7,9,6,6,6,31,3,null,7,6,14,13,11,17,55,43,34,71,49,8,3,6,null,5,3,6,24,11,8,3,6,6,2,2,3,1,2,487]
[149,null,null,21,"ΝΟΜΙΚΟΣ ΕΥΘΥΜΙΟΣ του ΓΕΩΡΓΙΟΥ",1,1,3,1,3,0,0,null,1,4,1,2,0,2,3,3,2,0,2,0,1,2,null,20,2,4,5,0,0,2,2,1,0,0,0,0,0,68]
[150,null,null,22,"ΝΟΜΙΚΟΥ ΚΥΡΙΑΚΗ του ΙΩΑΝΝΗ (ΚΕΛΛΥ)",0,2,1,1,1,2,0,null,3,3,2,0,2,2,1,1,0,0,0,0,1,0,null,5,6,6,3,1,1,4,7,1,0,0,0,0,0,56]
[151,null,null,23,"ΝΟΜΙΚΟΥ ΜΑΡΙΑ του ΜΑΡΚΟΥ (ΜΟΔΑ ΜΑΡΙΑ)",10,9,10,10,15,4,3,null,2,2,0,0,7,2,5,2,0,0,1,1,1,3,null,7,0,2,5,0,2,13,2,3,0,0,0,0,0,121]
[152,null,null,24,"ΠΑΓΚΑΛΙΔΗΣ ΚΥΡΟΣ του ΧΡΗΣΤΟΥ",3,1,3,6,4,12,0,null,7,0,6,8,4,3,4,2,10,2,2,13,0,0,null,2,0,3,0,1,0,2,1,0,1,0,2,0,0,102]
[153,null,null,25,"ΠΑΠΑΓΙΑΝΝΟΠΟΥΛΟΥ ΝΕΦΕΛΗ ΕΥΑΓΓΕΛΙΑ του ΓΕΩΡΓΙΟΥ",2,4,4,0,0,0,0,null,1,3,1,0,2,2,0,0,4,1,1,2,0,1,null,1,1,0,0,0,0,0,2,1,3,0,1,0,0,37]
[154,null,null,26,"ΠΟΥΛΗΣ ΧΑΡΑΛΑΜΠΟΣ του ΦΑΝΟΥΡΙΟΥ",0,0,0,0,1,0,1,null,0,1,1,1,4,2,1,1,6,11,25,4,2,2,null,0,1,1,3,0,3,1,0,2,0,1,0,0,0,75]
[155,null,null,27,"ΠΡΕΒΟΛΗ ΑΙΚΑΤΕΡΙΝΗ του ΜΙΧΑΗΛ (ΣΤΑΚΟΥ)",0,1,0,0,0,1,0,null,0,0,4,0,0,1,1,0,0,1,0,11,0,0,null,0,0,0,0,0,0,0,0,0,0,0,0,0,0,20]
[156,null,null,28,"ΡΟΥΣΣΟΣ ΓΕΩΡΓΙΟΣ του ΑΡΤΕΜΙΟΥ (ΑΡΑΠΗΣ)",1,0,3,6,3,2,1,null,4,2,0,0,3,0,3,4,0,1,2,28,0,1,null,2,0,1,1,0,0,1,0,2,0,0,0,0,0,71]
[157,null,null,29,"ΡΟΥΣΣΟΣ ΓΕΩΡΓΙΟΣ του ΠΑΝΑΓΙΩΤΗ",19,13,3,0,9,3,1,null,11,4,15,2,8,1,27,14,5,3,5,3,0,0,null,5,0,2,1,0,2,0,0,1,1,1,0,1,1,161]
[158,null,null,30,"ΣΙΓΑΛΑΣ ΕΠΙΦΑΝΙΟΣ του ΑΝΤΩΝΙΟΥ",6,5,4,3,2,10,4,null,3,9,1,9,6,16,32,39,1,4,9,3,5,3,null,15,31,38,17,6,3,7,2,4,0,1,0,0,0,298]
[159,null,null,31,"ΦΟΥΣΤΕΡΗ ΜΑΡΙΑΝΝΑ του ΕΛΕΥΘΕΡΙΟΥ",1,0,1,1,2,1,0,null,0,0,1,3,24,24,2,2,0,1,2,2,0,0,null,0,0,1,0,0,0,0,0,0,0,0,0,0,0,68]
[160,null,null,32,"ΦΟΥΣΤΕΡΗΣ ΙΩΑΝΝΗΣ του ΓΕΩΡΓΙΟΥ",4,1,0,0,3,1,0,null,0,0,0,3,3,1,2,2,0,1,0,0,3,6,null,0,1,0,0,0,1,0,0,1,0,0,0,0,0,33]
[161,null,null,33,"ΦΟΥΣΤΕΡΗΣ ΙΩΑΝΝΗΣ του ΕΥΑΓΓΕΛΟΥ",1,1,2,0,0,3,1,null,2,2,0,9,15,36,3,4,4,8,3,1,2,1,null,0,0,1,1,0,0,1,1,0,1,0,1,0,0,104]
[162,null,null,34,"ΧΑΛΑΡΗ ΜΑΡΙΑ του ΑΝΤΩΝΙΟΥ",1,2,0,1,0,11,0,null,2,0,1,2,1,0,1,1,0,1,1,0,1,0,null,0,0,0,1,1,0,0,0,1,1,0,2,0,0,32]
[163,null,null,35,"ΧΑΛΑΡΗΣ ΑΝΤΩΝΙΟΣ του ΝΙΚΗΤΑ (ΣΚΑΡΑΜΑΓΚΑΣ)",9,6,5,3,4,22,2,null,23,31,48,9,11,6,9,4,13,13,8,2,1,0,null,1,3,0,2,0,3,1,1,0,1,1,1,0,0,243]
[164,null,null,36,"ΧΗΤΑΣ ΡΕΝΟΣ του ΑΘΑΝΑΣΙΟΥ",11,6,2,4,8,5,0,null,24,57,52,6,3,7,9,3,2,5,1,5,1,2,null,1,3,2,1,1,1,0,0,0,0,2,0,1,0,225]
[165,{"$nulls":3},"ΔΗΜΟΤΙΚΗ ΕΝΟΤΗΤΑ ΟΙΑΣ"]
[166,null,null,1,"ΚΑΡΡΑΣ ΜΙΧΑΗΛ του ΧΡΗΣΤΟΥ",4,2,6,4,5,16,0,null,1,7,7,5,9,7,9,3,3,8,5,3,2,1,null,3,2,0,17,1,1,7,1,5,10,14,13,1,0,{"$f":"SUM(F166:AP166)","v":182}]
[167,null,null,2,"ΜΑΡΚΟΖΑΝΕΣ ΙΩΑΝΝΗΣ του ΓΕΩΡΓΙΟΥ",11,5,6,8,8,10,1,null,25,33,34,11,10,10,10,7,1,8,11,19,0,3,null,6,2,3,9,3,3,5,3,2,1,2,2,0,0,272]
[168,null,null,3,"ΜΟΥΤΣΑΤΣΟΥ ΚΥΡΙΑΚΗ του ΓΕΩΡΓΙΟΥ (ΚΙΚΗ)",9,7,3,2,5,6,1,null,5,12,8,9,7,12,41,11,4,9,3,3,1,0,null,6,0,2,1,0,2,2,6,2,6,2,6,0,0,193]
[169,null,null,4,"ΣΟΡΩΤΟΣ ΙΩΑΝΝΗΣ του ΑΝΑΡΓΥΡΟΥ",20,19,9,6,23,19,11,null,19,22,24,4,11,12,29,25,19,13,6,2,7,5,null,14,8,13,10,8,7,7,7,3,2,3,1,0,2,390]
[170,null,null,5,"ΣΥΡΙΓΟΥ ΑΝΝΑ του ΙΑΚΩΒΟΥ",4,1,2,2,3,5,1,null,2,1,6,3,5,0,2,6,3,4,1,5,3,1,null,7,null,4,2,2,2,2,0,5,3,1,3,3,2,96]
[171,"ΤΩΡΑ! Για τη Σαντορίνη και τη Θηρασιά",null,null,"ΔΗΜΟΤΙΚΗ ΕΝΟΤΗΤΑ ΘΗΡΑΣ",59,74,72,72,51,85,31,null,53,58,64,49,50,50,43,27,56,57,46,27,41,64,null,13,23,36,22,21,25,18,27,32,69,79,67,26,31,1618]
[172,null,null,1,"ΑΓΓΕΛΑΚΗ ΜΑΡΙΑ του ΣΠΥΡΙΔΩΝΟΣ",7,13,13,6,6,15,3,null,3,6,9,7,5,6,12,5,6,7,4,4,4,7,null,3,2,4,6,1,2,5,2,2,3,4,3,1,1,{"$f":"SUM(F172:AP172)","v":187}]
[173,null,null,2,"ΑΛΑΦΟΥΖΟΣ ΒΑΣΙΛΕΙΟΣ του ΑΝΑΣΤΑΣΙΟΥ",6,11,10,11,11,14,10,null,6,13,10,7,5,9,8,5,29,28,25,7,9,3,null,3,5,2,3,3,2,0,4,6,14,9,7,0,0,295]
[174,null,null,3,"ΑΛΕΞΙΟΥ ΝΙΚΟΛΕΤΑ (ΝΙΚΗ) του ΙΠΠΟΚΡΑΤΗ",3,0,0,0,2,4,1,null,3,0,0,0,0,3,2,0,19,9,10,0,0,6,null,0,1,0,0,0,1,1,1,0,0,0,0,0,0,66]
[175,null,null,4,"ΒΑΛΒΗΣ ΧΑΡΑΛΑΜΠΟΣ (ΨΟΜΟΦΑΣ) του ΝΙΚΟΛΑΟΥ",1,0,2,0,1,1,0,null,0,0,0,1,2,1,1,1,0,3,1,0,0,1,null,0,0,0,6,0,0,2,0,0,0,2,0,0,0,26]
[176,null,null,5,"ΒΛΑΒΙΑΝΟΥ ΕΙΡΗΝΗ του ΛΟΥΚΑ",5,7,7,7,3,50,5,null,4,4,3,4,1,3,1,1,2,4,0,4,4,2,null,1,1,0,0,0,0,3,0,3,6,5,8,0,0,148]
[177,null,null,6,"ΓΑΛΑΙΟΣ ΝΙΚΟΛΑΟΣ του ΕΜΜΑΝΟΥΗΛ",1,0,0,1,1,1,0,null,0,0,3,1,3,0,1,0,3,3,1,1,7,13,null,1,0,1,0,0,1,0,0,2,0,1,5,0,0,51]
[178,null,null,7,"ΓΑΛΑΙΟΣ ΠΑΝΑΓΙΩΤΗΣ του ΠΑΡΑΣΚΕΥΑ",3,4,4,4,2,2,3,null,0,0,0,2,2,3,2,3,0,2,2,3,6,2,null,1,1,0,1,0,0,3,0,3,0,1,1,0,0,60]
[179,null,null,8,"ΔΑΚΟΡΩΝΙΑ‑ ΖΩΡΖΟΥ ΠΕΤΡΟΥΛΑ του ΓΕΩΡΓΙΟΥ",5,14,6,2,3,1,0,null,5,3,2,8,0,0,4,1,2,3,0,2,3,2,null,1,1,3,1,6,0,1,2,2,0,0,1,2,0,86]
[180,null,null,9,"ΔΑΚΟΥΤΡΟΣ ΙΑΚΩΒΟΣ (ΒΑΚΗΣ) του ΑΝΔΡΕΑ",11,20,11,8,9,2,1,null,1,1,1,5,4,3,3,1,2,1,0,2,1,7,null,0,0,0,0,2,0,0,0,0,1,1,1,1,1,101]
[181,null,null,10,"ΔΑΜΑΣΚΗΝΟΣ ΑΝΤΩΝΙΟΣ του ΙΩΑΝΝΗ",0,2,1,1,0,0,1,null,0,0,1,2,0,0,4,0,0,1,1,0,0,0,null,4,0,4,0,1,0,2,0,4,0,0,1,0,0,30]
[182,null,null,11,"ΔΡΟΣΟΣ ΜΙΧΑΗΛ (ΜΠΙΣΤΟΛΗΣ) του ΕΥΣΤΑΘΙΟΥ",0,0,0,0,0,0,0,null,0,1,0,0,0,0,0,0,0,0,0,0,0,0,null,0,0,0,0,0,0,9,0,0,0,0,0,0,0,10]
[183,null,null,12,"ΔΡΟΣΟΥ ΜΑΡΙΑ του ΕΥΑΓΓΕΛΟΥ",0,1,2,1,1,3,0,null,0,2,1,2,0,0,2,1,1,3,3,1,1,2,null,0,0,1,0,2,10,1,8,4,1,1,1,1,0,57]
[184,null,null,13,"ΖΑΜΠΕΛΗ ΕΙΡΗΝΗ του ΣΤΑΥΡΟΥ",2,1,1,0,1,1,0,null,6,8,1,3,0,0,1,2,1,5,2,1,0,3,null,0,0,0,6,6,8,0,8,3,1,0,2,0,0,73]
[185,null,null,14,"ΚΑΤΡΗΣ ΛΟΥΚΑΣ του ΓΕΩΡΓΙΟΥ",12,5,3,6,4,4,11,null,7,0,5,1,3,5,2,0,1,2,1,3,1,3,null,0,1,1,0,1,0,0,0,1,0,2,0,0,0,85]
[186,null,null,15,"ΛΙΓΝΟΥ ΑΝΝΑ του ΕΥΑΓΓΕΛΟΥ",0,3,3,2,4,1,1,null,4,1,2,2,4,10,13,12,1,"-",0,1,1,0,null,0,0,0,0,1,0,0,1,0,1,1,1,2,0,72]
[187,null,null,16,"ΛΥΓΝΟΥ ΝΙΚΟΛΙΝΑ (ΝΙΚΗ) του ΕΥΑΓΓΕΛΟΥ",0,1,2,1,1,0,0,null,2,1,1,5,10,4,0,0,1,{"$f":"-W1088","v":0},0,0,0,0,null,0,0,0,0,0,0,0,0,0,1,0,2,0,0,32]
[188,null,null,17,"ΜΑΚΡΗΣ ΠΑΝΑΓΙΩΤΗΣ του ΧΡΗΣΤΟΥ",0,1,0,1,0,0,0,null,2,1,2,0,0,2,1,1,5,14,7,0,1,4,null,0,0,1,0,0,0,0,0,0,0,0,0,0,0,43]
[189,null,null,18,"ΜΟΥΚΑΤΕΜΙΔΟΥ‑ΙΩΑΝΝΙΔΟΥ ΕΛΙΣΣΑΒΕΤ (ΛΙΖΑ) του ΙΩΑΝΝΗ",2,4,3,1,5,1,1,null,1,0,1,0,1,1,1,0,5,0,20,0,0,2,null,2,0,2,0,1,0,0,0,2,1,0,0,0,0,57]
[190,null,null,19,"ΜΠΑΪΚΑ ΜΑΡΙΑ του ΧΡΗΣΤΟΥ",0,1,8,1,3,3,0,null,1,0,2,1,0,0,1,1,0,3,0,1,1,0,null,0,10,19,0,4,0,0,0,1,1,0,2,0,0,64]
[191,null,null,20,"ΜΠΛΕΔΑΚΗΣ ΑΛΕΞΑΝΔΡΟΣ (ΑΛΕΚΟΣ) του ΑΝΤΩΝΙΟΥ",16,7,10,20,10,34,3,null,2,2,4,4,5,3,3,4,4,4,8,2,2,0,null,1,0,0,0,0,1,0,3,0,2,1,1,0,0,156]
[192,null,null,21,"ΞΑΓΟΡΑΡΗΣ ΓΡΗΓΟΡΙΟΣ του ΝΙΚΟΛΑΟΥ",10,5,7,3,5,7,3,null,1,2,7,3,6,4,2,6,2,5,4,4,9,18,null,0,4,3,1,2,0,0,6,2,0,1,0,2,2,136]
[193,null,null,22,"ΠΕΛΕΚΑΝΟΥ ΑΙΚΑΤΕΡΙΝΗ του ΚΩΝΣΤΑΝΤΙΝΟΥ",6,4,3,9,4,3,0,null,1,14,5,8,4,3,2,1,4,1,1,3,0,3,null,2,1,3,1,1,0,0,3,0,2,1,5,0,4,102]
[194,null,null,23,"ΠΕΤΙΝΗΣ ΝΙΚΟΛΑΟΣ του ΕΜΜΑΝΟΥΗΛ",5,7,8,9,5,2,5,null,11,10,13,8,7,9,7,3,3,1,2,2,1,3,null,1,2,1,1,2,5,0,1,2,1,6,0,0,0,143]
[195,null,null,24,"ΠΡΕΚΑΣ ΓΕΩΡΓΙΟΣ του ΠΑΝΑΓΙΩΤΗ",9,5,4,5,2,1,0,null,0,7,2,4,2,1,2,0,4,3,2,0,1,0,null,0,0,2,2,0,2,0,0,0,0,0,4,1,1,66]
[196,null,null,25,"ΠΡΕΚΑΣ ΠΕΤΡΟΣ (ΣΒΟΡΩΝΟΣ) του ΕΜΜΑΝΟΥΗΛ",13,24,17,34,11,9,2,null,2,5,11,1,1,1,2,0,3,3,0,0,15,38,null,2,1,1,3,0,1,0,0,5,1,4,2,0,1,213]
[197,null,null,26,"ΡΟΥΣΣΟΣ ΣΤΑΥΡΟΣ του ΒΙΔΙΑΝΟΥ",2,6,8,5,3,13,6,null,11,16,21,2,7,2,2,1,1,3,1,0,3,0,null,2,2,3,3,1,1,0,2,2,3,9,6,11,16,174]
[198,null,null,27,"ΡΟΥΣΣΟΣ ΦΑΝΟΥΡΙΟΣ (ΦΑΝΗΣ) του ΒΑΣΙΛΕΙΟΥ",2,4,1,2,2,1,0,null,4,7,8,2,1,1,1,1,0,1,1,0,1,2,null,0,0,0,0,0,1,2,0,1,2,0,0,0,0,48]
[199,null,null,28,"ΣΑΧ ΧΑΜΙΝΤ ΑΛΕΞΑΝΔΡΟΣ του ΦΙΝΤΑ ΧΟΥΣΕΪΝ",4,9,11,8,6,6,1,null,13,9,7,7,9,8,3,1,3,12,3,7,2,3,null,2,5,12,1,0,3,0,3,0,6,3,3,0,2,172]
[200,null,null,29,"ΣΙΓΑΛΑ ΧΡΙΣΤΙΝΑ του ΕΥΑΓΓΕΛΟΥ",1,3,3,2,4,3,2,null,2,11,0,4,1,5,3,1,1,1,1,2,5,3,null,4,6,10,6,7,10,7,10,10,0,1,1,0,0,130]
[201,null,null,30,"ΣΤΕΦΑΝΟΓΙΑΝΝΗΣ ΜΙΧΑΗΛ του ΙΩΑΝΝΗ",2,4,9,0,4,1,0,null,4,8,3,2,3,3,3,0,4,2,2,0,2,2,null,0,1,0,0,0,0,1,1,3,1,2,0,0,1,68]
[202,null,null,31,"ΣΥΚΗΝΙΩΤΗΣ ΙΩΑΝΝΗΣ του ΝΕΚΤΑΡΙΟΥ",5,2,2,0,4,32,3,null,0,4,0,1,5,3,2,1,1,0,0,1,0,0,null,1,1,0,5,3,1,1,2,9,4,0,0,0,0,93]
[203,null,null,32,"ΤΣΙΓΑΡΙΔΑΣ ΚΩΝΣΤΑΝΤΙΝΟΣ του ΛΑΜΠΡΟΥ",1,1,6,1,3,0,1,null,1,1,5,3,2,5,1,0,0,0,2,0,1,2,null,0,0,1,0,0,0,0,0,0,0,0,0,0,0,37]
[204,null,null,33,"ΤΣΟΛΑΚΑΚΗΣ ΓΕΩΡΓΙΟΣ του ΝΙΚΟΛΑΟΥ",0,4,3,2,4,0,2,null,1,0,1,1,0,3,7,9,1,4,2,1,2,0,null,0,0,0,1,0,0,0,0,0,0,0,0,0,0,48]
[205,null,null,34,"ΦΟΥΣΤΕΡΗ ΚΑΛΑΜΙΩΤΙΣΣΑ ‑ ΜΑΡΙΑ του ΣΤΥΛΙΑΝΟΥ",0,2,4,1,2,1,0,null,3,6,5,1,0,1,1,1,2,0,0,1,4,12,null,0,2,4,0,0,0,0,1,0,1,1,0,0,0,56]
[206,null,null,35,"ΦΟΥΣΤΕΡΗΣ ΔΗΜΗΤΡΙΟΣ του ΕΛΕΥΘΕΡΙΟΥ",0,1,1,0,0,0,1,null,0,1,1,4,6,9,1,0,4,0,5,1,0,0,null,0,1,0,0,0,1,0,0,0,1,0,0,0,0,38]
[207,null,null,36,"ΦΟΥΣΤΕΡΗΣ ΦΩΤΙΟΣ του ΕΥΑΓΓΕΛΟΥ",0,2,1,1,1,0,0,null,3,0,1,10,3,6,1,0,1,1,0,1,0,0,null,0,0,0,0,0,0,2,0,0,0,2,0,0,0,36]
[208,{"$nulls":3},"ΔΗΜΟΤΙΚΗ ΕΝΟΤΗΤΑ ΟΙΑΣ"]
[209,null,null,1,"ΑΛΑΦΡΑΓΚΗΣ ΕΥΑΓΓΕΛΟΣ (ΜΠΛΙΓΚΟΣ) του ΙΩΑΝΝΗ",1,8,2,2,2,4,2,null,5,3,5,3,3,5,2,0,3,2,2,2,1,4,null,0,0,1,4,4,3,2,0,2,9,9,5,0,0,{"$f":"SUM(F209:AP209)","v":100}]
[210,null,null,2,"ΑΡΧΟΝΤΟΥ‑ΚΡΕΒΒΑΤΑ ΟΛΓΑ του ΣΩΚΡΑΤΗ",1,0,0,2,0,2,0,null,1,1,1,0,1,0,0,0,2,4,0,1,0,1,null,0,0,1,0,0,0,0,0,0,4,7,3,1,0,{"$f":"SUM(F210:AP210)","v":33}]
[211,null,null,3,"ΚΑΡΡΑ ΕΙΡΗΝΗ του ΓΕΩΡΓΙΟΥ",4,9,10,3,5,3,7,null,5,2,8,4,10,7,2,1,3,4,1,5,7,6,null,1,0,6,1,0,2,1,4,0,6,1,4,0,1,133]
[212,null,null,4,"ΠΙΤΣΙΚΑΛΗ ΜΑΡΙΑ του ΕΥΑΓΓΕΛΟΥ",7,8,8,4,6,16,1,null,7,14,10,8,8,7,8,1,3,0,1,4,3,5,null,1,5,3,5,2,1,1,3,2,0,1,3,24,27,207]
[213,null,null,5,"ΧΑΛΑΡΗΣ ΑΝΤΩΝΙΟΣ του ΛΟΥΚΑ",6,15,28,19,23,35,3,null,9,10,17,15,8,8,9,4,10,13,15,6,11,13,null,5,3,6,0,4,5,4,9,12,48,51,48,1,2,475]

{"sheet":"Συγκεντρωτικά","index":1,"n_rows":23,"n_cols":39,"rows_kept":23,"merged":[[1,1,1,5],[1,7,1,8],[1,9,1,11],[1,12,1,14],[1,15,1,16],[1,17,1,19],[1,21,1,22],[1,23,1,24],[1,25,1,26],[1,27,1,32],[1,33,1,35],[1,36,1,37],[3,38,3,39],[4,1,4,5],[4,7,4,8],[4,9,4,11],[4,12,4,14],[4,15,4,16],[4,17,4,19],[4,21,4,22],[4,23,4,24],[4,25,4,26],[4,27,4,32],[4,33,4,35],[4,36,4,37],[4,38,4,39],[5,38,5,39],[6,1,6,5],[6,7,6,8],[6,9,6,11],[6,12,6,14],[6,15,6,16],[6,17,6,19],[6,21,6,22],[6,23,6,24],[6,25,6,26],[6,27,6,32],[6,33,6,35],[6,36,6,37],[6,38,6,39],[7,38,7,39],[8,1,8,5],[8,7,8,8],[8,9,8,11],[8,12,8,14],[8,15,8,16],[8,17,8,19],[8,21,8,22],[8,23,8,24],[8,25,8,26],[8,27,8,32],[8,33,8,35],[8,36,8,37],[8,38,8,39],[9,38,9,39],[10,1,10,5],[10,7,10,8],[10,9,10,11],[10,12,10,14],[10,15,10,16],[10,17,10,19],[10,21,10,22],[10,23,10,24],[10,25,10,26],[10,27,10,32],[10,33,10,35],[10,36,10,37],[10,38,10,39],[13,38,13,39],[14,1,14,5],[14,7,14,8],[14,9,14,11],[14,12,14,14],[14,15,14,16],[14,17,14,19],[14,21,14,22],[14,23,14,24],[14,25,14,26],[14,27,14,32],[14,33,14,35],[14,36,14,37],[14,38,14,39],[15,38,15,39],[16,1,16,5],[16,7,16,8],[16,9,16,11],[16,12,16,14],[16,15,16,16],[16,17,16,19],[16,21,16,22],[16,23,16,24],[16,25,16,26],[16,27,16,32],[16,33,16,35],[16,36,16,37],[16,38,16,39],[17,38,17,39],[18,1,18,5],[18,7,18,8],[18,9,18,11],[18,12,18,14],[18,15,18,16],[18,17,18,19],[18,21,18,22],[18,23,18,24],[18,25,18,26],[18,27,18,32],[18,33,18,35],[18,36,18,37],[18,38,18,39],[19,38,19,39],[20,1,20,5],[20,7,20,8],[20,9,20,11],[20,12,20,14],[20,15,20,16],[20,17,20,19],[20,21,20,22],[20,23,20,24],[20,25,20,26],[20,27,20,32],[20,33,20,35],[20,36,20,37],[20,38,20,39],[21,38,21,39],[22,1,22,5],[22,7,22,8],[22,9,22,11],[22,12,22,14],[22,15,22,16],[22,17,22,19],[22,21,22,22],[22,23,22,24],[22,25,22,26],[22,27,22,32],[22,33,22,35],[22,36,22,37],[22,38,22,39]]}
[]
[null,"ΦΗΡΑ",{"$nulls":4},"ΗΜΕΡΟΒΙΓΛΙ","ΒΟΥΡΒΟΥΛΟΣ",null,"ΚΑΡΤ/ΔΟΣ",null,null,"ΜΕΣΑΡΙΑ ",null,null,"ΒΟΘΩΝΑΣ",null,"ΕΠΙΣΚΟΠΗ-ΓΩΝΙΑΣ",null,null,"ΕΞΩ ΓΩΝΙΑ","ΠΥΡΓΟΣ",null,"ΜΕΓΑΛΟΧΩΡΙ",null,"ΑΚΡΩΤΗΡΙ",null,"ΕΜΠΟΡΕΙΟ ",{"$nulls":5},"ΟΙΑ ",null,null,"ΘΗΡΑΣΙΑ",null,"ΣΥΝΟΛΑ"]
[null,"(38Β)","(39Β)","(40Β)","(41Β)","(42Β)","(43Β)","(44)","(45Β)","(46Β)","(47Β)","(48Β)","(49Β)","(50Β)","(51Β)","(52Β)","(53Β)","(54Β)","(55Β)","(56Β)","(57Β)","(58Β)","(59Β)","(60)","(61Β)","(62Β)","(63Β)","(64Β)","(65Β)","(66Β)","(67Β)","(68Β)","(69Β)","(70Β)","(71Β)","(72Β)","(73)","(74Β)"]
["ΕΓΓΕΓΡΑΜΕΝΟΙ",{"$nulls":37},{"$f":"SUM(B4:AL4)","v":0}]
["ΣΥΝΟΛΑ",{"$f":"SUM(B4:F4)","v":0},{"$nulls":4},{"$f":"SUM(G4)","v":0},{"$f":"SUM(H4:I4)","v":0},null,{"$f":"SUM(J4:L4)","v":0},null,null,{"$f":"SUM(M4:O4)","v":0},null,null,{"$f":"SUM(P4:Q4)","v":0},null,{"$f":"SUM(R4:T4)","v":0},null,null,{"$f":"SUM(U4)","v":0},{"$f":"SUM(V4:W4)","v":0},null,{"$f":"SUM(X4:Y4)","v":0},null,{"$f":"SUM(Z4:AA4)","v":0},null,{"$f":"SUM(AB4:AG4)","v":0},{"$nulls":5},{"$f":"SUM(AH4:AJ4)","v":0},null,null,{"$f":"SUM(AK4:AL4)","v":0}]
["ΨΗΦΙΣΑΝΤΕΣ",{"$nulls":37},{"$f":"SUM(B6:AL6)","v":0}]
["ΣΥΝΟΛΑ",{"$f":"SUM(B6:F6)","v":0},{"$nulls":4},{"$f":"SUM(G6)","v":0},{"$f":"SUM(H6:I6)","v":0},null,{"$f":"SUM(J6:L6)","v":0},null,null,{"$f":"SUM(M6:O6)","v":0},null,null,{"$f":"SUM(P6:Q6)","v":0},null,{"$f":"SUM(R6:T6)","v":0},null,null,{"$f":"SUM(U6)","v":0},{"$f":"SUM(V6:W6)","v":0},null,{"$f":"SUM(X6:Y6)","v":0},null,{"$f":"SUM(Z6:AA6)","v":0},null,{"$f":"SUM(AB6:AG6)","v":0},{"$nulls":5},{"$f":"SUM(AH6:AJ6)","v":0},null,null,{"$f":"SUM(AK6:AL6)","v":0}]
["ΛΕΥΚΑ / ΑΚΥΡΑ",{"$nulls":37},{"$f":"SUM(B8:AL8)","v":0}]
["ΣΥΝΟΛΑ",{"$f":"SUM(B8:F8)","v":0},{"$nulls":4},{"$f":"SUM(G8)","v":0},{"$f":"SUM(H8:I8)","v":0},null,{"$f":"SUM(J8:L8)","v":0},null,null,{"$f":"SUM(M8:O8)","v":0},null,null,{"$f":"SUM(P8:Q8)","v":0},null,{"$f":"SUM(R8:T8)","v":0},null,null,{"$f":"SUM(U8)","v":0},{"$f":"SUM(V8:W8)","v":0},null,{"$f":"SUM(X8:Y8)","v":0},null,{"$f":"SUM(Z8:AA8)","v":0},null,{"$f":"SUM(AB8:AG8)","v":0},{"$nulls":5},{"$f":"SUM(AH8:AJ8)","v":0},null,null,{"$f":"SUM(AK8:AL8)","v":0}]
["ΕΓΚΥΡΑ ",{"$nulls":37},{"$f":"SUM(B10:AL10)","v":0}]
["ΣΥΝΟΛΑ",{"$f":"SUM(B10:F10)","v":0},{"$nulls":4},{"$f":"SUM(G10)","v":0},{"$f":"SUM(H10:I10)","v":0},null,{"$f":"SUM(J10:L10)","v":0},null,null,{"$f":"SUM(M10:O10)","v":0},null,null,{"$f":"SUM(P10:Q10)","v":0},null,{"$f":"SUM(R10:T10)","v":0},null,null,{"$f":"SUM(U10)","v":0},{"$f":"SUM(V10:W10)","v":0},null,{"$f":"SUM(X10:Y10)","v":0},null,{"$f":"SUM(Z10:AA10)","v":0},null,{"$f":"SUM(AB10:AG10)","v":0},{"$nulls":5},{"$f":"SUM(AH10:AJ10)","v":0},null,null,{"$f":"SUM(AK10:AL10)","v":0}]
[]
["Συνδυασμοί"]
[{"$f":"IF(SUM($AM$14,$AM$16,$AM$18,$AM$20,$AM$22)=0,\"Θηραϊκή Πολιτεία\",CONCATENATE(\"Θηραϊκή Πολιτεία\",\"\n\",TEXT(AM14/SUM($AM$14,$AM$16,$AM$18,$AM$20,$AM$22),\"0,00%\")))","v":"Θηραϊκή Πολιτεία\n29,03%"},{"$f":"Αναλυτικά!F7","v":64},{"$f":"Αναλυτικά!G7","v":99},{"$f":"Αναλυτικά!H7","v":57},{"$f":"Αναλυτικά!I7","v":74},{"$f":"Αναλυτικά!J7","v":65},{"$f":"Αναλυτικά!K7","v":81},{"$f":"Αναλυτικά!L7","v":60},{"$f":"Αναλυτικά!M7","v":0},{"$f":"Αναλυτικά!N7","v":58},{"$f":"Αναλυτικά!O7","v":44},{"$f":"Αναλυτικά!P7","v":66},{"$f":"Αναλυτικά!Q7","v":96},{"$f":"Αναλυτικά!R7","v":116},{"$f":"Αναλυτικά!S7","v":101},{"$f":"Αναλυτικά!T7","v":83},{"$f":"Αναλυτικά!U7","v":51},{"$f":"Αναλυτικά!V7","v":78},{"$f":"Αναλυτικά!W7","v":63},{"$f":"Αναλυτικά!X7","v":61},{"$f":"Αναλυτικά!Y7","v":62},{"$f":"Αναλυτικά!Z7","v":164},{"$f":"Αναλυτικά!AA7","v":193},{"$f":"Αναλυτικά!AB7","v":0},{"$f":"Αναλυτικά!AC7","v":78},{"$f":"Αναλυτικά!AD7","v":66},{"$f":"Αναλυτικά!AE7","v":64},{"$f":"Αναλυτικά!AF7","v":65},{"$f":"Αναλυτικά!AG7","v":65},{"$f":"Αναλυτικά!AH7","v":84},{"$f":"Αναλυτικά!AI7","v":92},{"$f":"Αναλυτικά!AJ7","v":64},{"$f":"Αναλυτικά!AK7","v":80},{"$f":"Αναλυτικά!AL7","v":72},{"$f":"Αναλυτικά!AM7","v":36},{"$f":"Αναλυτικά!AN7","v":49},{"$f":"Αναλυτικά!AO7","v":16},{"$f":"Αναλυτικά!AP7","v":54},{"$f":"SUM(B14:AL14)","v":2621}]
["ΣΥΝΟΛΑ",{"$f":"SUM(B14:F14)","v":359},{"$nulls":4},{"$f":"SUM(G14)","v":81},{"$f":"SUM(H14:I14)","v":60},null,{"$f":"SUM(J14:L14)","v":168},null,null,{"$f":"SUM(M14:O14)","v":313},null,null,{"$f":"SUM(P14:Q14)","v":134},null,{"$f":"SUM(R14:T14)","v":202},null,null,{"$f":"SUM(U14)","v":62},{"$f":"SUM(V14:W14)","v":357},null,{"$f":"SUM(X14:Y14)","v":78},null,{"$f":"SUM(Z14:AA14)","v":130},null,{"$f":"SUM(AB14:AG14)","v":450},{"$nulls":5},{"$f":"SUM(AH14:AJ14)","v":157},null,null,{"$f":"SUM(AK14:AL14)","v":70}]
[{"$f":"IF(SUM($AM$14,$AM$16,$AM$18,$AM$20,$AM$22)=0,\"Σαντορίνη Θηρασία Ενότητα Αλλαγή\",CONCATENATE(\"Σαντορίνη Θηρασία Ενότητα Αλλαγή\",\"\n\",TEXT(AM16/SUM($AM$14,$AM$16,$AM$18,$AM$20,$AM$22),\"0,00%\")))","v":"Σαντορίνη Θηρασία Ενότητα Αλλαγή\n22,92%"},{"$f":"Αναλυτικά!F50","v":64},{"$f":"Αναλυτικά!G50","v":60},{"$f":"Αναλυτικά!H50","v":61},{"$f":"Αναλυτικά!I50","v":58},{"$f":"Αναλυτικά!J50","v":43},{"$f":"Αναλυτικά!K50","v":43},{"$f":"Αναλυτικά!L50","v":67},{"$f":"Αναλυτικά!M50","v":0},{"$f":"Αναλυτικά!N50","v":22},{"$f":"Αναλυτικά!O50","v":28},{"$f":"Αναλυτικά!P50","v":33},{"$f":"Αναλυτικά!Q50","v":31},{"$f":"Αναλυτικά!R50","v":22},{"$f":"Αναλυτικά!S50","v":22},{"$f":"Αναλυτικά!T50","v":14},{"$f":"Αναλυτικά!U50","v":15},{"$f":"Αναλυτικά!V50","v":23},{"$f":"Αναλυτικά!W50","v":18},{"$f":"Αναλυτικά!X50","v":30},{"$f":"Αναλυτικά!Y50","v":47},{"$f":"Αναλυτικά!Z50","v":33},{"$f":"Αναλυτικά!AA50","v":20},{"$f":"Αναλυτικά!AB50","v":0},{"$f":"Αναλυτικά!AC50","v":66},{"$f":"Αναλυτικά!AD50","v":28},{"$f":"Αναλυτικά!AE50","v":30},{"$f":"Αναλυτικά!AF50","v":175},{"$f":"Αναλυτικά!AG50","v":188},{"$f":"Αναλυτικά!AH50","v":170},{"$f":"Αναλυτικά!AI50","v":180},{"$f":"Αναλυτικά!AJ50","v":156},{"$f":"Αναλυτικά!AK50","v":185},{"$f":"Αναλυτικά!AL50","v":22},{"$f":"Αναλυτικά!AM50","v":21},{"$f":"Αναλυτικά!AN50","v":29},{"$f":"Αναλυτικά!AO50","v":27},{"$f":"Αναλυτικά!AP50","v":38},{"$f":"SUM(B16:AL16)","v":2069}]
["ΣΥΝΟΛΑ",{"$f":"SUM(B16:F16)","v":286},{"$nulls":4},{"$f":"SUM(G16)","v":43},{"$f":"SUM(H16:I16)","v":67},null,{"$f":"SUM(J16:L16)","v":83},null,null,{"$f":"SUM(M16:O16)","v":75},null,null,{"$f":"SUM(P16:Q16)","v":29},null,{"$f":"SUM(R16:T16)","v":71},null,null,{"$f":"SUM(U16)","v":47},{"$f":"SUM(V16:W16)","v":53},null,{"$f":"SUM(X16:Y16)","v":66},null,{"$f":"SUM(Z16:AA16)","v":58},null,{"$f":"SUM(AB16:AG16)","v":1054},{"$nulls":5},{"$f":"SUM(AH16:AJ16)","v":72},null,null,{"$f":"SUM(AK16:AL16)","v":65}]
[{"$f":"IF(SUM($AM$14,$AM$16,$AM$18,$AM$20,$AM$22)=0,\"Λαϊκή Συσπείρωση\",CONCATENATE(\"Λαϊκή Συσπείρωση\",\"\n\",TEXT(AM18/SUM($AM$14,$AM$16,$AM$18,$AM$20,$AM$22),\"0,00%\")))","v":"Λαϊκή Συσπείρωση\n7,58%"},{"$f":"Αναλυτικά!F93","v":17},{"$f":"Αναλυτικά!G93","v":9},{"$f":"Αναλυτικά!H93","v":17},{"$f":"Αναλυτικά!I93","v":16},{"$f":"Αναλυτικά!J93","v":16},{"$f":"Αναλυτικά!K93","v":11},{"$f":"Αναλυτικά!L93","v":7},{"$f":"Αναλυτικά!M93","v":0},{"$f":"Αναλυτικά!N93","v":8},{"$f":"Αναλυτικά!O93","v":11},{"$f":"Αναλυτικά!P93","v":12},{"$f":"Αναλυτικά!Q93","v":20},{"$f":"Αναλυτικά!R93","v":12},{"$f":"Αναλυτικά!S93","v":18},{"$f":"Αναλυτικά!T93","v":12},{"$f":"Αναλυτικά!U93","v":16},{"$f":"Αναλυτικά!V93","v":80},{"$f":"Αναλυτικά!W93","v":75},{"$f":"Αναλυτικά!X93","v":87},{"$f":"Αναλυτικά!Y93","v":17},{"$f":"Αναλυτικά!Z93","v":16},{"$f":"Αναλυτικά!AA93","v":11},{"$f":"Αναλυτικά!AB93","v":0},{"$f":"Αναλυτικά!AC93","v":13},{"$f":"Αναλυτικά!AD93","v":10},{"$f":"Αναλυτικά!AE93","v":26},{"$f":"Αναλυτικά!AF93","v":7},{"$f":"Αναλυτικά!AG93","v":15},{"$f":"Αναλυτικά!AH93","v":16},{"$f":"Αναλυτικά!AI93","v":28},{"$f":"Αναλυτικά!AJ93","v":11},{"$f":"Αναλυτικά!AK93","v":14},{"$f":"Αναλυτικά!AL93","v":13},{"$f":"Αναλυτικά!AM93","v":16},{"$f":"Αναλυτικά!AN93","v":13},{"$f":"Αναλυτικά!AO93","v":7},{"$f":"Αναλυτικά!AP93","v":7},{"$f":"SUM(B18:AL18)","v":684}]
["ΣΥΝΟΛΑ",{"$f":"SUM(B18:F18)","v":75},{"$nulls":4},{"$f":"SUM(G18)","v":11},{"$f":"SUM(H18:I18)","v":7},null,{"$f":"SUM(J18:L18)","v":31},null,null,{"$f":"SUM(M18:O18)","v":50},null,null,{"$f":"SUM(P18:Q18)","v":28},null,{"$f":"SUM(R18:T18)","v":242},null,null,{"$f":"SUM(U18)","v":17},{"$f":"SUM(V18:W18)","v":27},null,{"$f":"SUM(X18:Y18)","v":13},null,{"$f":"SUM(Z18:AA18)","v":36},null,{"$f":"SUM(AB18:AG18)","v":91},{"$nulls":5},{"$f":"SUM(AH18:AJ18)","v":42},null,null,{"$f":"SUM(AK18:AL18)","v":14}]
[{"$f":"IF(SUM($AM$14,$AM$16,$AM$18,$AM$20,$AM$22)=0,\"ΜΑΖΙ ΑΛΛΑΖΟΥΜΕ ΣΑΝΤΟΡΙΝΗ – ΘΗΡΑΣΙΑ\",CONCATENATE(\"ΜΑΖΙ ΑΛΛΑΖΟΥΜΕ ΣΑΝΤΟΡΙΝΗ – ΘΗΡΑΣΙΑ\",\"\n\",TEXT(AM20/SUM($AM$14,$AM$16,$AM$18,$AM$20,$AM$22),\"0,00%\")))","v":"ΜΑΖΙ ΑΛΛΑΖΟΥΜΕ ΣΑΝΤΟΡΙΝΗ – ΘΗΡΑΣΙΑ\n22,56%"},{"$f":"Αναλυτικά!F128","v":80},{"$f":"Αναλυτικά!G128","v":62},{"$f":"Αναλυτικά!H128","v":62},{"$f":"Αναλυτικά!I128","v":54},{"$f":"Αναλυτικά!J128","v":67},{"$f":"Αναλυτικά!K128","v":84},{"$f":"Αναλυτικά!L128","v":20},{"$f":"Αναλυτικά!M128","v":0},{"$f":"Αναλυτικά!N128","v":91},{"$f":"Αναλυτικά!O128","v":92},{"$f":"Αναλυτικά!P128","v":123},{"$f":"Αναλυτικά!Q128","v":63},{"$f":"Αναλυτικά!R128","v":74},{"$f":"Αναλυτικά!S128","v":84},{"$f":"Αναλυτικά!T128","v":127},{"$f":"Αναλυτικά!U128","v":97},{"$f":"Αναλυτικά!V128","v":74},{"$f":"Αναλυτικά!W128","v":102},{"$f":"Αναλυτικά!X128","v":91},{"$f":"Αναλυτικά!Y128","v":63},{"$f":"Αναλυτικά!Z128","v":26},{"$f":"Αναλυτικά!AA128","v":29},{"$f":"Αναλυτικά!AB128","v":0},{"$f":"Αναλυτικά!AC128","v":58},{"$f":"Αναλυτικά!AD128","v":37},{"$f":"Αναλυτικά!AE128","v":62},{"$f":"Αναλυτικά!AF128","v":56},{"$f":"Αναλυτικά!AG128","v":28},{"$f":"Αναλυτικά!AH128","v":28},{"$f":"Αναλυτικά!AI128","v":45},{"$f":"Αναλυτικά!AJ128","v":30},{"$f":"Αναλυτικά!AK128","v":24},{"$f":"Αναλυτικά!AL128","v":30},{"$f":"Αναλυτικά!AM128","v":26},{"$f":"Αναλυτικά!AN128","v":30},{"$f":"Αναλυτικά!AO128","v":14},{"$f":"Αναλυτικά!AP128","v":4},{"$f":"SUM(B20:AL20)","v":2037}]
["ΣΥΝΟΛΑ",{"$f":"SUM(B20:F20)","v":325},{"$nulls":4},{"$f":"SUM(G20)","v":84},{"$f":"SUM(H20:I20)","v":20},null,{"$f":"SUM(J20:L20)","v":306},null,null,{"$f":"SUM(M20:O20)","v":221},null,null,{"$f":"SUM(P20:Q20)","v":224},null,{"$f":"SUM(R20:T20)","v":267},null,null,{"$f":"SUM(U20)","v":63},{"$f":"SUM(V20:W20)","v":55},null,{"$f":"SUM(X20:Y20)","v":58},null,{"$f":"SUM(Z20:AA20)","v":99},null,{"$f":"SUM(AB20:AG20)","v":211},{"$nulls":5},{"$f":"SUM(AH20:AJ20)","v":86},null,null,{"$f":"SUM(AK20:AL20)","v":18}]
[{"$f":"IF(SUM($AM$14,$AM$16,$AM$18,$AM$20,$AM$22)=0,\"ΤΩΡΑ! Για τη Σαντορίνη και τη Θηρασιά\",CONCATENATE(\"ΤΩΡΑ! Για τη Σαντορίνη και τη Θηρασιά\",\"\n\",TEXT(AM22/SUM($AM$14,$AM$16,$AM$18,$AM$20,$AM$22),\"0,00%\")))","v":"ΤΩΡΑ! Για τη Σαντορίνη και τη Θηρασιά\n17,92%"},{"$f":"Αναλυτικά!F171","v":59},{"$f":"Αναλυτικά!G171","v":74},{"$f":"Αναλυτικά!H171","v":72},{"$f":"Αναλυτικά!I171","v":72},{"$f":"Αναλυτικά!J171","v":51},{"$f":"Αναλυτικά!K171","v":85},{"$f":"Αναλυτικά!L171","v":31},{"$f":"Αναλυτικά!M171","v":0},{"$f":"Αναλυτικά!N171","v":53},{"$f":"Αναλυτικά!O171","v":58},{"$f":"Αναλυτικά!P171","v":64},{"$f":"Αναλυτικά!Q171","v":49},{"$f":"Αναλυτικά!R171","v":50},{"$f":"Αναλυτικά!S171","v":50},{"$f":"Αναλυτικά!T171","v":43},{"$f":"Αναλυτικά!U171","v":27},{"$f":"Αναλυτικά!V171","v":56},{"$f":"Αναλυτικά!W171","v":57},{"$f":"Αναλυτικά!X171","v":46},{"$f":"Αναλυτικά!Y171","v":27},{"$f":"Αναλυτικά!Z171","v":41},{"$f":"Αναλυτικά!AA171","v":64},{"$f":"Αναλυτικά!AB171","v":0},{"$f":"Αναλυτικά!AC171","v":13},{"$f":"Αναλυτικά!AD171","v":23},{"$f":"Αναλυτικά!AE171","v":36},{"$f":"Αναλυτικά!AF171","v":22},{"$f":"Αναλυτικά!AG171","v":21},{"$f":"Αναλυτικά!AH171","v":25},{"$f":"Αναλυτικά!AI171","v":18},{"$f":"Αναλυτικά!AJ171","v":27},{"$f":"Αναλυτικά!AK171","v":32},{"$f":"Αναλυτικά!AL171","v":69},{"$f":"Αναλυτικά!AM171","v":79},{"$f":"Αναλυτικά!AN171","v":67},{"$f":"Αναλυτικά!AO171","v":26},{"$f":"Αναλυτικά!AP171","v":31},{"$f":"SUM(B22:AL22)","v":1618}]
["ΣΥΝΟΛΑ",{"$f":"SUM(B22:F22)","v":328},{"$nulls":4},{"$f":"SUM(G22)","v":85},{"$f":"SUM(H22:I22)","v":31},null,{"$f":"SUM(J22:L22)","v":175},null,null,{"$f":"SUM(M22:O22)","v":149},null,null,{"$f":"SUM(P22:Q22)","v":70},null,{"$f":"SUM(R22:T22)","v":159},null,null,{"$f":"SUM(U22)","v":27},{"$f":"SUM(V22:W22)","v":105},null,{"$f":"SUM(X22:Y22)","v":13},null,{"$f":"SUM(Z22:AA22)","v":59},null,{"$f":"SUM(AB22:AG22)","v":145},{"$nulls":5},{"$f":"SUM(AH22:AJ22)","v":215},null,null,{"$f":"SUM(AK22:AL22)","v":57}]

{"sheet":"Δημοτικοί ανά χωριό","index":2,"n_rows":211,"n_cols":20,"rows_kept":211,"merged":[[1,1,1,19],[2,1,3,2],[2,3,3,3],[2,4,3,4],[2,5,3,5],[2,6,3,6],[2,7,3,7],[2,8,3,8],[2,9,3,9],[2,10,3,10],[2,11,3,11],[2,12,3,12],[2,13,3,13],[2,14,3,14],[2,15,3,15],[2,16,3,16],[2,17,3,17],[2,18,3,18],[2,19,3,19],[4,1,46,2],[47,1,89,2],[90,1,124,2],[125,1,167,2],[168,1,210,2]]}
[]
[null,"ΔΗΜΟΤΙΚΕΣ  ΕΚΛΟΓΕΣ 26 ΜΑΙΟΥ 2019"]
[null,"ΣΥΝΔ/ΣΜΟΣ",null,"Α/Α ","ΥΠΟΨΗΦΙΟΣ","ΦΗΡΑ","ΗΜΕΡΟΒΙΓΛΙ","ΒΟΥΡΒΟΥΛΟΣ","ΚΑΡΤ/ΔΟΣ","ΜΕΣΑΡΙΑ ","ΒΟΘΩΝΑΣ","ΕΠΙΣΚΟΠΗ ΓΩΝΙΑΣ","ΕΞΩ ΓΩΝΙΑ","ΠΥΡΓΟΣ","ΜΕΓΑΛΟΧΩΡΙ","ΑΚΡΩΤΗΡΙ","ΕΜΠΟΡΕΙΟ ","ΟΙΑ ","ΘΗΡΑΣΙΑ","ΣΥΝΟΛΟ"]
[]
[7,"Θηραϊκή Πολιτεία",null,null,"ΔΗΜΟΤΙΚΗ ΕΝΟΤΗΤΑ ΘΗΡΑΣ"]
[8,null,null,1,{"$f":"Αναλυτικά!E8","v":"ΑΡΒΑΝΙΤΗΣ ΜΙΧΑΗΛ του ΝΕΚΤΑΡΙΟΥ"},{"$f":"SUM(Αναλυτικά!F8:J8)","v":7},{"$f":"SUM(Αναλυτικά!K8)","v":0},{"$f":"SUM(Αναλυτικά!L8:M8)","v":2},{"$f":"SUM(Αναλυτικά!N8:P8)","v":4},{"$f":"SUM(Αναλυτικά!Q8:S8)","v":6},{"$f":"SUM(Αναλυτικά!T8:U8)","v":3},{"$f":"SUM(Αναλυτικά!V8:X8)","v":9},{"$f":"SUM(Αναλυτικά!Y8)","v":1},{"$f":"SUM(Αναλυτικά!Z8:AA8)","v":58},{"$f":"SUM(Αναλυτικά!AB8:AC8)","v":12},{"$f":"SUM(Αναλυτικά!AD8:AE8)","v":3},{"$f":"SUM(Αναλυτικά!AF8:AK8)","v":17},{"$f":"SUM(Αναλυτικά!AL8:AN8)","v":2},{"$f":"SUM(Αναλυτικά!AO8:AP8)","v":0},{"$f":"SUM(F6:S6)","v":124}]
[9,null,null,2,{"$f":"Αναλυτικά!E9","v":"ΑΡΓΥΡΟΥ ΕΥΑΓΓΕΛΙΑ του ΜΗΝΑ"},{"$f":"SUM(Αναλυτικά!F9:J9)","v":11},{"$f":"SUM(Αναλυτικά!K9)","v":0},{"$f":"SUM(Αναλυτικά!L9:M9)","v":1},{"$f":"SUM(Αναλυτικά!N9:P9)","v":5},{"$f":"SUM(Αναλυτικά!Q9:S9)","v":8},{"$f":"SUM(Αναλυτικά!T9:U9)","v":4},{"$f":"SUM(Αναλυτικά!V9:X9)","v":49},{"$f":"SUM(Αναλυτικά!Y9)","v":1},{"$f":"SUM(Αναλυτικά!Z9:AA9)","v":17},{"$f":"SUM(Αναλυτικά!AB9:AC9)","v":3},{"$f":"SUM(Αναλυτικά!AD9:AE9)","v":3},{"$f":"SUM(Αναλυτικά!AF9:AK9)","v":11},{"$f":"SUM(Αναλυτικά!AL9:AN9)","v":3},{"$f":"SUM(Αναλυτικά!AO9:AP9)","v":2},{"$f":"SUM(F7:S7)","v":118}]
[10,null,null,3,{"$f":"Αναλυτικά!E10","v":"ΒΑΛΣΑΜΑΚΗ ΕΙΡΗΝΗ του ΔΗΜΗΤΡΙΟΥ"},{"$f":"SUM(Αναλυτικά!F10:J10)","v":44},{"$f":"SUM(Αναλυτικά!K10)","v":49},{"$f":"SUM(Αναλυτικά!L10:M10)","v":5},{"$f":"SUM(Αναλυτικά!N10:P10)","v":38},{"$f":"SUM(Αναλυτικά!Q10:S10)","v":24},{"$f":"SUM(Αναλυτικά!T10:U10)","v":12},{"$f":"SUM(Αναλυτικά!V10:X10)","v":15},{"$f":"SUM(Αναλυτικά!Y10)","v":4},{"$f":"SUM(Αναλυτικά!Z10:AA10)","v":13},{"$f":"SUM(Αναλυτικά!AB10:AC10)","v":4},{"$f":"SUM(Αναλυτικά!AD10:AE10)","v":7},{"$f":"SUM(Αναλυτικά!AF10:AK10)","v":38},{"$f":"SUM(Αναλυτικά!AL10:AN10)","v":8},{"$f":"SUM(Αναλυτικά!AO10:AP10)","v":0},261]
[11,null,null,4,{"$f":"Αναλυτικά!E11","v":"ΒΛΑΧΟΥ ΚΑΛΛΙΟΠΗ του ΝΕΚΤΑΡΙΟΥ"},{"$f":"SUM(Αναλυτικά!F11:J11)","v":8},{"$f":"SUM(Αναλυτικά!K11)","v":4},{"$f":"SUM(Αναλυτικά!L11:M11)","v":1},{"$f":"SUM(Αναλυτικά!N11:P11)","v":9},{"$f":"SUM(Αναλυτικά!Q11:S11)","v":17},{"$f":"SUM(Αναλυτικά!T11:U11)","v":49},{"$f":"SUM(Αναλυτικά!V11:X11)","v":3},{"$f":"SUM(Αναλυτικά!Y11)","v":0},{"$f":"SUM(Αναλυτικά!Z11:AA11)","v":8},{"$f":"SUM(Αναλυτικά!AB11:AC11)","v":2},{"$f":"SUM(Αναλυτικά!AD11:AE11)","v":7},{"$f":"SUM(Αναλυτικά!AF11:AK11)","v":13},{"$f":"SUM(Αναλυτικά!AL11:AN11)","v":0},{"$f":"SUM(Αναλυτικά!AO11:AP11)","v":4},125]
[12,null,null,5,{"$f":"Αναλυτικά!E12","v":"ΓΑΛΑΙΟΣ ΕΛΕΥΘΕΡΙΟΣ του ΠΑΡΑΣΚΕΥΑ"},{"$f":"SUM(Αναλυτικά!F12:J12)","v":6},{"$f":"SUM(Αναλυτικά!K12)","v":0},{"$f":"SUM(Αναλυτικά!L12:M12)","v":2},{"$f":"SUM(Αναλυτικά!N12:P12)","v":0},{"$f":"SUM(Αναλυτικά!Q12:S12)","v":7},{"$f":"SUM(Αναλυτικά!T12:U12)","v":2},{"$f":"SUM(Αναλυτικά!V12:X12)","v":4},{"$f":"SUM(Αναλυτικά!Y12)","v":1},{"$f":"SUM(Αναλυτικά!Z12:AA12)","v":61},{"$f":"SUM(Αναλυτικά!AB12:AC12)","v":2},{"$f":"SUM(Αναλυτικά!AD12:AE12)","v":15},{"$f":"SUM(Αναλυτικά!AF12:AK12)","v":25},{"$f":"SUM(Αναλυτικά!AL12:AN12)","v":4},{"$f":"SUM(Αναλυτικά!AO12:AP12)","v":0},129]
[13,null,null,6,{"$f":"Αναλυτικά!E13","v":"ΓΕΡΟΥ ΙΩΑΝΝΗΣ του ΗΡΑΚΛΗ"},{"$f":"SUM(Αναλυτικά!F13:J13)","v":14},{"$f":"SUM(Αναλυτικά!K13)","v":1},{"$f":"SUM(Αναλυτικά!L13:M13)","v":2},{"$f":"SUM(Αναλυτικά!N13:P13)","v":42},{"$f":"SUM(Αναλυτικά!Q13:S13)","v":3},{"$f":"SUM(Αναλυτικά!T13:U13)","v":2},{"$f":"SUM(Αναλυτικά!V13:X13)","v":8},{"$f":"SUM(Αναλυτικά!Y13)","v":0},{"$f":"SUM(Αναλυτικά!Z13:AA13)","v":6},{"$f":"SUM(Αναλυτικά!AB13:AC13)","v":1},{"$f":"SUM(Αναλυτικά!AD13:AE13)","v":1},{"$f":"SUM(Αναλυτικά!AF13:AK13)","v":4},{"$f":"SUM(Αναλυτικά!AL13:AN13)","v":6},{"$f":"SUM(Αναλυτικά!AO13:AP13)","v":0},90]
[14,null,null,7,{"$f":"Αναλυτικά!E14","v":"ΔΑΝΕΖΗΣ ΙΩΑΝΝΗΣ του ΕΥΑΓΓΕΛΟΥ"},{"$f":"SUM(Αναλυτικά!F14:J14)","v":8},{"$f":"SUM(Αναλυτικά!K14)","v":1},{"$f":"SUM(Αναλυτικά!L14:M14)","v":5},{"$f":"SUM(Αναλυτικά!N14:P14)","v":7},{"$f":"SUM(Αναλυτικά!Q14:S14)","v":11},{"$f":"SUM(Αναλυτικά!T14:U14)","v":40},{"$f":"SUM(Αναλυτικά!V14:X14)","v":0},{"$f":"SUM(Αναλυτικά!Y14)","v":3},{"$f":"SUM(Αναλυτικά!Z14:AA14)","v":10},{"$f":"SUM(Αναλυτικά!AB14:AC14)","v":3},{"$f":"SUM(Αναλυτικά!AD14:AE14)","v":2},{"$f":"SUM(Αναλυτικά!AF14:AK14)","v":16},{"$f":"SUM(Αναλυτικά!AL14:AN14)","v":0},{"$f":"SUM(Αναλυτικά!AO14:AP14)","v":0},106]
[15,null,null,8,{"$f":"Αναλυτικά!E15","v":"ΔΑΡΖΕΝΤΑΣ ΑΝΑΡΓΥΡΟΣ του ΧΑΡΑΛΑΜΠΟΥ"},{"$f":"SUM(Αναλυτικά!F15:J15)","v":10},{"$f":"SUM(Αναλυτικά!K15)","v":6},{"$f":"SUM(Αναλυτικά!L15:M15)","v":3},{"$f":"SUM(Αναλυτικά!N15:P15)","v":6},{"$f":"SUM(Αναλυτικά!Q15:S15)","v":14},{"$f":"SUM(Αναλυτικά!T15:U15)","v":10},{"$f":"SUM(Αναλυτικά!V15:X15)","v":6},{"$f":"SUM(Αναλυτικά!Y15)","v":4},{"$f":"SUM(Αναλυτικά!Z15:AA15)","v":12},{"$f":"SUM(Αναλυτικά!AB15:AC15)","v":18},{"$f":"SUM(Αναλυτικά!AD15:AE15)","v":12},{"$f":"SUM(Αναλυτικά!AF15:AK15)","v":166},{"$f":"SUM(Αναλυτικά!AL15:AN15)","v":7},{"$f":"SUM(Αναλυτικά!AO15:AP15)","v":11},285]
[16,null,null,9,{"$f":"Αναλυτικά!E16","v":"ΔΙΑΜΑΝΤΟΠΟΥΛΟΥ ΜΟΣΧΑ του ΓΕΩΡΓΙΟΥ"},{"$f":"SUM(Αναλυτικά!F16:J16)","v":21},{"$f":"SUM(Αναλυτικά!K16)","v":3},{"$f":"SUM(Αναλυτικά!L16:M16)","v":1},{"$f":"SUM(Αναλυτικά!N16:P16)","v":4},{"$f":"SUM(Αναλυτικά!Q16:S16)","v":8},{"$f":"SUM(Αναλυτικά!T16:U16)","v":1},{"$f":"SUM(Αναλυτικά!V16:X16)","v":9},{"$f":"SUM(Αναλυτικά!Y16)","v":21},{"$f":"SUM(Αναλυτικά!Z16:AA16)","v":12},{"$f":"SUM(Αναλυτικά!AB16:AC16)","v":1},{"$f":"SUM(Αναλυτικά!AD16:AE16)","v":2},{"$f":"SUM(Αναλυτικά!AF16:AK16)","v":10},{"$f":"SUM(Αναλυτικά!AL16:AN16)","v":3},{"$f":"SUM(Αναλυτικά!AO16:AP16)","v":0},96]
[17,null,null,10,{"$f":"Αναλυτικά!E17","v":"ΔΡΟΣΟΣ ΕΛΕΥΘΕΡΙΟΣ του ΣΠΥΡΟΥ"},{"$f":"SUM(Αναλυτικά!F17:J17)","v":6},{"$f":"SUM(Αναλυτικά!K17)","v":1},{"$f":"SUM(Αναλυτικά!L17:M17)","v":9},{"$f":"SUM(Αναλυτικά!N17:P17)","v":5},{"$f":"SUM(Αναλυτικά!Q17:S17)","v":8},{"$f":"SUM(Αναλυτικά!T17:U17)","v":3},{"$f":"SUM(Αναλυτικά!V17:X17)","v":3},{"$f":"SUM(Αναλυτικά!Y17)","v":6},{"$f":"SUM(Αναλυτικά!Z17:AA17)","v":27},{"$f":"SUM(Αναλυτικά!AB17:AC17)","v":3},{"$f":"SUM(Αναλυτικά!AD17:AE17)","v":7},{"$f":"SUM(Αναλυτικά!AF17:AK17)","v":106},{"$f":"SUM(Αναλυτικά!AL17:AN17)","v":1},{"$f":"SUM(Αναλυτικά!AO17:AP17)","v":13},198]
[18,null,null,11,{"$f":"Αναλυτικά!E18","v":"ΖΩΡΖΟΣ ΕΥΑΓΓΕΛΟΣ του ΧΡΙΣΤΟΦΟΡΟΥ"},{"$f":"SUM(Αναλυτικά!F18:J18)","v":41},{"$f":"SUM(Αναλυτικά!K18)","v":8},{"$f":"SUM(Αναλυτικά!L18:M18)","v":10},{"$f":"SUM(Αναλυτικά!N18:P18)","v":16},{"$f":"SUM(Αναλυτικά!Q18:S18)","v":23},{"$f":"SUM(Αναλυτικά!T18:U18)","v":7},{"$f":"SUM(Αναλυτικά!V18:X18)","v":35},{"$f":"SUM(Αναλυτικά!Y18)","v":9},{"$f":"SUM(Αναλυτικά!Z18:AA18)","v":278},{"$f":"SUM(Αναλυτικά!AB18:AC18)","v":28},{"$f":"SUM(Αναλυτικά!AD18:AE18)","v":19},{"$f":"SUM(Αναλυτικά!AF18:AK18)","v":69},{"$f":"SUM(Αναλυτικά!AL18:AN18)","v":12},{"$f":"SUM(Αναλυτικά!AO18:AP18)","v":3},558]
[19,null,null,12,{"$f":"Αναλυτικά!E19","v":"ΚΑΒΑΛΛΑΡΗΣ ΣΤΑΥΡΟΣ του ΠΕΤΡΟΥ"},{"$f":"SUM(Αναλυτικά!F19:J19)","v":63},{"$f":"SUM(Αναλυτικά!K19)","v":1},{"$f":"SUM(Αναλυτικά!L19:M19)","v":8},{"$f":"SUM(Αναλυτικά!N19:P19)","v":5},{"$f":"SUM(Αναλυτικά!Q19:S19)","v":5},{"$f":"SUM(Αναλυτικά!T19:U19)","v":10},{"$f":"SUM(Αναλυτικά!V19:X19)","v":7},{"$f":"SUM(Αναλυτικά!Y19)","v":0},{"$f":"SUM(Αναλυτικά!Z19:AA19)","v":8},{"$f":"SUM(Αναλυτικά!AB19:AC19)","v":0},{"$f":"SUM(Αναλυτικά!AD19:AE19)","v":1},{"$f":"SUM(Αναλυτικά!AF19:AK19)","v":6},{"$f":"SUM(Αναλυτικά!AL19:AN19)","v":3},{"$f":"SUM(Αναλυτικά!AO19:AP19)","v":6},123]
[20,null,null,13,{"$f":"Αναλυτικά!E20","v":"ΚΑΜΠΟΥΡΑΚΗΣ ΝΙΚΟΛΑΟΣ του ΧΑΡΑΛΑΜΠΟΥ"},{"$f":"SUM(Αναλυτικά!F20:J20)","v":61},{"$f":"SUM(Αναλυτικά!K20)","v":10},{"$f":"SUM(Αναλυτικά!L20:M20)","v":8},{"$f":"SUM(Αναλυτικά!N20:P20)","v":37},{"$f":"SUM(Αναλυτικά!Q20:S20)","v":182},{"$f":"SUM(Αναλυτικά!T20:U20)","v":23},{"$f":"SUM(Αναλυτικά!V20:X20)","v":17},{"$f":"SUM(Αναλυτικά!Y20)","v":5},{"$f":"SUM(Αναλυτικά!Z20:AA20)","v":21},{"$f":"SUM(Αναλυτικά!AB20:AC20)","v":8},{"$f":"SUM(Αναλυτικά!AD20:AE20)","v":10},{"$f":"SUM(Αναλυτικά!AF20:AK20)","v":47},{"$f":"SUM(Αναλυτικά!AL20:AN20)","v":7},{"$f":"SUM(Αναλυτικά!AO20:AP20)","v":4},440]
[21,null,null,14,{"$f":"Αναλυτικά!E21","v":"ΚΑΝΕΛΛΑΚΗΣ ΚΩΝΣΤΑΝΤΙΝΟΣ του ΧΡΗΣΤΟΥ"},{"$f":"SUM(Αναλυτικά!F21:J21)","v":27},{"$f":"SUM(Αναλυτικά!K21)","v":14},{"$f":"SUM(Αναλυτικά!L21:M21)","v":11},{"$f":"SUM(Αναλυτικά!N21:P21)","v":3},{"$f":"SUM(Αναλυτικά!Q21:S21)","v":17},{"$f":"SUM(Αναλυτικά!T21:U21)","v":14},{"$f":"SUM(Αναλυτικά!V21:X21)","v":13},{"$f":"SUM(Αναλυτικά!Y21)","v":3},{"$f":"SUM(Αναλυτικά!Z21:AA21)","v":45},{"$f":"SUM(Αναλυτικά!AB21:AC21)","v":45},{"$f":"SUM(Αναλυτικά!AD21:AE21)","v":14},{"$f":"SUM(Αναλυτικά!AF21:AK21)","v":48},{"$f":"SUM(Αναλυτικά!AL21:AN21)","v":4},{"$f":"SUM(Αναλυτικά!AO21:AP21)","v":0},258]
[22,null,null,15,{"$f":"Αναλυτικά!E22","v":"ΚΑΡΑΜΟΛΕΓΚΟΥ ΦΛΩΡΑ ΛΗΔΑ του ΕΜΜΑΝΟΥΗΛ"},{"$f":"SUM(Αναλυτικά!F22:J22)","v":9},{"$f":"SUM(Αναλυτικά!K22)","v":0},{"$f":"SUM(Αναλυτικά!L22:M22)","v":4},{"$f":"SUM(Αναλυτικά!N22:P22)","v":1},{"$f":"SUM(Αναλυτικά!Q22:S22)","v":7},{"$f":"SUM(Αναλυτικά!T22:U22)","v":1},{"$f":"SUM(Αναλυτικά!V22:X22)","v":1},{"$f":"SUM(Αναλυτικά!Y22)","v":0},{"$f":"SUM(Αναλυτικά!Z22:AA22)","v":1},{"$f":"SUM(Αναλυτικά!AB22:AC22)","v":1},{"$f":"SUM(Αναλυτικά!AD22:AE22)","v":0},{"$f":"SUM(Αναλυτικά!AF22:AK22)","v":29},{"$f":"SUM(Αναλυτικά!AL22:AN22)","v":1},{"$f":"SUM(Αναλυτικά!AO22:AP22)","v":0},55]
[23,null,null,16,{"$f":"Αναλυτικά!E23","v":"ΚΑΤΣΙΠΗ ΑΝΔΡΟΜΑΧΗ του ΚΩΝΣΤΑΝΤΙΝΟΥ"},{"$f":"SUM(Αναλυτικά!F23:J23)","v":6},{"$f":"SUM(Αναλυτικά!K23)","v":0},{"$f":"SUM(Αναλυτικά!L23:M23)","v":0},{"$f":"SUM(Αναλυτικά!N23:P23)","v":1},{"$f":"SUM(Αναλυτικά!Q23:S23)","v":2},{"$f":"SUM(Αναλυτικά!T23:U23)","v":0},{"$f":"SUM(Αναλυτικά!V23:X23)","v":5},{"$f":"SUM(Αναλυτικά!Y23)","v":0},{"$f":"SUM(Αναλυτικά!Z23:AA23)","v":4},{"$f":"SUM(Αναλυτικά!AB23:AC23)","v":0},{"$f":"SUM(Αναλυτικά!AD23:AE23)","v":1},{"$f":"SUM(Αναλυτικά!AF23:AK23)","v":22},{"$f":"SUM(Αναλυτικά!AL23:AN23)","v":1},{"$f":"SUM(Αναλυτικά!AO23:AP23)","v":0},42]
[24,null,null,17,{"$f":"Αναλυτικά!E24","v":"ΚΑΦΙΕΡΗΣ ΜΗΝΑΣ του ΔΗΜΗΤΡΙΟΥ"},{"$f":"SUM(Αναλυτικά!F24:J24)","v":118},{"$f":"SUM(Αναλυτικά!K24)","v":18},{"$f":"SUM(Αναλυτικά!L24:M24)","v":8},{"$f":"SUM(Αναλυτικά!N24:P24)","v":27},{"$f":"SUM(Αναλυτικά!Q24:S24)","v":36},{"$f":"SUM(Αναλυτικά!T24:U24)","v":33},{"$f":"SUM(Αναλυτικά!V24:X24)","v":49},{"$f":"SUM(Αναλυτικά!Y24)","v":5},{"$f":"SUM(Αναλυτικά!Z24:AA24)","v":35},{"$f":"SUM(Αναλυτικά!AB24:AC24)","v":3},{"$f":"SUM(Αναλυτικά!AD24:AE24)","v":36},{"$f":"SUM(Αναλυτικά!AF24:AK24)","v":50},{"$f":"SUM(Αναλυτικά!AL24:AN24)","v":23},{"$f":"SUM(Αναλυτικά!AO24:AP24)","v":1},442]
[25,null,null,18,{"$f":"Αναλυτικά!E25","v":"ΛΙΓΝΟΥ ΑΝΝΑ του ΧΡΙΣΤΟΦΟΡΟΥ"},{"$f":"SUM(Αναλυτικά!F25:J25)","v":1},{"$f":"SUM(Αναλυτικά!K25)","v":2},{"$f":"SUM(Αναλυτικά!L25:M25)","v":2},{"$f":"SUM(Αναλυτικά!N25:P25)","v":1},{"$f":"SUM(Αναλυτικά!Q25:S25)","v":2},{"$f":"SUM(Αναλυτικά!T25:U25)","v":1},{"$f":"SUM(Αναλυτικά!V25:X25)","v":54},{"$f":"SUM(Αναλυτικά!Y25)","v":2},{"$f":"SUM(Αναλυτικά!Z25:AA25)","v":6},{"$f":"SUM(Αναλυτικά!AB25:AC25)","v":3},{"$f":"SUM(Αναλυτικά!AD25:AE25)","v":3},{"$f":"SUM(Αναλυτικά!AF25:AK25)","v":8},{"$f":"SUM(Αναλυτικά!AL25:AN25)","v":0},{"$f":"SUM(Αναλυτικά!AO25:AP25)","v":0},85]
[26,null,null,19,{"$f":"Αναλυτικά!E26","v":"ΜΕΛΙΧΟΥΡΤΗΣ ΣΤΕΡΓΙΟΣ του ΑΝΑΣΤΑΣΙΟΥ"},{"$f":"SUM(Αναλυτικά!F26:J26)","v":53},{"$f":"SUM(Αναλυτικά!K26)","v":3},{"$f":"SUM(Αναλυτικά!L26:M26)","v":1},{"$f":"SUM(Αναλυτικά!N26:P26)","v":2},{"$f":"SUM(Αναλυτικά!Q26:S26)","v":6},{"$f":"SUM(Αναλυτικά!T26:U26)","v":5},{"$f":"SUM(Αναλυτικά!V26:X26)","v":4},{"$f":"SUM(Αναλυτικά!Y26)","v":1},{"$f":"SUM(Αναλυτικά!Z26:AA26)","v":17},{"$f":"SUM(Αναλυτικά!AB26:AC26)","v":0},{"$f":"SUM(Αναλυτικά!AD26:AE26)","v":1},{"$f":"SUM(Αναλυτικά!AF26:AK26)","v":4},{"$f":"SUM(Αναλυτικά!AL26:AN26)","v":0},{"$f":"SUM(Αναλυτικά!AO26:AP26)","v":0},97]
[27,null,null,20,{"$f":"Αναλυτικά!E27","v":"ΝOMIKOY ΓΕΩΡΓΙΑ (ΤΖΩΡΤΖΑΚΗ) του ΙΩΑΝΝΗ"},{"$f":"SUM(Αναλυτικά!F27:J27)","v":11},{"$f":"SUM(Αναλυτικά!K27)","v":2},{"$f":"SUM(Αναλυτικά!L27:M27)","v":0},{"$f":"SUM(Αναλυτικά!N27:P27)","v":2},{"$f":"SUM(Αναλυτικά!Q27:S27)","v":8},{"$f":"SUM(Αναλυτικά!T27:U27)","v":0},{"$f":"SUM(Αναλυτικά!V27:X27)","v":4},{"$f":"SUM(Αναλυτικά!Y27)","v":0},{"$f":"SUM(Αναλυτικά!Z27:AA27)","v":7},{"$f":"SUM(Αναλυτικά!AB27:AC27)","v":4},{"$f":"SUM(Αναλυτικά!AD27:AE27)","v":1},{"$f":"SUM(Αναλυτικά!AF27:AK27)","v":101},{"$f":"SUM(Αναλυτικά!AL27:AN27)","v":0},{"$f":"SUM(Αναλυτικά!AO27:AP27)","v":0},140]
[28,null,null,21,{"$f":"Αναλυτικά!E28","v":"ΝΟΜΙΚΟΣ ΓΕΩΡΓΙΟΣ (ΜΠΟΥΑΣ) του ΑΝΤΩΝΙΟΥ"},{"$f":"SUM(Αναλυτικά!F28:J28)","v":21},{"$f":"SUM(Αναλυτικά!K28)","v":4},{"$f":"SUM(Αναλυτικά!L28:M28)","v":8},{"$f":"SUM(Αναλυτικά!N28:P28)","v":20},{"$f":"SUM(Αναλυτικά!Q28:S28)","v":101},{"$f":"SUM(Αναλυτικά!T28:U28)","v":33},{"$f":"SUM(Αναλυτικά!V28:X28)","v":17},{"$f":"SUM(Αναλυτικά!Y28)","v":6},{"$f":"SUM(Αναλυτικά!Z28:AA28)","v":38},{"$f":"SUM(Αναλυτικά!AB28:AC28)","v":21},{"$f":"SUM(Αναλυτικά!AD28:AE28)","v":4},{"$f":"SUM(Αναλυτικά!AF28:AK28)","v":26},{"$f":"SUM(Αναλυτικά!AL28:AN28)","v":7},{"$f":"SUM(Αναλυτικά!AO28:AP28)","v":2},308]
[29,null,null,22,{"$f":"Αναλυτικά!E29","v":"ΝΟΜΙΚΟΣ ΙΩΑΝΝΗΣ (ΣΑΞΕΟΣ) του ΖΩΡΖΗ"},{"$f":"SUM(Αναλυτικά!F29:J29)","v":28},{"$f":"SUM(Αναλυτικά!K29)","v":5},{"$f":"SUM(Αναλυτικά!L29:M29)","v":3},{"$f":"SUM(Αναλυτικά!N29:P29)","v":18},{"$f":"SUM(Αναλυτικά!Q29:S29)","v":34},{"$f":"SUM(Αναλυτικά!T29:U29)","v":19},{"$f":"SUM(Αναλυτικά!V29:X29)","v":25},{"$f":"SUM(Αναλυτικά!Y29)","v":40},{"$f":"SUM(Αναλυτικά!Z29:AA29)","v":36},{"$f":"SUM(Αναλυτικά!AB29:AC29)","v":5},{"$f":"SUM(Αναλυτικά!AD29:AE29)","v":2},{"$f":"SUM(Αναλυτικά!AF29:AK29)","v":39},{"$f":"SUM(Αναλυτικά!AL29:AN29)","v":10},{"$f":"SUM(Αναλυτικά!AO29:AP29)","v":1},265]
[30,null,null,23,{"$f":"Αναλυτικά!E30","v":"ΞΑΓΟΡΑΡΗΣ ΔΗΜΗΤΡΙΟΣ του ΜΑΡΚΟΥ"},{"$f":"SUM(Αναλυτικά!F30:J30)","v":33},{"$f":"SUM(Αναλυτικά!K30)","v":1},{"$f":"SUM(Αναλυτικά!L30:M30)","v":0},{"$f":"SUM(Αναλυτικά!N30:P30)","v":12},{"$f":"SUM(Αναλυτικά!Q30:S30)","v":10},{"$f":"SUM(Αναλυτικά!T30:U30)","v":12},{"$f":"SUM(Αναλυτικά!V30:X30)","v":9},{"$f":"SUM(Αναλυτικά!Y30)","v":1},{"$f":"SUM(Αναλυτικά!Z30:AA30)","v":46},{"$f":"SUM(Αναλυτικά!AB30:AC30)","v":0},{"$f":"SUM(Αναλυτικά!AD30:AE30)","v":9},{"$f":"SUM(Αναλυτικά!AF30:AK30)","v":9},{"$f":"SUM(Αναλυτικά!AL30:AN30)","v":1},{"$f":"SUM(Αναλυτικά!AO30:AP30)","v":1},144]
[31,null,null,24,{"$f":"Αναλυτικά!E31","v":"ΟΛΙΒΕΡΑ ΒΙΟΛΕΤΑ του ΚΑΡΛΟΥ‑ΓΕΩΡΓΙΟΥ"},{"$f":"SUM(Αναλυτικά!F31:J31)","v":22},{"$f":"SUM(Αναλυτικά!K31)","v":3},{"$f":"SUM(Αναλυτικά!L31:M31)","v":1},{"$f":"SUM(Αναλυτικά!N31:P31)","v":2},{"$f":"SUM(Αναλυτικά!Q31:S31)","v":10},{"$f":"SUM(Αναλυτικά!T31:U31)","v":4},{"$f":"SUM(Αναλυτικά!V31:X31)","v":1},{"$f":"SUM(Αναλυτικά!Y31)","v":1},{"$f":"SUM(Αναλυτικά!Z31:AA31)","v":4},{"$f":"SUM(Αναλυτικά!AB31:AC31)","v":6},{"$f":"SUM(Αναλυτικά!AD31:AE31)","v":50},{"$f":"SUM(Αναλυτικά!AF31:AK31)","v":24},{"$f":"SUM(Αναλυτικά!AL31:AN31)","v":1},{"$f":"SUM(Αναλυτικά!AO31:AP31)","v":1},130]
[32,null,null,25,{"$f":"Αναλυτικά!E32","v":"ΠΕΛΕΚΑΝΟΣ ΓΕΩΡΓΙΟΣ του ΙΩΑΝΝΗ"},{"$f":"SUM(Αναλυτικά!F32:J32)","v":26},{"$f":"SUM(Αναλυτικά!K32)","v":0},{"$f":"SUM(Αναλυτικά!L32:M32)","v":6},{"$f":"SUM(Αναλυτικά!N32:P32)","v":64},{"$f":"SUM(Αναλυτικά!Q32:S32)","v":9},{"$f":"SUM(Αναλυτικά!T32:U32)","v":2},{"$f":"SUM(Αναλυτικά!V32:X32)","v":2},{"$f":"SUM(Αναλυτικά!Y32)","v":3},{"$f":"SUM(Αναλυτικά!Z32:AA32)","v":9},{"$f":"SUM(Αναλυτικά!AB32:AC32)","v":0},{"$f":"SUM(Αναλυτικά!AD32:AE32)","v":4},{"$f":"SUM(Αναλυτικά!AF32:AK32)","v":7},{"$f":"SUM(Αναλυτικά!AL32:AN32)","v":1},{"$f":"SUM(Αναλυτικά!AO32:AP32)","v":0},133]
[33,null,null,26,{"$f":"Αναλυτικά!E33","v":"ΠΕΛΕΚΗΣ ΗΛΙΑΣ του ΝΙΚΟΛΑΟΥ"},{"$f":"SUM(Αναλυτικά!F33:J33)","v":5},{"$f":"SUM(Αναλυτικά!K33)","v":3},{"$f":"SUM(Αναλυτικά!L33:M33)","v":5},{"$f":"SUM(Αναλυτικά!N33:P33)","v":4},{"$f":"SUM(Αναλυτικά!Q33:S33)","v":13},{"$f":"SUM(Αναλυτικά!T33:U33)","v":7},{"$f":"SUM(Αναλυτικά!V33:X33)","v":81},{"$f":"SUM(Αναλυτικά!Y33)","v":9},{"$f":"SUM(Αναλυτικά!Z33:AA33)","v":17},{"$f":"SUM(Αναλυτικά!AB33:AC33)","v":3},{"$f":"SUM(Αναλυτικά!AD33:AE33)","v":8},{"$f":"SUM(Αναλυτικά!AF33:AK33)","v":3},{"$f":"SUM(Αναλυτικά!AL33:AN33)","v":0},{"$f":"SUM(Αναλυτικά!AO33:AP33)","v":0},158]
[34,null,null,27,{"$f":"Αναλυτικά!E34","v":"ΠΟΛΥΧΡΟΝΑΚΗΣ ΠΑΝΑΓΙΩΤΗΣ του ΝΙΚΟΛΑΟΥ"},{"$f":"SUM(Αναλυτικά!F34:J34)","v":14},{"$f":"SUM(Αναλυτικά!K34)","v":3},{"$f":"SUM(Αναλυτικά!L34:M34)","v":1},{"$f":"SUM(Αναλυτικά!N34:P34)","v":7},{"$f":"SUM(Αναλυτικά!Q34:S34)","v":32},{"$f":"SUM(Αναλυτικά!T34:U34)","v":8},{"$f":"SUM(Αναλυτικά!V34:X34)","v":7},{"$f":"SUM(Αναλυτικά!Y34)","v":0},{"$f":"SUM(Αναλυτικά!Z34:AA34)","v":6},{"$f":"SUM(Αναλυτικά!AB34:AC34)","v":7},{"$f":"SUM(Αναλυτικά!AD34:AE34)","v":54},{"$f":"SUM(Αναλυτικά!AF34:AK34)","v":90},{"$f":"SUM(Αναλυτικά!AL34:AN34)","v":3},{"$f":"SUM(Αναλυτικά!AO34:AP34)","v":9},241]
[35,null,null,28,{"$f":"Αναλυτικά!E35","v":"ΡΕΝΙΕΡΗ ΕΙΡΗΝΗ του ΓΕΡΑΣΙΜΟΥ"},{"$f":"SUM(Αναλυτικά!F35:J35)","v":9},{"$f":"SUM(Αναλυτικά!K35)","v":2},{"$f":"SUM(Αναλυτικά!L35:M35)","v":9},{"$f":"SUM(Αναλυτικά!N35:P35)","v":0},{"$f":"SUM(Αναλυτικά!Q35:S35)","v":11},{"$f":"SUM(Αναλυτικά!T35:U35)","v":1},{"$f":"SUM(Αναλυτικά!V35:X35)","v":0},{"$f":"SUM(Αναλυτικά!Y35)","v":0},{"$f":"SUM(Αναλυτικά!Z35:AA35)","v":2},{"$f":"SUM(Αναλυτικά!AB35:AC35)","v":0},{"$f":"SUM(Αναλυτικά!AD35:AE35)","v":3},{"$f":"SUM(Αναλυτικά!AF35:AK35)","v":7},{"$f":"SUM(Αναλυτικά!AL35:AN35)","v":0},{"$f":"SUM(Αναλυτικά!AO35:AP35)","v":0},44]
[36,null,null,29,{"$f":"Αναλυτικά!E36","v":"ΡΟΥΣΣΟΥ ΧΡΙΣΤΙΝΑ του ΙΩΑΝΝΗ"},{"$f":"SUM(Αναλυτικά!F36:J36)","v":3},{"$f":"SUM(Αναλυτικά!K36)","v":0},{"$f":"SUM(Αναλυτικά!L36:M36)","v":0},{"$f":"SUM(Αναλυτικά!N36:P36)","v":2},{"$f":"SUM(Αναλυτικά!Q36:S36)","v":15},{"$f":"SUM(Αναλυτικά!T36:U36)","v":3},{"$f":"SUM(Αναλυτικά!V36:X36)","v":1},{"$f":"SUM(Αναλυτικά!Y36)","v":1},{"$f":"SUM(Αναλυτικά!Z36:AA36)","v":31},{"$f":"SUM(Αναλυτικά!AB36:AC36)","v":2},{"$f":"SUM(Αναλυτικά!AD36:AE36)","v":2},{"$f":"SUM(Αναλυτικά!AF36:AK36)","v":2},{"$f":"SUM(Αναλυτικά!AL36:AN36)","v":3},{"$f":"SUM(Αναλυτικά!AO36:AP36)","v":0},65]
[37,null,null,30,{"$f":"Αναλυτικά!E37","v":"ΣΙΓΑΛΑ ΑΡΤΕΜΙΑ του ΓΕΩΡΓΙΟΥ"},{"$f":"SUM(Αναλυτικά!F37:J37)","v":1},{"$f":"SUM(Αναλυτικά!K37)","v":23},{"$f":"SUM(Αναλυτικά!L37:M37)","v":2},{"$f":"SUM(Αναλυτικά!N37:P37)","v":2},{"$f":"SUM(Αναλυτικά!Q37:S37)","v":3},{"$f":"SUM(Αναλυτικά!T37:U37)","v":2},{"$f":"SUM(Αναλυτικά!V37:X37)","v":2},{"$f":"SUM(Αναλυτικά!Y37)","v":0},{"$f":"SUM(Αναλυτικά!Z37:AA37)","v":2},{"$f":"SUM(Αναλυτικά!AB37:AC37)","v":2},{"$f":"SUM(Αναλυτικά!AD37:AE37)","v":1},{"$f":"SUM(Αναλυτικά!AF37:AK37)","v":5},{"$f":"SUM(Αναλυτικά!AL37:AN37)","v":0},{"$f":"SUM(Αναλυτικά!AO37:AP37)","v":0},45]
[38,null,null,31,{"$f":"Αναλυτικά!E38","v":"ΣΙΓΑΛΑ ΝΙΚΟΛΕΤΤΑ του ΑΝΤΩΝΙΟΥ"},{"$f":"SUM(Αναλυτικά!F38:J38)","v":9},{"$f":"SUM(Αναλυτικά!K38)","v":1},{"$f":"SUM(Αναλυτικά!L38:M38)","v":0},{"$f":"SUM(Αναλυτικά!N38:P38)","v":0},{"$f":"SUM(Αναλυτικά!Q38:S38)","v":1},{"$f":"SUM(Αναλυτικά!T38:U38)","v":3},{"$f":"SUM(Αναλυτικά!V38:X38)","v":4},{"$f":"SUM(Αναλυτικά!Y38)","v":0},{"$f":"SUM(Αναλυτικά!Z38:AA38)","v":12},{"$f":"SUM(Αναλυτικά!AB38:AC38)","v":1},{"$f":"SUM(Αναλυτικά!AD38:AE38)","v":0},{"$f":"SUM(Αναλυτικά!AF38:AK38)","v":32},{"$f":"SUM(Αναλυτικά!AL38:AN38)","v":1},{"$f":"SUM(Αναλυτικά!AO38:AP38)","v":0},64]
[39,null,null,32,{"$f":"Αναλυτικά!E39","v":"ΣΙΓΑΛΑΣ ΝΙΚΟΛΑΟΣ του ΕΥΣΤΑΘΙΟΥ"},{"$f":"SUM(Αναλυτικά!F39:J39)","v":17},{"$f":"SUM(Αναλυτικά!K39)","v":2},{"$f":"SUM(Αναλυτικά!L39:M39)","v":0},{"$f":"SUM(Αναλυτικά!N39:P39)","v":3},{"$f":"SUM(Αναλυτικά!Q39:S39)","v":3},{"$f":"SUM(Αναλυτικά!T39:U39)","v":5},{"$f":"SUM(Αναλυτικά!V39:X39)","v":2},{"$f":"SUM(Αναλυτικά!Y39)","v":1},{"$f":"SUM(Αναλυτικά!Z39:AA39)","v":7},{"$f":"SUM(Αναλυτικά!AB39:AC39)","v":0},{"$f":"SUM(Αναλυτικά!AD39:AE39)","v":0},{"$f":"SUM(Αναλυτικά!AF39:AK39)","v":40},{"$f":"SUM(Αναλυτικά!AL39:AN39)","v":0},{"$f":"SUM(Αναλυτικά!AO39:AP39)","v":1},81]
[40,null,null,33,{"$f":"Αναλυτικά!E40","v":"ΤΖΟΥΡΟΣ ΕΛΕΥΘΕΡΙΟΣ του ΑΠΟΣΤΟΛΟΥ"},{"$f":"SUM(Αναλυτικά!F40:J40)","v":93},{"$f":"SUM(Αναλυτικά!K40)","v":8},{"$f":"SUM(Αναλυτικά!L40:M40)","v":12},{"$f":"SUM(Αναλυτικά!N40:P40)","v":38},{"$f":"SUM(Αναλυτικά!Q40:S40)","v":26},{"$f":"SUM(Αναλυτικά!T40:U40)","v":10},{"$f":"SUM(Αναλυτικά!V40:X40)","v":16},{"$f":"SUM(Αναλυτικά!Y40)","v":3},{"$f":"SUM(Αναλυτικά!Z40:AA40)","v":55},{"$f":"SUM(Αναλυτικά!AB40:AC40)","v":8},{"$f":"SUM(Αναλυτικά!AD40:AE40)","v":16},{"$f":"SUM(Αναλυτικά!AF40:AK40)","v":27},{"$f":"SUM(Αναλυτικά!AL40:AN40)","v":28},{"$f":"SUM(Αναλυτικά!AO40:AP40)","v":3},343]
[41,null,null,34,{"$f":"Αναλυτικά!E41","v":"ΦΟΥΣΤΕΡΗΣ ΠΑΝΤΕΛΕΗΜΩΝ του ΑΘΑΝΑΣΙΟΥ"},{"$f":"SUM(Αναλυτικά!F41:J41)","v":9},{"$f":"SUM(Αναλυτικά!K41)","v":4},{"$f":"SUM(Αναλυτικά!L41:M41)","v":0},{"$f":"SUM(Αναλυτικά!N41:P41)","v":9},{"$f":"SUM(Αναλυτικά!Q41:S41)","v":60},{"$f":"SUM(Αναλυτικά!T41:U41)","v":7},{"$f":"SUM(Αναλυτικά!V41:X41)","v":4},{"$f":"SUM(Αναλυτικά!Y41)","v":0},{"$f":"SUM(Αναλυτικά!Z41:AA41)","v":46},{"$f":"SUM(Αναλυτικά!AB41:AC41)","v":4},{"$f":"SUM(Αναλυτικά!AD41:AE41)","v":0},{"$f":"SUM(Αναλυτικά!AF41:AK41)","v":6},{"$f":"SUM(Αναλυτικά!AL41:AN41)","v":2},{"$f":"SUM(Αναλυτικά!AO41:AP41)","v":0},151]
[42,null,null,35,{"$f":"Αναλυτικά!E42","v":"ΧΑΛΑΡΗ ΕΙΡΗΝΗ του ΙΩΑΝΝΗ"},{"$f":"SUM(Αναλυτικά!F42:J42)","v":4},{"$f":"SUM(Αναλυτικά!K42)","v":0},{"$f":"SUM(Αναλυτικά!L42:M42)","v":0},{"$f":"SUM(Αναλυτικά!N42:P42)","v":2},{"$f":"SUM(Αναλυτικά!Q42:S42)","v":9},{"$f":"SUM(Αναλυτικά!T42:U42)","v":0},{"$f":"SUM(Αναλυτικά!V42:X42)","v":24},{"$f":"SUM(Αναλυτικά!Y42)","v":0},{"$f":"SUM(Αναλυτικά!Z42:AA42)","v":2},{"$f":"SUM(Αναλυτικά!AB42:AC42)","v":0},{"$f":"SUM(Αναλυτικά!AD42:AE42)","v":1},{"$f":"SUM(Αναλυτικά!AF42:AK42)","v":8},{"$f":"SUM(Αναλυτικά!AL42:AN42)","v":0},{"$f":"SUM(Αναλυτικά!AO42:AP42)","v":2},52]
[43,null,null,36,{"$f":"Αναλυτικά!E43","v":"ΧΑΛΑΡΗ ΠΑΝΑΓΙΩΤΑ του ΠΑΝΑΓΙΩΤΗ"},{"$f":"SUM(Αναλυτικά!F43:J43)","v":13},{"$f":"SUM(Αναλυτικά!K43)","v":3},{"$f":"SUM(Αναλυτικά!L43:M43)","v":0},{"$f":"SUM(Αναλυτικά!N43:P43)","v":0},{"$f":"SUM(Αναλυτικά!Q43:S43)","v":4},{"$f":"SUM(Αναλυτικά!T43:U43)","v":0},{"$f":"SUM(Αναλυτικά!V43:X43)","v":0},{"$f":"SUM(Αναλυτικά!Y43)","v":0},{"$f":"SUM(Αναλυτικά!Z43:AA43)","v":3},{"$f":"SUM(Αναλυτικά!AB43:AC43)","v":0},{"$f":"SUM(Αναλυτικά!AD43:AE43)","v":1},{"$f":"SUM(Αναλυτικά!AF43:AK43)","v":0},{"$f":"SUM(Αναλυτικά!AL43:AN43)","v":5},{"$f":"SUM(Αναλυτικά!AO43:AP43)","v":1},30]
[56,{"$nulls":3},"ΔΗΜΟΤΙΚΗ ΕΝΟΤΗΤΑ ΟΙΑΣ"]
[57,null,null,37,{"$f":"Αναλυτικά!E45","v":"ΒΑΖΑΙΟΣ ΔΗΜΗΤΡΙΟΣ του ΙΩΑΝΝΗ"},{"$f":"SUM(Αναλυτικά!F45:J45)","v":35},{"$f":"SUM(Αναλυτικά!K45)","v":8},{"$f":"SUM(Αναλυτικά!L45:M45)","v":17},{"$f":"SUM(Αναλυτικά!N45:P45)","v":24},{"$f":"SUM(Αναλυτικά!Q45:S45)","v":29},{"$f":"SUM(Αναλυτικά!T45:U45)","v":4},{"$f":"SUM(Αναλυτικά!V45:X45)","v":21},{"$f":"SUM(Αναλυτικά!Y45)","v":1},{"$f":"SUM(Αναλυτικά!Z45:AA45)","v":38},{"$f":"SUM(Αναλυτικά!AB45:AC45)","v":9},{"$f":"SUM(Αναλυτικά!AD45:AE45)","v":6},{"$f":"SUM(Αναλυτικά!AF45:AK45)","v":33},{"$f":"SUM(Αναλυτικά!AL45:AN45)","v":15},{"$f":"SUM(Αναλυτικά!AO45:AP45)","v":1},{"$f":"SUM(F43:S43)","v":241}]
[58,null,null,38,{"$f":"Αναλυτικά!E46","v":"ΠΑΓΩΝΗΣ ΕΙΡΗΝΙΚΟΣ του ΑΝΤΩΝΙΟΥ"},{"$f":"SUM(Αναλυτικά!F46:J46)","v":31},{"$f":"SUM(Αναλυτικά!K46)","v":4},{"$f":"SUM(Αναλυτικά!L46:M46)","v":3},{"$f":"SUM(Αναλυτικά!N46:P46)","v":27},{"$f":"SUM(Αναλυτικά!Q46:S46)","v":39},{"$f":"SUM(Αναλυτικά!T46:U46)","v":5},{"$f":"SUM(Αναλυτικά!V46:X46)","v":15},{"$f":"SUM(Αναλυτικά!Y46)","v":11},{"$f":"SUM(Αναλυτικά!Z46:AA46)","v":51},{"$f":"SUM(Αναλυτικά!AB46:AC46)","v":9},{"$f":"SUM(Αναλυτικά!AD46:AE46)","v":11},{"$f":"SUM(Αναλυτικά!AF46:AK46)","v":32},{"$f":"SUM(Αναλυτικά!AL46:AN46)","v":18},{"$f":"SUM(Αναλυτικά!AO46:AP46)","v":1},257]
[59,null,null,39,{"$f":"Αναλυτικά!E47","v":"ΠΑΡΑΒΑΛΟΥ ΑΝΤΩΝΙΑ του ΕΥΑΓΓΕΛΟΥ"},{"$f":"SUM(Αναλυτικά!F47:J47)","v":14},{"$f":"SUM(Αναλυτικά!K47)","v":6},{"$f":"SUM(Αναλυτικά!L47:M47)","v":1},{"$f":"SUM(Αναλυτικά!N47:P47)","v":7},{"$f":"SUM(Αναλυτικά!Q47:S47)","v":17},{"$f":"SUM(Αναλυτικά!T47:U47)","v":1},{"$f":"SUM(Αναλυτικά!V47:X47)","v":7},{"$f":"SUM(Αναλυτικά!Y47)","v":1},{"$f":"SUM(Αναλυτικά!Z47:AA47)","v":36},{"$f":"SUM(Αναλυτικά!AB47:AC47)","v":4},{"$f":"SUM(Αναλυτικά!AD47:AE47)","v":9},{"$f":"SUM(Αναλυτικά!AF47:AK47)","v":71},{"$f":"SUM(Αναλυτικά!AL47:AN47)","v":1},{"$f":"SUM(Αναλυτικά!AO47:AP47)","v":48},223]
[60,null,null,40,{"$f":"Αναλυτικά!E48","v":"ΠΑΣΣΑΡΗΣ ΑΛΕΞΑΝΔΡΟΣ του ΠΕΤΡΟΥ"},{"$f":"SUM(Αναλυτικά!F48:J48)","v":44},{"$f":"SUM(Αναλυτικά!K48)","v":18},{"$f":"SUM(Αναλυτικά!L48:M48)","v":10},{"$f":"SUM(Αναλυτικά!N48:P48)","v":43},{"$f":"SUM(Αναλυτικά!Q48:S48)","v":38},{"$f":"SUM(Αναλυτικά!T48:U48)","v":29},{"$f":"SUM(Αναλυτικά!V48:X48)","v":13},{"$f":"SUM(Αναλυτικά!Y48)","v":3},{"$f":"SUM(Αναλυτικά!Z48:AA48)","v":46},{"$f":"SUM(Αναλυτικά!AB48:AC48)","v":4},{"$f":"SUM(Αναλυτικά!AD48:AE48)","v":11},{"$f":"SUM(Αναλυτικά!AF48:AK48)","v":46},{"$f":"SUM(Αναλυτικά!AL48:AN48)","v":87},{"$f":"SUM(Αναλυτικά!AO48:AP48)","v":16},408]
[61,null,null,41,{"$f":"Αναλυτικά!E49","v":"ΧΑΛΑΡΗΣ ΜΑΡΙΟΣ του ΤΖΩΡΤΖΗ"},{"$f":"SUM(Αναλυτικά!F49:J49)","v":21},{"$f":"SUM(Αναλυτικά!K49)","v":4},{"$f":"SUM(Αναλυτικά!L49:M49)","v":3},{"$f":"SUM(Αναλυτικά!N49:P49)","v":10},{"$f":"SUM(Αναλυτικά!Q49:S49)","v":51},{"$f":"SUM(Αναλυτικά!T49:U49)","v":8},{"$f":"SUM(Αναλυτικά!V49:X49)","v":11},{"$f":"SUM(Αναλυτικά!Y49)","v":3},{"$f":"SUM(Αναλυτικά!Z49:AA49)","v":39},{"$f":"SUM(Αναλυτικά!AB49:AC49)","v":8},{"$f":"SUM(Αναλυτικά!AD49:AE49)","v":13},{"$f":"SUM(Αναλυτικά!AF49:AK49)","v":52},{"$f":"SUM(Αναλυτικά!AL49:AN49)","v":19},{"$f":"SUM(Αναλυτικά!AO49:AP49)","v":0},242]
[63,"Σαντορίνη Θηρασία Ενότητα Αλλαγή",null,null,"ΔΗΜΟΤΙΚΗ ΕΝΟΤΗΤΑ ΘΗΡΑΣ"]
[64,null,null,42,{"$f":"Αναλυτικά!E51","v":"ΑΛΕΦΡΑΓΚΗΣ ΕΥΑΓΓΕΛΟΣ του ΔΗΜΗΤΡΙΟΥ"},{"$f":"SUM(Αναλυτικά!F51:J51)","v":5},{"$f":"SUM(Αναλυτικά!K51)","v":0},{"$f":"SUM(Αναλυτικά!L51:M51)","v":0},{"$f":"SUM(Αναλυτικά!N51:P51)","v":10},{"$f":"SUM(Αναλυτικά!Q51:S51)","v":2},{"$f":"SUM(Αναλυτικά!T51:U51)","v":1},{"$f":"SUM(Αναλυτικά!V51:X51)","v":1},{"$f":"SUM(Αναλυτικά!Y51)","v":0},{"$f":"SUM(Αναλυτικά!Z51:AA51)","v":1},{"$f":"SUM(Αναλυτικά!AB51:AC51)","v":0},{"$f":"SUM(Αναλυτικά!AD51:AE51)","v":24},{"$f":"SUM(Αναλυτικά!AF51:AK51)","v":4},{"$f":"SUM(Αναλυτικά!AL51:AN51)","v":3},{"$f":"SUM(Αναλυτικά!AO51:AP51)","v":1},{"$f":"SUM(F49:S49)","v":52}]
[65,null,null,43,{"$f":"Αναλυτικά!E52","v":"ΑΞΙΩΤΗΣ ΚΩΝΣΤΑΝΤΙΝΟΣ του ΑΝΔΡΟΝΙΚΟΥ"},{"$f":"SUM(Αναλυτικά!F52:J52)","v":12},{"$f":"SUM(Αναλυτικά!K52)","v":1},{"$f":"SUM(Αναλυτικά!L52:M52)","v":3},{"$f":"SUM(Αναλυτικά!N52:P52)","v":9},{"$f":"SUM(Αναλυτικά!Q52:S52)","v":4},{"$f":"SUM(Αναλυτικά!T52:U52)","v":0},{"$f":"SUM(Αναλυτικά!V52:X52)","v":23},{"$f":"SUM(Αναλυτικά!Y52)","v":3},{"$f":"SUM(Αναλυτικά!Z52:AA52)","v":2},{"$f":"SUM(Αναλυτικά!AB52:AC52)","v":1},{"$f":"SUM(Αναλυτικά!AD52:AE52)","v":1},{"$f":"SUM(Αναλυτικά!AF52:AK52)","v":10},{"$f":"SUM(Αναλυτικά!AL52:AN52)","v":2},{"$f":"SUM(Αναλυτικά!AO52:AP52)","v":0},71]
[66,null,null,44,{"$f":"Αναλυτικά!E53","v":"ΑΡΓΥΡΟΣ ΙΩΑΝΝΗΣ (ΓΑΔΑΡΟΣ) του ΚΩΝΣΤΑΝΤΙΝΟΥ"},{"$f":"SUM(Αναλυτικά!F53:J53)","v":93},{"$f":"SUM(Αναλυτικά!K53)","v":7},{"$f":"SUM(Αναλυτικά!L53:M53)","v":10},{"$f":"SUM(Αναλυτικά!N53:P53)","v":8},{"$f":"SUM(Αναλυτικά!Q53:S53)","v":12},{"$f":"SUM(Αναλυτικά!T53:U53)","v":6},{"$f":"SUM(Αναλυτικά!V53:X53)","v":1},{"$f":"SUM(Αναλυτικά!Y53)","v":4},{"$f":"SUM(Αναλυτικά!Z53:AA53)","v":4},{"$f":"SUM(Αναλυτικά!AB53:AC53)","v":10},{"$f":"SUM(Αναλυτικά!AD53:AE53)","v":2},{"$f":"SUM(Αναλυτικά!AF53:AK53)","v":55},{"$f":"SUM(Αναλυτικά!AL53:AN53)","v":8},{"$f":"SUM(Αναλυτικά!AO53:AP53)","v":2},222]
[67,null,null,45,{"$f":"Αναλυτικά!E54","v":"ΒΑΛΒΗ ΜΑΡΓΑΡΙΤΑ (ΓΕΓΕ) του ΜΙΧΑΗΛ"},{"$f":"SUM(Αναλυτικά!F54:J54)","v":5},{"$f":"SUM(Αναλυτικά!K54)","v":2},{"$f":"SUM(Αναλυτικά!L54:M54)","v":0},{"$f":"SUM(Αναλυτικά!N54:P54)","v":0},{"$f":"SUM(Αναλυτικά!Q54:S54)","v":2},{"$f":"SUM(Αναλυτικά!T54:U54)","v":0},{"$f":"SUM(Αναλυτικά!V54:X54)","v":1},{"$f":"SUM(Αναλυτικά!Y54)","v":2},{"$f":"SUM(Αναλυτικά!Z54:AA54)","v":4},{"$f":"SUM(Αναλυτικά!AB54:AC54)","v":0},{"$f":"SUM(Αναλυτικά!AD54:AE54)","v":0},{"$f":"SUM(Αναλυτικά!AF54:AK54)","v":148},{"$f":"SUM(Αναλυτικά!AL54:AN54)","v":0},{"$f":"SUM(Αναλυτικά!AO54:AP54)","v":0},164]
[68,null,null,46,{"$f":"Αναλυτικά!E55","v":"ΒΑΛΒΗΣ ΝΙΚΟΛΑΟΣ (ΜΠΑΜΠΑΚΑΡΗΣ) του ΜΑΡΚΟΥ"},{"$f":"SUM(Αναλυτικά!F55:J55)","v":8},{"$f":"SUM(Αναλυτικά!K55)","v":1},{"$f":"SUM(Αναλυτικά!L55:M55)","v":1},{"$f":"SUM(Αναλυτικά!N55:P55)","v":0},{"$f":"SUM(Αναλυτικά!Q55:S55)","v":4},{"$f":"SUM(Αναλυτικά!T55:U55)","v":0},{"$f":"SUM(Αναλυτικά!V55:X55)","v":4},{"$f":"SUM(Αναλυτικά!Y55)","v":0},{"$f":"SUM(Αναλυτικά!Z55:AA55)","v":1},{"$f":"SUM(Αναλυτικά!AB55:AC55)","v":3},{"$f":"SUM(Αναλυτικά!AD55:AE55)","v":8},{"$f":"SUM(Αναλυτικά!AF55:AK55)","v":151},{"$f":"SUM(Αναλυτικά!AL55:AN55)","v":1},{"$f":"SUM(Αναλυτικά!AO55:AP55)","v":0},182]
[69,null,null,47,{"$f":"Αναλυτικά!E56","v":"ΓΚΛΑΒΑ ΑΔΑΜΑΝΤΙΑ του ΔΗΜΗΤΡΙΟΥ"},{"$f":"SUM(Αναλυτικά!F56:J56)","v":5},{"$f":"SUM(Αναλυτικά!K56)","v":2},{"$f":"SUM(Αναλυτικά!L56:M56)","v":0},{"$f":"SUM(Αναλυτικά!N56:P56)","v":1},{"$f":"SUM(Αναλυτικά!Q56:S56)","v":2},{"$f":"SUM(Αναλυτικά!T56:U56)","v":0},{"$f":"SUM(Αναλυτικά!V56:X56)","v":1},{"$f":"SUM(Αναλυτικά!Y56)","v":0},{"$f":"SUM(Αναλυτικά!Z56:AA56)","v":15},{"$f":"SUM(Αναλυτικά!AB56:AC56)","v":5},{"$f":"SUM(Αναλυτικά!AD56:AE56)","v":2},{"$f":"SUM(Αναλυτικά!AF56:AK56)","v":9},{"$f":"SUM(Αναλυτικά!AL56:AN56)","v":0},{"$f":"SUM(Αναλυτικά!AO56:AP56)","v":0},42]
[70,null,null,48,{"$f":"Αναλυτικά!E57","v":"ΔΑΜΑΣΚΗΝΟΥ ΓΕΩΡΓΙΑ (ΓΕΡΟΜΑΝΩΛΗ) του ΕΛΕΥΘΕΡΙΟΥ"},{"$f":"SUM(Αναλυτικά!F57:J57)","v":7},{"$f":"SUM(Αναλυτικά!K57)","v":1},{"$f":"SUM(Αναλυτικά!L57:M57)","v":0},{"$f":"SUM(Αναλυτικά!N57:P57)","v":1},{"$f":"SUM(Αναλυτικά!Q57:S57)","v":2},{"$f":"SUM(Αναλυτικά!T57:U57)","v":0},{"$f":"SUM(Αναλυτικά!V57:X57)","v":0},{"$f":"SUM(Αναλυτικά!Y57)","v":1},{"$f":"SUM(Αναλυτικά!Z57:AA57)","v":4},{"$f":"SUM(Αναλυτικά!AB57:AC57)","v":9},{"$f":"SUM(Αναλυτικά!AD57:AE57)","v":1},{"$f":"SUM(Αναλυτικά!AF57:AK57)","v":11},{"$f":"SUM(Αναλυτικά!AL57:AN57)","v":0},{"$f":"SUM(Αναλυτικά!AO57:AP57)","v":0},37]
[71,null,null,49,{"$f":"Αναλυτικά!E58","v":"ΔΑΜΙΓΟΥ ΜΑΡΙΑ (ΠΡΟΕΔΡΟΥ) του ΝΙΚΟΛΑΟΥ"},{"$f":"SUM(Αναλυτικά!F58:J58)","v":4},{"$f":"SUM(Αναλυτικά!K58)","v":1},{"$f":"SUM(Αναλυτικά!L58:M58)","v":33},{"$f":"SUM(Αναλυτικά!N58:P58)","v":0},{"$f":"SUM(Αναλυτικά!Q58:S58)","v":1},{"$f":"SUM(Αναλυτικά!T58:U58)","v":1},{"$f":"SUM(Αναλυτικά!V58:X58)","v":2},{"$f":"SUM(Αναλυτικά!Y58)","v":5},{"$f":"SUM(Αναλυτικά!Z58:AA58)","v":2},{"$f":"SUM(Αναλυτικά!AB58:AC58)","v":4},{"$f":"SUM(Αναλυτικά!AD58:AE58)","v":2},{"$f":"SUM(Αναλυτικά!AF58:AK58)","v":6},{"$f":"SUM(Αναλυτικά!AL58:AN58)","v":1},{"$f":"SUM(Αναλυτικά!AO58:AP58)","v":0},62]
[72,null,null,50,{"$f":"Αναλυτικά!E59","v":"ΔΑΡΖΕΝΤΑΣ ΓΕΩΡΓΙΟΣ (ΣΚΟΥΜΠΡΗΣ) του ΙΩΑΝΝΗ"},{"$f":"SUM(Αναλυτικά!F59:J59)","v":19},{"$f":"SUM(Αναλυτικά!K59)","v":7},{"$f":"SUM(Αναλυτικά!L59:M59)","v":3},{"$f":"SUM(Αναλυτικά!N59:P59)","v":2},{"$f":"SUM(Αναλυτικά!Q59:S59)","v":12},{"$f":"SUM(Αναλυτικά!T59:U59)","v":1},{"$f":"SUM(Αναλυτικά!V59:X59)","v":2},{"$f":"SUM(Αναλυτικά!Y59)","v":4},{"$f":"SUM(Αναλυτικά!Z59:AA59)","v":3},{"$f":"SUM(Αναλυτικά!AB59:AC59)","v":3},{"$f":"SUM(Αναλυτικά!AD59:AE59)","v":4},{"$f":"SUM(Αναλυτικά!AF59:AK59)","v":321},{"$f":"SUM(Αναλυτικά!AL59:AN59)","v":0},{"$f":"SUM(Αναλυτικά!AO59:AP59)","v":2},383]
[73,null,null,51,{"$f":"Αναλυτικά!E60","v":"ΔΑΡΖΕΝΤΑΣ ΝΙΚΟΛΑΟΣ (ΝΙΚΑΚΗΣ) του ΖΑΝΝΕ"},{"$f":"SUM(Αναλυτικά!F60:J60)","v":14},{"$f":"SUM(Αναλυτικά!K60)","v":0},{"$f":"SUM(Αναλυτικά!L60:M60)","v":1},{"$f":"SUM(Αναλυτικά!N60:P60)","v":2},{"$f":"SUM(Αναλυτικά!Q60:S60)","v":11},{"$f":"SUM(Αναλυτικά!T60:U60)","v":3},{"$f":"SUM(Αναλυτικά!V60:X60)","v":3},{"$f":"SUM(Αναλυτικά!Y60)","v":2},{"$f":"SUM(Αναλυτικά!Z60:AA60)","v":1},{"$f":"SUM(Αναλυτικά!AB60:AC60)","v":1},{"$f":"SUM(Αναλυτικά!AD60:AE60)","v":5},{"$f":"SUM(Αναλυτικά!AF60:AK60)","v":195},{"$f":"SUM(Αναλυτικά!AL60:AN60)","v":1},{"$f":"SUM(Αναλυτικά!AO60:AP60)","v":0},239]
[74,null,null,52,{"$f":"Αναλυτικά!E61","v":"ΔΡΟΣΟΣ ΖΗΣΗΣ του ΣΠΥΡΟΥ"},{"$f":"SUM(Αναλυτικά!F61:J61)","v":14},{"$f":"SUM(Αναλυτικά!K61)","v":3},{"$f":"SUM(Αναλυτικά!L61:M61)","v":3},{"$f":"SUM(Αναλυτικά!N61:P61)","v":4},{"$f":"SUM(Αναλυτικά!Q61:S61)","v":4},{"$f":"SUM(Αναλυτικά!T61:U61)","v":4},{"$f":"SUM(Αναλυτικά!V61:X61)","v":5},{"$f":"SUM(Αναλυτικά!Y61)","v":9},{"$f":"SUM(Αναλυτικά!Z61:AA61)","v":4},{"$f":"SUM(Αναλυτικά!AB61:AC61)","v":11},{"$f":"SUM(Αναλυτικά!AD61:AE61)","v":4},{"$f":"SUM(Αναλυτικά!AF61:AK61)","v":146},{"$f":"SUM(Αναλυτικά!AL61:AN61)","v":1},{"$f":"SUM(Αναλυτικά!AO61:AP61)","v":0},212]
[75,null,null,53,{"$f":"Αναλυτικά!E62","v":"ΔΡΟΣΟΣ ΣΤΥΛΙΑΝΟΣ (ΦΡΑΓΚΙΑΣ) του ΝΙΚΟΛΑΟΥ"},{"$f":"SUM(Αναλυτικά!F62:J62)","v":12},{"$f":"SUM(Αναλυτικά!K62)","v":2},{"$f":"SUM(Αναλυτικά!L62:M62)","v":1},{"$f":"SUM(Αναλυτικά!N62:P62)","v":1},{"$f":"SUM(Αναλυτικά!Q62:S62)","v":4},{"$f":"SUM(Αναλυτικά!T62:U62)","v":2},{"$f":"SUM(Αναλυτικά!V62:X62)","v":1},{"$f":"SUM(Αναλυτικά!Y62)","v":2},{"$f":"SUM(Αναλυτικά!Z62:AA62)","v":0},{"$f":"SUM(Αναλυτικά!AB62:AC62)","v":1},{"$f":"SUM(Αναλυτικά!AD62:AE62)","v":3},{"$f":"SUM(Αναλυτικά!AF62:AK62)","v":123},{"$f":"SUM(Αναλυτικά!AL62:AN62)","v":2},{"$f":"SUM(Αναλυτικά!AO62:AP62)","v":1},155]
[76,null,null,54,{"$f":"Αναλυτικά!E63","v":"ΔΡΟΣΟΣ ΧΑΡΑΛΑΜΠΟΣ (ΚΟΝΤΟΣ) του ΛΟΥΚΑ"},{"$f":"SUM(Αναλυτικά!F63:J63)","v":3},{"$f":"SUM(Αναλυτικά!K63)","v":0},{"$f":"SUM(Αναλυτικά!L63:M63)","v":1},{"$f":"SUM(Αναλυτικά!N63:P63)","v":1},{"$f":"SUM(Αναλυτικά!Q63:S63)","v":0},{"$f":"SUM(Αναλυτικά!T63:U63)","v":0},{"$f":"SUM(Αναλυτικά!V63:X63)","v":0},{"$f":"SUM(Αναλυτικά!Y63)","v":1},{"$f":"SUM(Αναλυτικά!Z63:AA63)","v":1},{"$f":"SUM(Αναλυτικά!AB63:AC63)","v":0},{"$f":"SUM(Αναλυτικά!AD63:AE63)","v":1},{"$f":"SUM(Αναλυτικά!AF63:AK63)","v":51},{"$f":"SUM(Αναλυτικά!AL63:AN63)","v":1},{"$f":"SUM(Αναλυτικά!AO63:AP63)","v":0},60]
[77,null,null,55,{"$f":"Αναλυτικά!E64","v":"ΔΡΟΣΟΥ ΕΙΡΗΝΗ του ΝΙΚΟΛΑΟΥ"},{"$f":"SUM(Αναλυτικά!F64:J64)","v":3},{"$f":"SUM(Αναλυτικά!K64)","v":5},{"$f":"SUM(Αναλυτικά!L64:M64)","v":1},{"$f":"SUM(Αναλυτικά!N64:P64)","v":0},{"$f":"SUM(Αναλυτικά!Q64:S64)","v":1},{"$f":"SUM(Αναλυτικά!T64:U64)","v":0},{"$f":"SUM(Αναλυτικά!V64:X64)","v":4},{"$f":"SUM(Αναλυτικά!Y64)","v":0},{"$f":"SUM(Αναλυτικά!Z64:AA64)","v":2},{"$f":"SUM(Αναλυτικά!AB64:AC64)","v":0},{"$f":"SUM(Αναλυτικά!AD64:AE64)","v":1},{"$f":"SUM(Αναλυτικά!AF64:AK64)","v":50},{"$f":"SUM(Αναλυτικά!AL64:AN64)","v":1},{"$f":"SUM(Αναλυτικά!AO64:AP64)","v":1},69]
[78,null,null,56,{"$f":"Αναλυτικά!E65","v":"ΖΏΡΖΟΣ ΜΑΡΚΟΣ του ΙΩΑΝΝΗ"},{"$f":"SUM(Αναλυτικά!F65:J65)","v":17},{"$f":"SUM(Αναλυτικά!K65)","v":0},{"$f":"SUM(Αναλυτικά!L65:M65)","v":0},{"$f":"SUM(Αναλυτικά!N65:P65)","v":2},{"$f":"SUM(Αναλυτικά!Q65:S65)","v":6},{"$f":"SUM(Αναλυτικά!T65:U65)","v":1},{"$f":"SUM(Αναλυτικά!V65:X65)","v":2},{"$f":"SUM(Αναλυτικά!Y65)","v":14},{"$f":"SUM(Αναλυτικά!Z65:AA65)","v":4},{"$f":"SUM(Αναλυτικά!AB65:AC65)","v":3},{"$f":"SUM(Αναλυτικά!AD65:AE65)","v":2},{"$f":"SUM(Αναλυτικά!AF65:AK65)","v":36},{"$f":"SUM(Αναλυτικά!AL65:AN65)","v":1},{"$f":"SUM(Αναλυτικά!AO65:AP65)","v":0},88]
[79,null,null,57,{"$f":"Αναλυτικά!E66","v":"ΖΑΜΠΕΛΗΣ ΕΥΑΓΓΕΛΟΣ (ΤΡΑΜΑΤΙΑΣ) του ΓΕΩΡΓΙΟΥ"},{"$f":"SUM(Αναλυτικά!F66:J66)","v":5},{"$f":"SUM(Αναλυτικά!K66)","v":0},{"$f":"SUM(Αναλυτικά!L66:M66)","v":0},{"$f":"SUM(Αναλυτικά!N66:P66)","v":5},{"$f":"SUM(Αναλυτικά!Q66:S66)","v":9},{"$f":"SUM(Αναλυτικά!T66:U66)","v":1},{"$f":"SUM(Αναλυτικά!V66:X66)","v":1},{"$f":"SUM(Αναλυτικά!Y66)","v":6},{"$f":"SUM(Αναλυτικά!Z66:AA66)","v":6},{"$f":"SUM(Αναλυτικά!AB66:AC66)","v":4},{"$f":"SUM(Αναλυτικά!AD66:AE66)","v":3},{"$f":"SUM(Αναλυτικά!AF66:AK66)","v":215},{"$f":"SUM(Αναλυτικά!AL66:AN66)","v":0},{"$f":"SUM(Αναλυτικά!AO66:AP66)","v":0},255]
[80,null,null,58,{"$f":"Αναλυτικά!E67","v":"ΚΑΡΑΜΟΛΕΓΚΟΣ ΑΝΤΩΝΙΟΣ του ΕΛΕΥΘΕΡΙΟΥ"},{"$f":"SUM(Αναλυτικά!F67:J67)","v":25},{"$f":"SUM(Αναλυτικά!K67)","v":1},{"$f":"SUM(Αναλυτικά!L67:M67)","v":0},{"$f":"SUM(Αναλυτικά!N67:P67)","v":7},{"$f":"SUM(Αναλυτικά!Q67:S67)","v":19},{"$f":"SUM(Αναλυτικά!T67:U67)","v":2},{"$f":"SUM(Αναλυτικά!V67:X67)","v":10},{"$f":"SUM(Αναλυτικά!Y67)","v":3},{"$f":"SUM(Αναλυτικά!Z67:AA67)","v":29},{"$f":"SUM(Αναλυτικά!AB67:AC67)","v":12},{"$f":"SUM(Αναλυτικά!AD67:AE67)","v":1},{"$f":"SUM(Αναλυτικά!AF67:AK67)","v":24},{"$f":"SUM(Αναλυτικά!AL67:AN67)","v":2},{"$f":"SUM(Αναλυτικά!AO67:AP67)","v":6},141]
[81,null,null,59,{"$f":"Αναλυτικά!E68","v":"ΚΑΡΑΜΟΛΕΓΚΟΥ ΜΑΡΙΑ του ΕΡΜΟΛΑΟΥ"},{"$f":"SUM(Αναλυτικά!F68:J68)","v":4},{"$f":"SUM(Αναλυτικά!K68)","v":1},{"$f":"SUM(Αναλυτικά!L68:M68)","v":0},{"$f":"SUM(Αναλυτικά!N68:P68)","v":0},{"$f":"SUM(Αναλυτικά!Q68:S68)","v":0},{"$f":"SUM(Αναλυτικά!T68:U68)","v":0},{"$f":"SUM(Αναλυτικά!V68:X68)","v":2},{"$f":"SUM(Αναλυτικά!Y68)","v":0},{"$f":"SUM(Αναλυτικά!Z68:AA68)","v":1},{"$f":"SUM(Αναλυτικά!AB68:AC68)","v":0},{"$f":"SUM(Αναλυτικά!AD68:AE68)","v":0},{"$f":"SUM(Αναλυτικά!AF68:AK68)","v":19},{"$f":"SUM(Αναλυτικά!AL68:AN68)","v":1},{"$f":"SUM(Αναλυτικά!AO68:AP68)","v":0},28]
[82,null,null,60,{"$f":"Αναλυτικά!E69","v":"ΚΑΦΟΥΡΟΣ ΝΙΚΟΛΑΟΣ του ΓΕΡΑΣΙΜΟΥ"},{"$f":"SUM(Αναλυτικά!F69:J69)","v":17},{"$f":"SUM(Αναλυτικά!K69)","v":5},{"$f":"SUM(Αναλυτικά!L69:M69)","v":46},{"$f":"SUM(Αναλυτικά!N69:P69)","v":6},{"$f":"SUM(Αναλυτικά!Q69:S69)","v":10},{"$f":"SUM(Αναλυτικά!T69:U69)","v":4},{"$f":"SUM(Αναλυτικά!V69:X69)","v":3},{"$f":"SUM(Αναλυτικά!Y69)","v":0},{"$f":"SUM(Αναλυτικά!Z69:AA69)","v":2},{"$f":"SUM(Αναλυτικά!AB69:AC69)","v":2},{"$f":"SUM(Αναλυτικά!AD69:AE69)","v":1},{"$f":"SUM(Αναλυτικά!AF69:AK69)","v":11},{"$f":"SUM(Αναλυτικά!AL69:AN69)","v":1},{"$f":"SUM(Αναλυτικά!AO69:AP69)","v":0},108]
[83,null,null,61,{"$f":"Αναλυτικά!E70","v":"ΚΙΤΣΟΥ ΣΟΦΙΑ του ΧΑΡΑΛΑΜΠΟΥ"},{"$f":"SUM(Αναλυτικά!F70:J70)","v":81},{"$f":"SUM(Αναλυτικά!K70)","v":21},{"$f":"SUM(Αναλυτικά!L70:M70)","v":4},{"$f":"SUM(Αναλυτικά!N70:P70)","v":17},{"$f":"SUM(Αναλυτικά!Q70:S70)","v":14},{"$f":"SUM(Αναλυτικά!T70:U70)","v":7},{"$f":"SUM(Αναλυτικά!V70:X70)","v":13},{"$f":"SUM(Αναλυτικά!Y70)","v":14},{"$f":"SUM(Αναλυτικά!Z70:AA70)","v":5},{"$f":"SUM(Αναλυτικά!AB70:AC70)","v":10},{"$f":"SUM(Αναλυτικά!AD70:AE70)","v":17},{"$f":"SUM(Αναλυτικά!AF70:AK70)","v":86},{"$f":"SUM(Αναλυτικά!AL70:AN70)","v":12},{"$f":"SUM(Αναλυτικά!AO70:AP70)","v":4},305]
[84,null,null,62,{"$f":"Αναλυτικά!E71","v":"ΛΕΙΒΑΔΑΡΟΣ ΕΜΜΑΝΟΥΗΛ (ΚΟΣΚΩΤΑΣ) του ΠΕΤΡΟΥ"},{"$f":"SUM(Αναλυτικά!F71:J71)","v":19},{"$f":"SUM(Αναλυτικά!K71)","v":2},{"$f":"SUM(Αναλυτικά!L71:M71)","v":7},{"$f":"SUM(Αναλυτικά!N71:P71)","v":5},{"$f":"SUM(Αναλυτικά!Q71:S71)","v":10},{"$f":"SUM(Αναλυτικά!T71:U71)","v":3},{"$f":"SUM(Αναλυτικά!V71:X71)","v":4},{"$f":"SUM(Αναλυτικά!Y71)","v":2},{"$f":"SUM(Αναλυτικά!Z71:AA71)","v":10},{"$f":"SUM(Αναλυτικά!AB71:AC71)","v":32},{"$f":"SUM(Αναλυτικά!AD71:AE71)","v":9},{"$f":"SUM(Αναλυτικά!AF71:AK71)","v":91},{"$f":"SUM(Αναλυτικά!AL71:AN71)","v":0},{"$f":"SUM(Αναλυτικά!AO71:AP71)","v":8},202]
[85,null,null,63,{"$f":"Αναλυτικά!E72","v":"ΜΑΝΤΟΥΣΗΣ ΓΡΗΓΟΡΙΟΣ του ΘΕΟΔΩΡΟΥ"},{"$f":"SUM(Αναλυτικά!F72:J72)","v":80},{"$f":"SUM(Αναλυτικά!K72)","v":19},{"$f":"SUM(Αναλυτικά!L72:M72)","v":6},{"$f":"SUM(Αναλυτικά!N72:P72)","v":23},{"$f":"SUM(Αναλυτικά!Q72:S72)","v":19},{"$f":"SUM(Αναλυτικά!T72:U72)","v":7},{"$f":"SUM(Αναλυτικά!V72:X72)","v":15},{"$f":"SUM(Αναλυτικά!Y72)","v":9},{"$f":"SUM(Αναλυτικά!Z72:AA72)","v":6},{"$f":"SUM(Αναλυτικά!AB72:AC72)","v":9},{"$f":"SUM(Αναλυτικά!AD72:AE72)","v":6},{"$f":"SUM(Αναλυτικά!AF72:AK72)","v":101},{"$f":"SUM(Αναλυτικά!AL72:AN72)","v":7},{"$f":"SUM(Αναλυτικά!AO72:AP72)","v":5},312]
[86,null,null,64,{"$f":"Αναλυτικά!E73","v":"ΜΠΑΝΟΣ ΔΗΜΗΤΡΙΟΣ του ΕΥΑΓΓΕΛΟΥ"},{"$f":"SUM(Αναλυτικά!F73:J73)","v":10},{"$f":"SUM(Αναλυτικά!K73)","v":0},{"$f":"SUM(Αναλυτικά!L73:M73)","v":6},{"$f":"SUM(Αναλυτικά!N73:P73)","v":3},{"$f":"SUM(Αναλυτικά!Q73:S73)","v":7},{"$f":"SUM(Αναλυτικά!T73:U73)","v":4},{"$f":"SUM(Αναλυτικά!V73:X73)","v":3},{"$f":"SUM(Αναλυτικά!Y73)","v":3},{"$f":"SUM(Αναλυτικά!Z73:AA73)","v":1},{"$f":"SUM(Αναλυτικά!AB73:AC73)","v":1},{"$f":"SUM(Αναλυτικά!AD73:AE73)","v":4},{"$f":"SUM(Αναλυτικά!AF73:AK73)","v":154},{"$f":"SUM(Αναλυτικά!AL73:AN73)","v":1},{"$f":"SUM(Αναλυτικά!AO73:AP73)","v":0},197]
[87,null,null,65,{"$f":"Αναλυτικά!E74","v":"ΜΠΙΣΛΙΑΓΑΚΗ ΒΑΓΙΑ του ΠΑΣΧΑΛΗ"},{"$f":"SUM(Αναλυτικά!F74:J74)","v":9},{"$f":"SUM(Αναλυτικά!K74)","v":0},{"$f":"SUM(Αναλυτικά!L74:M74)","v":0},{"$f":"SUM(Αναλυτικά!N74:P74)","v":0},{"$f":"SUM(Αναλυτικά!Q74:S74)","v":1},{"$f":"SUM(Αναλυτικά!T74:U74)","v":0},{"$f":"SUM(Αναλυτικά!V74:X74)","v":3},{"$f":"SUM(Αναλυτικά!Y74)","v":14},{"$f":"SUM(Αναλυτικά!Z74:AA74)","v":0},{"$f":"SUM(Αναλυτικά!AB74:AC74)","v":0},{"$f":"SUM(Αναλυτικά!AD74:AE74)","v":0},{"$f":"SUM(Αναλυτικά!AF74:AK74)","v":6},{"$f":"SUM(Αναλυτικά!AL74:AN74)","v":0},{"$f":"SUM(Αναλυτικά!AO74:AP74)","v":0},33]
[88,null,null,66,{"$f":"Αναλυτικά!E75","v":"ΜΠΟΥΛΙΕΡΗ ΛΑΜΠΡΙΝΗ (ΣΙΓΑΛΑ) του ΠΑΝΑΓΙΩΤΗ"},{"$f":"SUM(Αναλυτικά!F75:J75)","v":8},{"$f":"SUM(Αναλυτικά!K75)","v":0},{"$f":"SUM(Αναλυτικά!L75:M75)","v":0},{"$f":"SUM(Αναλυτικά!N75:P75)","v":8},{"$f":"SUM(Αναλυτικά!Q75:S75)","v":2},{"$f":"SUM(Αναλυτικά!T75:U75)","v":1},{"$f":"SUM(Αναλυτικά!V75:X75)","v":23},{"$f":"SUM(Αναλυτικά!Y75)","v":8},{"$f":"SUM(Αναλυτικά!Z75:AA75)","v":0},{"$f":"SUM(Αναλυτικά!AB75:AC75)","v":0},{"$f":"SUM(Αναλυτικά!AD75:AE75)","v":0},{"$f":"SUM(Αναλυτικά!AF75:AK75)","v":3},{"$f":"SUM(Αναλυτικά!AL75:AN75)","v":0},{"$f":"SUM(Αναλυτικά!AO75:AP75)","v":0},53]
[89,null,null,67,{"$f":"Αναλυτικά!E76","v":"ΞΑΓΟΡΑΡΗΣ ΑΝΤΩΝΙΟΣ (ΚΑΡΑΜΑΛΗΣ) του ΕΥΣΤΑΘΙΟΥ"},{"$f":"SUM(Αναλυτικά!F76:J76)","v":31},{"$f":"SUM(Αναλυτικά!K76)","v":1},{"$f":"SUM(Αναλυτικά!L76:M76)","v":1},{"$f":"SUM(Αναλυτικά!N76:P76)","v":7},{"$f":"SUM(Αναλυτικά!Q76:S76)","v":7},{"$f":"SUM(Αναλυτικά!T76:U76)","v":0},{"$f":"SUM(Αναλυτικά!V76:X76)","v":4},{"$f":"SUM(Αναλυτικά!Y76)","v":1},{"$f":"SUM(Αναλυτικά!Z76:AA76)","v":2},{"$f":"SUM(Αναλυτικά!AB76:AC76)","v":0},{"$f":"SUM(Αναλυτικά!AD76:AE76)","v":1},{"$f":"SUM(Αναλυτικά!AF76:AK76)","v":8},{"$f":"SUM(Αναλυτικά!AL76:AN76)","v":0},{"$f":"SUM(Αναλυτικά!AO76:AP76)","v":3},66]
[90,null,null,68,{"$f":"Αναλυτικά!E77","v":"ΠΑΛΑΙΟΛΟΓΟΥ ΝΙΚΟΛΙΤΣΑ του ΠΑΝΑΓΙΩΤΗ"},{"$f":"SUM(Αναλυτικά!F77:J77)","v":4},{"$f":"SUM(Αναλυτικά!K77)","v":0},{"$f":"SUM(Αναλυτικά!L77:M77)","v":0},{"$f":"SUM(Αναλυτικά!N77:P77)","v":5},{"$f":"SUM(Αναλυτικά!Q77:S77)","v":0},{"$f":"SUM(Αναλυτικά!T77:U77)","v":2},{"$f":"SUM(Αναλυτικά!V77:X77)","v":2},{"$f":"SUM(Αναλυτικά!Y77)","v":0},{"$f":"SUM(Αναλυτικά!Z77:AA77)","v":0},{"$f":"SUM(Αναλυτικά!AB77:AC77)","v":1},{"$f":"SUM(Αναλυτικά!AD77:AE77)","v":0},{"$f":"SUM(Αναλυτικά!AF77:AK77)","v":3},{"$f":"SUM(Αναλυτικά!AL77:AN77)","v":0},{"$f":"SUM(Αναλυτικά!AO77:AP77)","v":1},18]
[91,null,null,69,{"$f":"Αναλυτικά!E78","v":"ΠΑΠΑΪΩΑΝΝΟΥ ΙΩΑΝΝΑ του ΑΠΟΣΤΟΛΟΥ"},{"$f":"SUM(Αναλυτικά!F78:J78)","v":3},{"$f":"SUM(Αναλυτικά!K78)","v":0},{"$f":"SUM(Αναλυτικά!L78:M78)","v":0},{"$f":"SUM(Αναλυτικά!N78:P78)","v":0},{"$f":"SUM(Αναλυτικά!Q78:S78)","v":0},{"$f":"SUM(Αναλυτικά!T78:U78)","v":0},{"$f":"SUM(Αναλυτικά!V78:X78)","v":0},{"$f":"SUM(Αναλυτικά!Y78)","v":4},{"$f":"SUM(Αναλυτικά!Z78:AA78)","v":1},{"$f":"SUM(Αναλυτικά!AB78:AC78)","v":0},{"$f":"SUM(Αναλυτικά!AD78:AE78)","v":0},{"$f":"SUM(Αναλυτικά!AF78:AK78)","v":2},{"$f":"SUM(Αναλυτικά!AL78:AN78)","v":0},{"$f":"SUM(Αναλυτικά!AO78:AP78)","v":0},10]
[92,null,null,70,{"$f":"Αναλυτικά!E79","v":"ΠΑΣΣΑΡΗΣ ΜΑΡΙΟΣ του ΕΛΕΥΘΕΡΙΟΥ"},{"$f":"SUM(Αναλυτικά!F79:J79)","v":7},{"$f":"SUM(Αναλυτικά!K79)","v":11},{"$f":"SUM(Αναλυτικά!L79:M79)","v":0},{"$f":"SUM(Αναλυτικά!N79:P79)","v":0},{"$f":"SUM(Αναλυτικά!Q79:S79)","v":3},{"$f":"SUM(Αναλυτικά!T79:U79)","v":1},{"$f":"SUM(Αναλυτικά!V79:X79)","v":0},{"$f":"SUM(Αναλυτικά!Y79)","v":1},{"$f":"SUM(Αναλυτικά!Z79:AA79)","v":0},{"$f":"SUM(Αναλυτικά!AB79:AC79)","v":8},{"$f":"SUM(Αναλυτικά!AD79:AE79)","v":1},{"$f":"SUM(Αναλυτικά!AF79:AK79)","v":10},{"$f":"SUM(Αναλυτικά!AL79:AN79)","v":3},{"$f":"SUM(Αναλυτικά!AO79:AP79)","v":0},45]
[93,null,null,71,{"$f":"Αναλυτικά!E80","v":"ΠΡΕΚΑ ΣΠΥΡΙΔΟΥΛΑ του ΑΓΓΕΛΟΥ"},{"$f":"SUM(Αναλυτικά!F80:J80)","v":1},{"$f":"SUM(Αναλυτικά!K80)","v":0},{"$f":"SUM(Αναλυτικά!L80:M80)","v":0},{"$f":"SUM(Αναλυτικά!N80:P80)","v":3},{"$f":"SUM(Αναλυτικά!Q80:S80)","v":2},{"$f":"SUM(Αναλυτικά!T80:U80)","v":0},{"$f":"SUM(Αναλυτικά!V80:X80)","v":3},{"$f":"SUM(Αναλυτικά!Y80)","v":0},{"$f":"SUM(Αναλυτικά!Z80:AA80)","v":3},{"$f":"SUM(Αναλυτικά!AB80:AC80)","v":5},{"$f":"SUM(Αναλυτικά!AD80:AE80)","v":1},{"$f":"SUM(Αναλυτικά!AF80:AK80)","v":191},{"$f":"SUM(Αναλυτικά!AL80:AN80)","v":1},{"$f":"SUM(Αναλυτικά!AO80:AP80)","v":0},210]
[94,null,null,72,{"$f":"Αναλυτικά!E81","v":"ΡΕΝΙΕΡΗΣ ΓΕΩΡΓΙΟΣ (ΜΠΑΤΟΥΡΟΣ) του ΕΛΕΥΘΕΡΙΟΥ"},{"$f":"SUM(Αναλυτικά!F81:J81)","v":56},{"$f":"SUM(Αναλυτικά!K81)","v":2},{"$f":"SUM(Αναλυτικά!L81:M81)","v":4},{"$f":"SUM(Αναλυτικά!N81:P81)","v":2},{"$f":"SUM(Αναλυτικά!Q81:S81)","v":0},{"$f":"SUM(Αναλυτικά!T81:U81)","v":1},{"$f":"SUM(Αναλυτικά!V81:X81)","v":1},{"$f":"SUM(Αναλυτικά!Y81)","v":0},{"$f":"SUM(Αναλυτικά!Z81:AA81)","v":0},{"$f":"SUM(Αναλυτικά!AB81:AC81)","v":0},{"$f":"SUM(Αναλυτικά!AD81:AE81)","v":0},{"$f":"SUM(Αναλυτικά!AF81:AK81)","v":9},{"$f":"SUM(Αναλυτικά!AL81:AN81)","v":0},{"$f":"SUM(Αναλυτικά!AO81:AP81)","v":0},75]
[95,null,null,73,{"$f":"Αναλυτικά!E82","v":"ΡΟΥΣΣΟΣ ΕΥΑΓΓΕΛΟΣ (ΛΟΝΤΟΣ) του ΝΙΚΟΛΑΟΥ"},{"$f":"SUM(Αναλυτικά!F82:J82)","v":9},{"$f":"SUM(Αναλυτικά!K82)","v":0},{"$f":"SUM(Αναλυτικά!L82:M82)","v":0},{"$f":"SUM(Αναλυτικά!N82:P82)","v":21},{"$f":"SUM(Αναλυτικά!Q82:S82)","v":0},{"$f":"SUM(Αναλυτικά!T82:U82)","v":0},{"$f":"SUM(Αναλυτικά!V82:X82)","v":1},{"$f":"SUM(Αναλυτικά!Y82)","v":0},{"$f":"SUM(Αναλυτικά!Z82:AA82)","v":1},{"$f":"SUM(Αναλυτικά!AB82:AC82)","v":2},{"$f":"SUM(Αναλυτικά!AD82:AE82)","v":0},{"$f":"SUM(Αναλυτικά!AF82:AK82)","v":5},{"$f":"SUM(Αναλυτικά!AL82:AN82)","v":0},{"$f":"SUM(Αναλυτικά!AO82:AP82)","v":1},40]
[96,null,null,74,{"$f":"Αναλυτικά!E83","v":"ΣΙΓΑΛΑ ΚΑΛΛΙΟΠΗ (ΒΑΒΟΥΛΑ) συζ. ΑΝΤΩΝΙΟΥ"},{"$f":"SUM(Αναλυτικά!F83:J83)","v":17},{"$f":"SUM(Αναλυτικά!K83)","v":2},{"$f":"SUM(Αναλυτικά!L83:M83)","v":5},{"$f":"SUM(Αναλυτικά!N83:P83)","v":0},{"$f":"SUM(Αναλυτικά!Q83:S83)","v":3},{"$f":"SUM(Αναλυτικά!T83:U83)","v":0},{"$f":"SUM(Αναλυτικά!V83:X83)","v":3},{"$f":"SUM(Αναλυτικά!Y83)","v":3},{"$f":"SUM(Αναλυτικά!Z83:AA83)","v":4},{"$f":"SUM(Αναλυτικά!AB83:AC83)","v":5},{"$f":"SUM(Αναλυτικά!AD83:AE83)","v":5},{"$f":"SUM(Αναλυτικά!AF83:AK83)","v":229},{"$f":"SUM(Αναλυτικά!AL83:AN83)","v":5},{"$f":"SUM(Αναλυτικά!AO83:AP83)","v":20},301]
[97,null,null,75,{"$f":"Αναλυτικά!E84","v":"ΣΤΕΦΑΝΑΚΗΣ ΓΕΩΡΓΙΟΣ του ΔΗΜΗΤΡΙΟΥ"},{"$f":"SUM(Αναλυτικά!F84:J84)","v":22},{"$f":"SUM(Αναλυτικά!K84)","v":0},{"$f":"SUM(Αναλυτικά!L84:M84)","v":0},{"$f":"SUM(Αναλυτικά!N84:P84)","v":6},{"$f":"SUM(Αναλυτικά!Q84:S84)","v":10},{"$f":"SUM(Αναλυτικά!T84:U84)","v":1},{"$f":"SUM(Αναλυτικά!V84:X84)","v":1},{"$f":"SUM(Αναλυτικά!Y84)","v":1},{"$f":"SUM(Αναλυτικά!Z84:AA84)","v":2},{"$f":"SUM(Αναλυτικά!AB84:AC84)","v":3},{"$f":"SUM(Αναλυτικά!AD84:AE84)","v":9},{"$f":"SUM(Αναλυτικά!AF84:AK84)","v":292},{"$f":"SUM(Αναλυτικά!AL84:AN84)","v":1},{"$f":"SUM(Αναλυτικά!AO84:AP84)","v":0},348]
[98,null,null,76,{"$f":"Αναλυτικά!E85","v":"ΦΙΛΙΠΠΑΙΟΥ ΜΑΡΙΑ του ΚΩΝΣΤΑΝΤΙΝΟΥ"},{"$f":"SUM(Αναλυτικά!F85:J85)","v":4},{"$f":"SUM(Αναλυτικά!K85)","v":0},{"$f":"SUM(Αναλυτικά!L85:M85)","v":0},{"$f":"SUM(Αναλυτικά!N85:P85)","v":5},{"$f":"SUM(Αναλυτικά!Q85:S85)","v":3},{"$f":"SUM(Αναλυτικά!T85:U85)","v":2},{"$f":"SUM(Αναλυτικά!V85:X85)","v":5},{"$f":"SUM(Αναλυτικά!Y85)","v":0},{"$f":"SUM(Αναλυτικά!Z85:AA85)","v":2},{"$f":"SUM(Αναλυτικά!AB85:AC85)","v":0},{"$f":"SUM(Αναλυτικά!AD85:AE85)","v":2},{"$f":"SUM(Αναλυτικά!AF85:AK85)","v":3},{"$f":"SUM(Αναλυτικά!AL85:AN85)","v":1},{"$f":"SUM(Αναλυτικά!AO85:AP85)","v":0},27]
[99,null,null,77,{"$f":"Αναλυτικά!E86","v":"ΧΑΛΑΡΗΣ ΕΥΑΓΓΕΛΟΣ (ΣΚΑΡΑΜΑΓΚΑΣ) του ΕΜΜΑΝΟΥΗΛ"},{"$f":"SUM(Αναλυτικά!F86:J86)","v":19},{"$f":"SUM(Αναλυτικά!K86)","v":0},{"$f":"SUM(Αναλυτικά!L86:M86)","v":4},{"$f":"SUM(Αναλυτικά!N86:P86)","v":10},{"$f":"SUM(Αναλυτικά!Q86:S86)","v":1},{"$f":"SUM(Αναλυτικά!T86:U86)","v":0},{"$f":"SUM(Αναλυτικά!V86:X86)","v":3},{"$f":"SUM(Αναλυτικά!Y86)","v":2},{"$f":"SUM(Αναλυτικά!Z86:AA86)","v":0},{"$f":"SUM(Αναλυτικά!AB86:AC86)","v":0},{"$f":"SUM(Αναλυτικά!AD86:AE86)","v":2},{"$f":"SUM(Αναλυτικά!AF86:AK86)","v":17},{"$f":"SUM(Αναλυτικά!AL86:AN86)","v":1},{"$f":"SUM(Αναλυτικά!AO86:AP86)","v":1},60]
[112,{"$nulls":3},"ΔΗΜΟΤΙΚΗ ΕΝΟΤΗΤΑ ΟΙΑΣ"]
[113,null,null,78,{"$f":"Αναλυτικά!E88","v":"ΚΟΥΡΤΗ ΧΑΡΟΥΛΑ του ΦΩΤΙΟΥ‑ΘΕΟΦΑΝΟΥΣ"},{"$f":"SUM(Αναλυτικά!F88:J88)","v":15},{"$f":"SUM(Αναλυτικά!K88)","v":2},{"$f":"SUM(Αναλυτικά!L88:M88)","v":1},{"$f":"SUM(Αναλυτικά!N88:P88)","v":6},{"$f":"SUM(Αναλυτικά!Q88:S88)","v":4},{"$f":"SUM(Αναλυτικά!T88:U88)","v":0},{"$f":"SUM(Αναλυτικά!V88:X88)","v":10},{"$f":"SUM(Αναλυτικά!Y88)","v":3},{"$f":"SUM(Αναλυτικά!Z88:AA88)","v":0},{"$f":"SUM(Αναλυτικά!AB88:AC88)","v":6},{"$f":"SUM(Αναλυτικά!AD88:AE88)","v":6},{"$f":"SUM(Αναλυτικά!AF88:AK88)","v":35},{"$f":"SUM(Αναλυτικά!AL88:AN88)","v":9},{"$f":"SUM(Αναλυτικά!AO88:AP88)","v":0},{"$f":"SUM(F86:S86)","v":97}]
[114,null,null,79,{"$f":"Αναλυτικά!E89","v":"ΜΑΡΚΟΖΑΝΕΣ ΣΙΓΟΥΡΑΣ του ΠΑΝΑΓΙΩΤΗ"},{"$f":"SUM(Αναλυτικά!F89:J89)","v":8},{"$f":"SUM(Αναλυτικά!K89)","v":4},{"$f":"SUM(Αναλυτικά!L89:M89)","v":0},{"$f":"SUM(Αναλυτικά!N89:P89)","v":3},{"$f":"SUM(Αναλυτικά!Q89:S89)","v":5},{"$f":"SUM(Αναλυτικά!T89:U89)","v":2},{"$f":"SUM(Αναλυτικά!V89:X89)","v":2},{"$f":"SUM(Αναλυτικά!Y89)","v":4},{"$f":"SUM(Αναλυτικά!Z89:AA89)","v":12},{"$f":"SUM(Αναλυτικά!AB89:AC89)","v":4},{"$f":"SUM(Αναλυτικά!AD89:AE89)","v":7},{"$f":"SUM(Αναλυτικά!AF89:AK89)","v":116},{"$f":"SUM(Αναλυτικά!AL89:AN89)","v":11},{"$f":"SUM(Αναλυτικά!AO89:AP89)","v":0},178]
[115,null,null,80,{"$f":"Αναλυτικά!E90","v":"ΠΕΛΕΚΑΝΟΥ ΣΟΦΙΑ ‑ ΡΟΖΑ του ΛΟΥΚΑ"},{"$f":"SUM(Αναλυτικά!F90:J90)","v":24},{"$f":"SUM(Αναλυτικά!K90)","v":4},{"$f":"SUM(Αναλυτικά!L90:M90)","v":26},{"$f":"SUM(Αναλυτικά!N90:P90)","v":8},{"$f":"SUM(Αναλυτικά!Q90:S90)","v":11},{"$f":"SUM(Αναλυτικά!T90:U90)","v":2},{"$f":"SUM(Αναλυτικά!V90:X90)","v":7},{"$f":"SUM(Αναλυτικά!Y90)","v":6},{"$f":"SUM(Αναλυτικά!Z90:AA90)","v":8},{"$f":"SUM(Αναλυτικά!AB90:AC90)","v":3},{"$f":"SUM(Αναλυτικά!AD90:AE90)","v":3},{"$f":"SUM(Αναλυτικά!AF90:AK90)","v":199},{"$f":"SUM(Αναλυτικά!AL90:AN90)","v":15},{"$f":"SUM(Αναλυτικά!AO90:AP90)","v":1},317]
[116,null,null,81,{"$f":"Αναλυτικά!E91","v":"ΠΙΤΣΙΚΑΛΗΣ ΜΑΡΙΝΟΣ του ΜΑΤΘΑΙΟΥ"},{"$f":"SUM(Αναλυτικά!F91:J91)","v":12},{"$f":"SUM(Αναλυτικά!K91)","v":2},{"$f":"SUM(Αναλυτικά!L91:M91)","v":1},{"$f":"SUM(Αναλυτικά!N91:P91)","v":6},{"$f":"SUM(Αναλυτικά!Q91:S91)","v":5},{"$f":"SUM(Αναλυτικά!T91:U91)","v":0},{"$f":"SUM(Αναλυτικά!V91:X91)","v":4},{"$f":"SUM(Αναλυτικά!Y91)","v":5},{"$f":"SUM(Αναλυτικά!Z91:AA91)","v":2},{"$f":"SUM(Αναλυτικά!AB91:AC91)","v":7},{"$f":"SUM(Αναλυτικά!AD91:AE91)","v":5},{"$f":"SUM(Αναλυτικά!AF91:AK91)","v":71},{"$f":"SUM(Αναλυτικά!AL91:AN91)","v":2},{"$f":"SUM(Αναλυτικά!AO91:AP91)","v":56},178]
[117,null,null,82,{"$f":"Αναλυτικά!E92","v":"ΣΙΓΑΛΑΣ ΣΤΑΥΡΟΣ του ΠΕΤΡΟΥ"},{"$f":"SUM(Αναλυτικά!F92:J92)","v":58},{"$f":"SUM(Αναλυτικά!K92)","v":14},{"$f":"SUM(Αναλυτικά!L92:M92)","v":1},{"$f":"SUM(Αναλυτικά!N92:P92)","v":12},{"$f":"SUM(Αναλυτικά!Q92:S92)","v":18},{"$f":"SUM(Αναλυτικά!T92:U92)","v":6},{"$f":"SUM(Αναλυτικά!V92:X92)","v":7},{"$f":"SUM(Αναλυτικά!Y92)","v":3},{"$f":"SUM(Αναλυτικά!Z92:AA92)","v":8},{"$f":"SUM(Αναλυτικά!AB92:AC92)","v":12},{"$f":"SUM(Αναλυτικά!AD92:AE92)","v":3},{"$f":"SUM(Αναλυτικά!AF92:AK92)","v":197},{"$f":"SUM(Αναλυτικά!AL92:AN92)","v":21},{"$f":"SUM(Αναλυτικά!AO92:AP92)","v":2},362]
[119,"Λαϊκή Συσπείρωση",null,null,"ΔΗΜΟΤΙΚΗ ΕΝΟΤΗΤΑ ΘΗΡΑΣ"]
[120,null,null,83,{"$f":"Αναλυτικά!E94","v":"ΑΡΓΥΡΟΣ ΑΡΤΕΜΙΟΣ του ΙΩΑΝΝΗ"},{"$f":"SUM(Αναλυτικά!F94:J94)","v":4},{"$f":"SUM(Αναλυτικά!K94)","v":2},{"$f":"SUM(Αναλυτικά!L94:M94)","v":0},{"$f":"SUM(Αναλυτικά!N94:P94)","v":1},{"$f":"SUM(Αναλυτικά!Q94:S94)","v":1},{"$f":"SUM(Αναλυτικά!T94:U94)","v":1},{"$f":"SUM(Αναλυτικά!V94:X94)","v":48},{"$f":"SUM(Αναλυτικά!Y94)","v":2},{"$f":"SUM(Αναλυτικά!Z94:AA94)","v":3},{"$f":"SUM(Αναλυτικά!AB94:AC94)","v":3},{"$f":"SUM(Αναλυτικά!AD94:AE94)","v":2},{"$f":"SUM(Αναλυτικά!AF94:AK94)","v":2},{"$f":"SUM(Αναλυτικά!AL94:AN94)","v":2},{"$f":"SUM(Αναλυτικά!AO94:AP94)","v":1},{"$f":"SUM(F92:S92)","v":72}]
[121,null,null,84,{"$f":"Αναλυτικά!E95","v":"ΑΣΗΜΑΚΟΠΟΥΛΟΣ ΝΙΚΟΛΑΟΣ του ΓΕΩΡΓΙΟΥ"},{"$f":"SUM(Αναλυτικά!F95:J95)","v":2},{"$f":"SUM(Αναλυτικά!K95)","v":10},{"$f":"SUM(Αναλυτικά!L95:M95)","v":0},{"$f":"SUM(Αναλυτικά!N95:P95)","v":1},{"$f":"SUM(Αναλυτικά!Q95:S95)","v":1},{"$f":"SUM(Αναλυτικά!T95:U95)","v":0},{"$f":"SUM(Αναλυτικά!V95:X95)","v":4},{"$f":"SUM(Αναλυτικά!Y95)","v":0},{"$f":"SUM(Αναλυτικά!Z95:AA95)","v":0},{"$f":"SUM(Αναλυτικά!AB95:AC95)","v":0},{"$f":"SUM(Αναλυτικά!AD95:AE95)","v":0},{"$f":"SUM(Αναλυτικά!AF95:AK95)","v":6},{"$f":"SUM(Αναλυτικά!AL95:AN95)","v":0},{"$f":"SUM(Αναλυτικά!AO95:AP95)","v":0},24]
[122,null,null,85,{"$f":"Αναλυτικά!E96","v":"ΒΑΪΛΑ ΦΩΤΕΙΝΗ του ΑΝΤΩΝΙΟΥ"},{"$f":"SUM(Αναλυτικά!F96:J96)","v":8},{"$f":"SUM(Αναλυτικά!K96)","v":1},{"$f":"SUM(Αναλυτικά!L96:M96)","v":0},{"$f":"SUM(Αναλυτικά!N96:P96)","v":1},{"$f":"SUM(Αναλυτικά!Q96:S96)","v":5},{"$f":"SUM(Αναλυτικά!T96:U96)","v":1},{"$f":"SUM(Αναλυτικά!V96:X96)","v":139},{"$f":"SUM(Αναλυτικά!Y96)","v":5},{"$f":"SUM(Αναλυτικά!Z96:AA96)","v":1},{"$f":"SUM(Αναλυτικά!AB96:AC96)","v":0},{"$f":"SUM(Αναλυτικά!AD96:AE96)","v":0},{"$f":"SUM(Αναλυτικά!AF96:AK96)","v":1},{"$f":"SUM(Αναλυτικά!AL96:AN96)","v":1},{"$f":"SUM(Αναλυτικά!AO96:AP96)","v":0},163]
[123,null,null,86,{"$f":"Αναλυτικά!E97","v":"ΔΑΜΙΓΟΣ ΜΗΝΑΣ του ΝΙΚΟΛΑΟΥ"},{"$f":"SUM(Αναλυτικά!F97:J97)","v":1},{"$f":"SUM(Αναλυτικά!K97)","v":1},{"$f":"SUM(Αναλυτικά!L97:M97)","v":2},{"$f":"SUM(Αναλυτικά!N97:P97)","v":3},{"$f":"SUM(Αναλυτικά!Q97:S97)","v":2},{"$f":"SUM(Αναλυτικά!T97:U97)","v":1},{"$f":"SUM(Αναλυτικά!V97:X97)","v":13},{"$f":"SUM(Αναλυτικά!Y97)","v":1},{"$f":"SUM(Αναλυτικά!Z97:AA97)","v":2},{"$f":"SUM(Αναλυτικά!AB97:AC97)","v":1},{"$f":"SUM(Αναλυτικά!AD97:AE97)","v":0},{"$f":"SUM(Αναλυτικά!AF97:AK97)","v":0},{"$f":"SUM(Αναλυτικά!AL97:AN97)","v":0},{"$f":"SUM(Αναλυτικά!AO97:AP97)","v":0},27]
[124,null,null,87,{"$f":"Αναλυτικά!E98","v":"ΔΙΟΝΥΣΙΟΥ ΑΘΗΝΑ ΕΛΕΥΘΕΡΙΑ του ΙΩΑΝΝΗ"},{"$f":"SUM(Αναλυτικά!F98:J98)","v":1},{"$f":"SUM(Αναλυτικά!K98)","v":0},{"$f":"SUM(Αναλυτικά!L98:M98)","v":0},{"$f":"SUM(Αναλυτικά!N98:P98)","v":2},{"$f":"SUM(Αναλυτικά!Q98:S98)","v":4},{"$f":"SUM(Αναλυτικά!T98:U98)","v":1},{"$f":"SUM(Αναλυτικά!V98:X98)","v":0},{"$f":"SUM(Αναλυτικά!Y98)","v":1},{"$f":"SUM(Αναλυτικά!Z98:AA98)","v":1},{"$f":"SUM(Αναλυτικά!AB98:AC98)","v":1},{"$f":"SUM(Αναλυτικά!AD98:AE98)","v":1},{"$f":"SUM(Αναλυτικά!AF98:AK98)","v":3},{"$f":"SUM(Αναλυτικά!AL98:AN98)","v":0},{"$f":"SUM(Αναλυτικά!AO98:AP98)","v":1},16]
[125,null,null,88,{"$f":"Αναλυτικά!E99","v":"ΔΡΟΣΟΥ ΜΑΡΟΥΣΩ του ΜΑΡΚΟΥ"},{"$f":"SUM(Αναλυτικά!F99:J99)","v":1},{"$f":"SUM(Αναλυτικά!K99)","v":0},{"$f":"SUM(Αναλυτικά!L99:M99)","v":1},{"$f":"SUM(Αναλυτικά!N99:P99)","v":0},{"$f":"SUM(Αναλυτικά!Q99:S99)","v":14},{"$f":"SUM(Αναλυτικά!T99:U99)","v":3},{"$f":"SUM(Αναλυτικά!V99:X99)","v":8},{"$f":"SUM(Αναλυτικά!Y99)","v":0},{"$f":"SUM(Αναλυτικά!Z99:AA99)","v":1},{"$f":"SUM(Αναλυτικά!AB99:AC99)","v":0},{"$f":"SUM(Αναλυτικά!AD99:AE99)","v":0},{"$f":"SUM(Αναλυτικά!AF99:AK99)","v":14},{"$f":"SUM(Αναλυτικά!AL99:AN99)","v":0},{"$f":"SUM(Αναλυτικά!AO99:AP99)","v":0},42]
[126,null,null,89,{"$f":"Αναλυτικά!E100","v":"ΖΩΡΖΟΣ ΜΙΧΑΗΛ του ΘΕΜΙΣΤΟΚΛΗ"},{"$f":"SUM(Αναλυτικά!F100:J100)","v":4},{"$f":"SUM(Αναλυτικά!K100)","v":0},{"$f":"SUM(Αναλυτικά!L100:M100)","v":0},{"$f":"SUM(Αναλυτικά!N100:P100)","v":1},{"$f":"SUM(Αναλυτικά!Q100:S100)","v":1},{"$f":"SUM(Αναλυτικά!T100:U100)","v":1},{"$f":"SUM(Αναλυτικά!V100:X100)","v":11},{"$f":"SUM(Αναλυτικά!Y100)","v":1},{"$f":"SUM(Αναλυτικά!Z100:AA100)","v":3},{"$f":"SUM(Αναλυτικά!AB100:AC100)","v":1},{"$f":"SUM(Αναλυτικά!AD100:AE100)","v":25},{"$f":"SUM(Αναλυτικά!AF100:AK100)","v":2},{"$f":"SUM(Αναλυτικά!AL100:AN100)","v":0},{"$f":"SUM(Αναλυτικά!AO100:AP100)","v":0},50]
[127,null,null,90,{"$f":"Αναλυτικά!E101","v":"ΘΕΟΔΩΡΟΠΟΥΛΟΣ ΚΩΝΣΤΑΝΤΙΝΟΣ του ΠΑΝΑΓΙΩΤΗ"},{"$f":"SUM(Αναλυτικά!F101:J101)","v":4},{"$f":"SUM(Αναλυτικά!K101)","v":2},{"$f":"SUM(Αναλυτικά!L101:M101)","v":0},{"$f":"SUM(Αναλυτικά!N101:P101)","v":3},{"$f":"SUM(Αναλυτικά!Q101:S101)","v":68},{"$f":"SUM(Αναλυτικά!T101:U101)","v":2},{"$f":"SUM(Αναλυτικά!V101:X101)","v":0},{"$f":"SUM(Αναλυτικά!Y101)","v":3},{"$f":"SUM(Αναλυτικά!Z101:AA101)","v":2},{"$f":"SUM(Αναλυτικά!AB101:AC101)","v":2},{"$f":"SUM(Αναλυτικά!AD101:AE101)","v":2},{"$f":"SUM(Αναλυτικά!AF101:AK101)","v":16},{"$f":"SUM(Αναλυτικά!AL101:AN101)","v":1},{"$f":"SUM(Αναλυτικά!AO101:AP101)","v":0},105]
[128,null,null,91,{"$f":"Αναλυτικά!E102","v":"ΚΑΡΑΜΟΛΕΓΚΟΣ ΧΑΡΑΛΑΜΠΟΣ του ΓΕΩΡΓΙΟΥ"},{"$f":"SUM(Αναλυτικά!F102:J102)","v":2},{"$f":"SUM(Αναλυτικά!K102)","v":0},{"$f":"SUM(Αναλυτικά!L102:M102)","v":0},{"$f":"SUM(Αναλυτικά!N102:P102)","v":1},{"$f":"SUM(Αναλυτικά!Q102:S102)","v":1},{"$f":"SUM(Αναλυτικά!T102:U102)","v":1},{"$f":"SUM(Αναλυτικά!V102:X102)","v":43},{"$f":"SUM(Αναλυτικά!Y102)","v":0},{"$f":"SUM(Αναλυτικά!Z102:AA102)","v":3},{"$f":"SUM(Αναλυτικά!AB102:AC102)","v":1},{"$f":"SUM(Αναλυτικά!AD102:AE102)","v":6},{"$f":"SUM(Αναλυτικά!AF102:AK102)","v":10},{"$f":"SUM(Αναλυτικά!AL102:AN102)","v":0},{"$f":"SUM(Αναλυτικά!AO102:AP102)","v":0},68]
[129,null,null,92,{"$f":"Αναλυτικά!E103","v":"ΚΑΡΕΛΗ ΡΟΥΜΠΙΝΗ του ΙΩΑΝΝΗ"},{"$f":"SUM(Αναλυτικά!F103:J103)","v":4},{"$f":"SUM(Αναλυτικά!K103)","v":0},{"$f":"SUM(Αναλυτικά!L103:M103)","v":0},{"$f":"SUM(Αναλυτικά!N103:P103)","v":1},{"$f":"SUM(Αναλυτικά!Q103:S103)","v":2},{"$f":"SUM(Αναλυτικά!T103:U103)","v":0},{"$f":"SUM(Αναλυτικά!V103:X103)","v":1},{"$f":"SUM(Αναλυτικά!Y103)","v":0},{"$f":"SUM(Αναλυτικά!Z103:AA103)","v":3},{"$f":"SUM(Αναλυτικά!AB103:AC103)","v":0},{"$f":"SUM(Αναλυτικά!AD103:AE103)","v":5},{"$f":"SUM(Αναλυτικά!AF103:AK103)","v":8},{"$f":"SUM(Αναλυτικά!AL103:AN103)","v":0},{"$f":"SUM(Αναλυτικά!AO103:AP103)","v":1},25]
[130,null,null,93,{"$f":"Αναλυτικά!E104","v":"ΚΟΚΚΑΛΗ ΑΚΥΛΙΝΑ του ΜΙΧΑΗΛ"},{"$f":"SUM(Αναλυτικά!F104:J104)","v":10},{"$f":"SUM(Αναλυτικά!K104)","v":2},{"$f":"SUM(Αναλυτικά!L104:M104)","v":0},{"$f":"SUM(Αναλυτικά!N104:P104)","v":8},{"$f":"SUM(Αναλυτικά!Q104:S104)","v":10},{"$f":"SUM(Αναλυτικά!T104:U104)","v":3},{"$f":"SUM(Αναλυτικά!V104:X104)","v":47},{"$f":"SUM(Αναλυτικά!Y104)","v":4},{"$f":"SUM(Αναλυτικά!Z104:AA104)","v":7},{"$f":"SUM(Αναλυτικά!AB104:AC104)","v":3},{"$f":"SUM(Αναλυτικά!AD104:AE104)","v":5},{"$f":"SUM(Αναλυτικά!AF104:AK104)","v":40},{"$f":"SUM(Αναλυτικά!AL104:AN104)","v":2},{"$f":"SUM(Αναλυτικά!AO104:AP104)","v":2},143]
[131,null,null,94,{"$f":"Αναλυτικά!E105","v":"ΚΟΚΚΑΛΗ ΑΝΤΩΝΙΑ συζ. ΙΑΚΩΒΟΥ"},{"$f":"SUM(Αναλυτικά!F105:J105)","v":0},{"$f":"SUM(Αναλυτικά!K105)","v":1},{"$f":"SUM(Αναλυτικά!L105:M105)","v":0},{"$f":"SUM(Αναλυτικά!N105:P105)","v":1},{"$f":"SUM(Αναλυτικά!Q105:S105)","v":0},{"$f":"SUM(Αναλυτικά!T105:U105)","v":1},{"$f":"SUM(Αναλυτικά!V105:X105)","v":4},{"$f":"SUM(Αναλυτικά!Y105)","v":1},{"$f":"SUM(Αναλυτικά!Z105:AA105)","v":3},{"$f":"SUM(Αναλυτικά!AB105:AC105)","v":0},{"$f":"SUM(Αναλυτικά!AD105:AE105)","v":0},{"$f":"SUM(Αναλυτικά!AF105:AK105)","v":10},{"$f":"SUM(Αναλυτικά!AL105:AN105)","v":0},{"$f":"SUM(Αναλυτικά!AO105:AP105)","v":1},22]
[132,null,null,95,{"$f":"Αναλυτικά!E106","v":"ΛΙΚΑΪ ΡΕΑ του ΦΕΡΝΤΙΝΑΝΤ"},{"$f":"SUM(Αναλυτικά!F106:J106)","v":0},{"$f":"SUM(Αναλυτικά!K106)","v":0},{"$f":"SUM(Αναλυτικά!L106:M106)","v":0},{"$f":"SUM(Αναλυτικά!N106:P106)","v":0},{"$f":"SUM(Αναλυτικά!Q106:S106)","v":1},{"$f":"SUM(Αναλυτικά!T106:U106)","v":0},{"$f":"SUM(Αναλυτικά!V106:X106)","v":8},{"$f":"SUM(Αναλυτικά!Y106)","v":1},{"$f":"SUM(Αναλυτικά!Z106:AA106)","v":3},{"$f":"SUM(Αναλυτικά!AB106:AC106)","v":1},{"$f":"SUM(Αναλυτικά!AD106:AE106)","v":0},{"$f":"SUM(Αναλυτικά!AF106:AK106)","v":3},{"$f":"SUM(Αναλυτικά!AL106:AN106)","v":0},{"$f":"SUM(Αναλυτικά!AO106:AP106)","v":0},17]
[133,null,null,96,{"$f":"Αναλυτικά!E107","v":"ΛΥΓΝΟΣ ΧΑΡΑΛΑΜΠΟΣ του ΛΟΥΚΑ"},{"$f":"SUM(Αναλυτικά!F107:J107)","v":1},{"$f":"SUM(Αναλυτικά!K107)","v":2},{"$f":"SUM(Αναλυτικά!L107:M107)","v":0},{"$f":"SUM(Αναλυτικά!N107:P107)","v":1},{"$f":"SUM(Αναλυτικά!Q107:S107)","v":3},{"$f":"SUM(Αναλυτικά!T107:U107)","v":2},{"$f":"SUM(Αναλυτικά!V107:X107)","v":52},{"$f":"SUM(Αναλυτικά!Y107)","v":1},{"$f":"SUM(Αναλυτικά!Z107:AA107)","v":3},{"$f":"SUM(Αναλυτικά!AB107:AC107)","v":1},{"$f":"SUM(Αναλυτικά!AD107:AE107)","v":1},{"$f":"SUM(Αναλυτικά!AF107:AK107)","v":2},{"$f":"SUM(Αναλυτικά!AL107:AN107)","v":1},{"$f":"SUM(Αναλυτικά!AO107:AP107)","v":6},76]
[134,null,null,97,{"$f":"Αναλυτικά!E108","v":"ΜΑΡΓΙΩΛΗ ΒΑΣΙΛΙΚΗ του ΧΡΗΣΤΟΥ"},{"$f":"SUM(Αναλυτικά!F108:J108)","v":2},{"$f":"SUM(Αναλυτικά!K108)","v":1},{"$f":"SUM(Αναλυτικά!L108:M108)","v":0},{"$f":"SUM(Αναλυτικά!N108:P108)","v":0},{"$f":"SUM(Αναλυτικά!Q108:S108)","v":1},{"$f":"SUM(Αναλυτικά!T108:U108)","v":2},{"$f":"SUM(Αναλυτικά!V108:X108)","v":2},{"$f":"SUM(Αναλυτικά!Y108)","v":0},{"$f":"SUM(Αναλυτικά!Z108:AA108)","v":0},{"$f":"SUM(Αναλυτικά!AB108:AC108)","v":0},{"$f":"SUM(Αναλυτικά!AD108:AE108)","v":0},{"$f":"SUM(Αναλυτικά!AF108:AK108)","v":2},{"$f":"SUM(Αναλυτικά!AL108:AN108)","v":0},{"$f":"SUM(Αναλυτικά!AO108:AP108)","v":0},10]
[135,null,null,98,{"$f":"Αναλυτικά!E109","v":"ΜΕΝΔΡΙΝΟΣ ΕΜΜΑΝΟΥΗΛ του ΓΕΩΡΓΙΟΥ"},{"$f":"SUM(Αναλυτικά!F109:J109)","v":9},{"$f":"SUM(Αναλυτικά!K109)","v":3},{"$f":"SUM(Αναλυτικά!L109:M109)","v":0},{"$f":"SUM(Αναλυτικά!N109:P109)","v":3},{"$f":"SUM(Αναλυτικά!Q109:S109)","v":5},{"$f":"SUM(Αναλυτικά!T109:U109)","v":3},{"$f":"SUM(Αναλυτικά!V109:X109)","v":23},{"$f":"SUM(Αναλυτικά!Y109)","v":1},{"$f":"SUM(Αναλυτικά!Z109:AA109)","v":0},{"$f":"SUM(Αναλυτικά!AB109:AC109)","v":0},{"$f":"SUM(Αναλυτικά!AD109:AE109)","v":1},{"$f":"SUM(Αναλυτικά!AF109:AK109)","v":3},{"$f":"SUM(Αναλυτικά!AL109:AN109)","v":0},{"$f":"SUM(Αναλυτικά!AO109:AP109)","v":0},51]
[136,null,null,99,{"$f":"Αναλυτικά!E110","v":"ΞΑΓΟΡΑΡΗΣ ΙΑΚΩΒΟΣ του ΑΡΤΕΜΙΟΥ"},{"$f":"SUM(Αναλυτικά!F110:J110)","v":0},{"$f":"SUM(Αναλυτικά!K110)","v":0},{"$f":"SUM(Αναλυτικά!L110:M110)","v":0},{"$f":"SUM(Αναλυτικά!N110:P110)","v":0},{"$f":"SUM(Αναλυτικά!Q110:S110)","v":1},{"$f":"SUM(Αναλυτικά!T110:U110)","v":0},{"$f":"SUM(Αναλυτικά!V110:X110)","v":17},{"$f":"SUM(Αναλυτικά!Y110)","v":3},{"$f":"SUM(Αναλυτικά!Z110:AA110)","v":0},{"$f":"SUM(Αναλυτικά!AB110:AC110)","v":0},{"$f":"SUM(Αναλυτικά!AD110:AE110)","v":1},{"$f":"SUM(Αναλυτικά!AF110:AK110)","v":7},{"$f":"SUM(Αναλυτικά!AL110:AN110)","v":0},{"$f":"SUM(Αναλυτικά!AO110:AP110)","v":0},29]
[137,null,null,100,{"$f":"Αναλυτικά!E111","v":"ΠΑΠΑΓΙΑΝΝΑΚΗ ΔΕΣΠΟΙΝΑ του ΙΩΑΝΝΗ"},{"$f":"SUM(Αναλυτικά!F111:J111)","v":3},{"$f":"SUM(Αναλυτικά!K111)","v":0},{"$f":"SUM(Αναλυτικά!L111:M111)","v":0},{"$f":"SUM(Αναλυτικά!N111:P111)","v":0},{"$f":"SUM(Αναλυτικά!Q111:S111)","v":1},{"$f":"SUM(Αναλυτικά!T111:U111)","v":0},{"$f":"SUM(Αναλυτικά!V111:X111)","v":11},{"$f":"SUM(Αναλυτικά!Y111)","v":0},{"$f":"SUM(Αναλυτικά!Z111:AA111)","v":0},{"$f":"SUM(Αναλυτικά!AB111:AC111)","v":0},{"$f":"SUM(Αναλυτικά!AD111:AE111)","v":1},{"$f":"SUM(Αναλυτικά!AF111:AK111)","v":1},{"$f":"SUM(Αναλυτικά!AL111:AN111)","v":0},{"$f":"SUM(Αναλυτικά!AO111:AP111)","v":0},17]
[138,null,null,101,{"$f":"Αναλυτικά!E112","v":"ΠΑΠΑΔΟΠΟΥΛΟΣ ΙΩΑΝΝΗΣ του ΑΘΑΝΑΣΙΟΥ"},{"$f":"SUM(Αναλυτικά!F112:J112)","v":10},{"$f":"SUM(Αναλυτικά!K112)","v":1},{"$f":"SUM(Αναλυτικά!L112:M112)","v":0},{"$f":"SUM(Αναλυτικά!N112:P112)","v":7},{"$f":"SUM(Αναλυτικά!Q112:S112)","v":3},{"$f":"SUM(Αναλυτικά!T112:U112)","v":1},{"$f":"SUM(Αναλυτικά!V112:X112)","v":9},{"$f":"SUM(Αναλυτικά!Y112)","v":1},{"$f":"SUM(Αναλυτικά!Z112:AA112)","v":2},{"$f":"SUM(Αναλυτικά!AB112:AC112)","v":0},{"$f":"SUM(Αναλυτικά!AD112:AE112)","v":4},{"$f":"SUM(Αναλυτικά!AF112:AK112)","v":2},{"$f":"SUM(Αναλυτικά!AL112:AN112)","v":1},{"$f":"SUM(Αναλυτικά!AO112:AP112)","v":0},41]
[139,null,null,102,{"$f":"Αναλυτικά!E113","v":"ΠΕΛΕΚΗ ΕΛΕΥΘΕΡΙΑ του ΜΙΧΑΗΛ"},{"$f":"SUM(Αναλυτικά!F113:J113)","v":1},{"$f":"SUM(Αναλυτικά!K113)","v":0},{"$f":"SUM(Αναλυτικά!L113:M113)","v":0},{"$f":"SUM(Αναλυτικά!N113:P113)","v":0},{"$f":"SUM(Αναλυτικά!Q113:S113)","v":3},{"$f":"SUM(Αναλυτικά!T113:U113)","v":0},{"$f":"SUM(Αναλυτικά!V113:X113)","v":9},{"$f":"SUM(Αναλυτικά!Y113)","v":0},{"$f":"SUM(Αναλυτικά!Z113:AA113)","v":3},{"$f":"SUM(Αναλυτικά!AB113:AC113)","v":0},{"$f":"SUM(Αναλυτικά!AD113:AE113)","v":0},{"$f":"SUM(Αναλυτικά!AF113:AK113)","v":0},{"$f":"SUM(Αναλυτικά!AL113:AN113)","v":0},{"$f":"SUM(Αναλυτικά!AO113:AP113)","v":0},16]
[140,null,null,103,{"$f":"Αναλυτικά!E114","v":"ΡΑΓΚΟΥΣΗΣ ΓΕΩΡΓΙΟΣ του ΕΥΘΥΜΙΟΥ"},{"$f":"SUM(Αναλυτικά!F114:J114)","v":6},{"$f":"SUM(Αναλυτικά!K114)","v":0},{"$f":"SUM(Αναλυτικά!L114:M114)","v":0},{"$f":"SUM(Αναλυτικά!N114:P114)","v":0},{"$f":"SUM(Αναλυτικά!Q114:S114)","v":2},{"$f":"SUM(Αναλυτικά!T114:U114)","v":0},{"$f":"SUM(Αναλυτικά!V114:X114)","v":0},{"$f":"SUM(Αναλυτικά!Y114)","v":0},{"$f":"SUM(Αναλυτικά!Z114:AA114)","v":0},{"$f":"SUM(Αναλυτικά!AB114:AC114)","v":0},{"$f":"SUM(Αναλυτικά!AD114:AE114)","v":1},{"$f":"SUM(Αναλυτικά!AF114:AK114)","v":1},{"$f":"SUM(Αναλυτικά!AL114:AN114)","v":3},{"$f":"SUM(Αναλυτικά!AO114:AP114)","v":0},13]
[141,null,null,104,{"$f":"Αναλυτικά!E115","v":"ΤΖΟΥΡΟΣ ΕΥΘΥΜΙΟΣ του ΑΠΟΣΤΟΛΟΥ"},{"$f":"SUM(Αναλυτικά!F115:J115)","v":6},{"$f":"SUM(Αναλυτικά!K115)","v":1},{"$f":"SUM(Αναλυτικά!L115:M115)","v":0},{"$f":"SUM(Αναλυτικά!N115:P115)","v":2},{"$f":"SUM(Αναλυτικά!Q115:S115)","v":2},{"$f":"SUM(Αναλυτικά!T115:U115)","v":0},{"$f":"SUM(Αναλυτικά!V115:X115)","v":2},{"$f":"SUM(Αναλυτικά!Y115)","v":1},{"$f":"SUM(Αναλυτικά!Z115:AA115)","v":2},{"$f":"SUM(Αναλυτικά!AB115:AC115)","v":2},{"$f":"SUM(Αναλυτικά!AD115:AE115)","v":0},{"$f":"SUM(Αναλυτικά!AF115:AK115)","v":0},{"$f":"SUM(Αναλυτικά!AL115:AN115)","v":0},{"$f":"SUM(Αναλυτικά!AO115:AP115)","v":0},18]
[142,null,null,105,{"$f":"Αναλυτικά!E116","v":"ΤΣΙΓΓΕΡΛΙΩΤΗΣ ΙΩΑΝΝΗΣ του ΒΑΣΙΛΕΙΟΥ"},{"$f":"SUM(Αναλυτικά!F116:J116)","v":7},{"$f":"SUM(Αναλυτικά!K116)","v":1},{"$f":"SUM(Αναλυτικά!L116:M116)","v":0},{"$f":"SUM(Αναλυτικά!N116:P116)","v":0},{"$f":"SUM(Αναλυτικά!Q116:S116)","v":3},{"$f":"SUM(Αναλυτικά!T116:U116)","v":2},{"$f":"SUM(Αναλυτικά!V116:X116)","v":6},{"$f":"SUM(Αναλυτικά!Y116)","v":0},{"$f":"SUM(Αναλυτικά!Z116:AA116)","v":6},{"$f":"SUM(Αναλυτικά!AB116:AC116)","v":2},{"$f":"SUM(Αναλυτικά!AD116:AE116)","v":1},{"$f":"SUM(Αναλυτικά!AF116:AK116)","v":21},{"$f":"SUM(Αναλυτικά!AL116:AN116)","v":3},{"$f":"SUM(Αναλυτικά!AO116:AP116)","v":0},52]
[143,null,null,106,{"$f":"Αναλυτικά!E117","v":"ΦΟΥΝΤΟΥΛΗΣ ΣΤΑΜΑΤΙΟΣ του ΓΕΩΡΓΙΟΥ"},{"$f":"SUM(Αναλυτικά!F117:J117)","v":15},{"$f":"SUM(Αναλυτικά!K117)","v":0},{"$f":"SUM(Αναλυτικά!L117:M117)","v":1},{"$f":"SUM(Αναλυτικά!N117:P117)","v":1},{"$f":"SUM(Αναλυτικά!Q117:S117)","v":6},{"$f":"SUM(Αναλυτικά!T117:U117)","v":2},{"$f":"SUM(Αναλυτικά!V117:X117)","v":8},{"$f":"SUM(Αναλυτικά!Y117)","v":1},{"$f":"SUM(Αναλυτικά!Z117:AA117)","v":0},{"$f":"SUM(Αναλυτικά!AB117:AC117)","v":0},{"$f":"SUM(Αναλυτικά!AD117:AE117)","v":1},{"$f":"SUM(Αναλυτικά!AF117:AK117)","v":0},{"$f":"SUM(Αναλυτικά!AL117:AN117)","v":1},{"$f":"SUM(Αναλυτικά!AO117:AP117)","v":0},36]
[144,null,null,107,{"$f":"Αναλυτικά!E118","v":"ΦΡΑΓΚΑΚΟΥ ΓΡΗΓΟΡΙΑ (ΡΟΥΛΑ) του ΛΑΖΑΡΟΥ"},{"$f":"SUM(Αναλυτικά!F118:J118)","v":11},{"$f":"SUM(Αναλυτικά!K118)","v":0},{"$f":"SUM(Αναλυτικά!L118:M118)","v":2},{"$f":"SUM(Αναλυτικά!N118:P118)","v":6},{"$f":"SUM(Αναλυτικά!Q118:S118)","v":9},{"$f":"SUM(Αναλυτικά!T118:U118)","v":3},{"$f":"SUM(Αναλυτικά!V118:X118)","v":9},{"$f":"SUM(Αναλυτικά!Y118)","v":0},{"$f":"SUM(Αναλυτικά!Z118:AA118)","v":6},{"$f":"SUM(Αναλυτικά!AB118:AC118)","v":2},{"$f":"SUM(Αναλυτικά!AD118:AE118)","v":4},{"$f":"SUM(Αναλυτικά!AF118:AK118)","v":22},{"$f":"SUM(Αναλυτικά!AL118:AN118)","v":1},{"$f":"SUM(Αναλυτικά!AO118:AP118)","v":0},75]
[{"$nulls":3},108,{"$f":"Αναλυτικά!E119","v":"ΦΡΑΓΚΟΥ ΜΑΡΙΑ του ΘΕΟΔΩΡΟΥ"},{"$f":"SUM(Αναλυτικά!F119:J119)","v":1},{"$f":"SUM(Αναλυτικά!K119)","v":0},{"$f":"SUM(Αναλυτικά!L119:M119)","v":0},{"$f":"SUM(Αναλυτικά!N119:P119)","v":0},{"$f":"SUM(Αναλυτικά!Q119:S119)","v":1},{"$f":"SUM(Αναλυτικά!T119:U119)","v":0},{"$f":"SUM(Αναλυτικά!V119:X119)","v":5},{"$f":"SUM(Αναλυτικά!Y119)","v":1},{"$f":"SUM(Αναλυτικά!Z119:AA119)","v":2},{"$f":"SUM(Αναλυτικά!AB119:AC119)","v":0},{"$f":"SUM(Αναλυτικά!AD119:AE119)","v":0},{"$f":"SUM(Αναλυτικά!AF119:AK119)","v":1},{"$f":"SUM(Αναλυτικά!AL119:AN119)","v":0},{"$f":"SUM(Αναλυτικά!AO119:AP119)","v":0}]
[{"$nulls":3},109,{"$f":"Αναλυτικά!E120","v":"ΦΥΤΡΟΣ ΓΕΩΡΓΙΟΣ του ΜΗΝΑ"},{"$f":"SUM(Αναλυτικά!F120:J120)","v":0},{"$f":"SUM(Αναλυτικά!K120)","v":0},{"$f":"SUM(Αναλυτικά!L120:M120)","v":0},{"$f":"SUM(Αναλυτικά!N120:P120)","v":1},{"$f":"SUM(Αναλυτικά!Q120:S120)","v":1},{"$f":"SUM(Αναλυτικά!T120:U120)","v":0},{"$f":"SUM(Αναλυτικά!V120:X120)","v":8},{"$f":"SUM(Αναλυτικά!Y120)","v":0},{"$f":"SUM(Αναλυτικά!Z120:AA120)","v":2},{"$f":"SUM(Αναλυτικά!AB120:AC120)","v":0},{"$f":"SUM(Αναλυτικά!AD120:AE120)","v":2},{"$f":"SUM(Αναλυτικά!AF120:AK120)","v":2},{"$f":"SUM(Αναλυτικά!AL120:AN120)","v":0},{"$f":"SUM(Αναλυτικά!AO120:AP120)","v":0}]
[{"$nulls":3},110,{"$f":"Αναλυτικά!E121","v":"ΧΑΛΑΡΗ ΘΕΟΔΩΡΑ του ΣΤΕΦΑΝΟΥ"},{"$f":"SUM(Αναλυτικά!F121:J121)","v":2},{"$f":"SUM(Αναλυτικά!K121)","v":0},{"$f":"SUM(Αναλυτικά!L121:M121)","v":0},{"$f":"SUM(Αναλυτικά!N121:P121)","v":1},{"$f":"SUM(Αναλυτικά!Q121:S121)","v":1},{"$f":"SUM(Αναλυτικά!T121:U121)","v":0},{"$f":"SUM(Αναλυτικά!V121:X121)","v":31},{"$f":"SUM(Αναλυτικά!Y121)","v":0},{"$f":"SUM(Αναλυτικά!Z121:AA121)","v":0},{"$f":"SUM(Αναλυτικά!AB121:AC121)","v":0},{"$f":"SUM(Αναλυτικά!AD121:AE121)","v":9},{"$f":"SUM(Αναλυτικά!AF121:AK121)","v":1},{"$f":"SUM(Αναλυτικά!AL121:AN121)","v":5},{"$f":"SUM(Αναλυτικά!AO121:AP121)","v":0}]
[{"$nulls":3},111,{"$f":"Αναλυτικά!E122","v":"ΧΑΛΑΡΗΣ ΣΤΕΦΑΝΟΣ του ΓΕΩΡΓΙΟΥ"},{"$f":"SUM(Αναλυτικά!F122:J122)","v":2},{"$f":"SUM(Αναλυτικά!K122)","v":1},{"$f":"SUM(Αναλυτικά!L122:M122)","v":0},{"$f":"SUM(Αναλυτικά!N122:P122)","v":3},{"$f":"SUM(Αναλυτικά!Q122:S122)","v":1},{"$f":"SUM(Αναλυτικά!T122:U122)","v":1},{"$f":"SUM(Αναλυτικά!V122:X122)","v":82},{"$f":"SUM(Αναλυτικά!Y122)","v":3},{"$f":"SUM(Αναλυτικά!Z122:AA122)","v":0},{"$f":"SUM(Αναλυτικά!AB122:AC122)","v":1},{"$f":"SUM(Αναλυτικά!AD122:AE122)","v":1},{"$f":"SUM(Αναλυτικά!AF122:AK122)","v":1},{"$f":"SUM(Αναλυτικά!AL122:AN122)","v":1},{"$f":"SUM(Αναλυτικά!AO122:AP122)","v":0}]
[{"$nulls":3},112,{"$f":"Αναλυτικά!E123","v":"ΧΑΡΑΛΑΜΠΑΚΟΣ ΟΡΕΣΤΗΣ του ΒΑΣΙΛΕΙΟΥ"},{"$f":"SUM(Αναλυτικά!F123:J123)","v":17},{"$f":"SUM(Αναλυτικά!K123)","v":3},{"$f":"SUM(Αναλυτικά!L123:M123)","v":1},{"$f":"SUM(Αναλυτικά!N123:P123)","v":6},{"$f":"SUM(Αναλυτικά!Q123:S123)","v":4},{"$f":"SUM(Αναλυτικά!T123:U123)","v":5},{"$f":"SUM(Αναλυτικά!V123:X123)","v":68},{"$f":"SUM(Αναλυτικά!Y123)","v":0},{"$f":"SUM(Αναλυτικά!Z123:AA123)","v":2},{"$f":"SUM(Αναλυτικά!AB123:AC123)","v":3},{"$f":"SUM(Αναλυτικά!AD123:AE123)","v":14},{"$f":"SUM(Αναλυτικά!AF123:AK123)","v":12},{"$f":"SUM(Αναλυτικά!AL123:AN123)","v":0},{"$f":"SUM(Αναλυτικά!AO123:AP123)","v":1}]
[{"$nulls":4},"ΔΗΜΟΤΙΚΗ ΕΝΟΤΗΤΑ ΟΙΑΣ"]
[{"$nulls":3},113,{"$f":"Αναλυτικά!E125","v":"ΓΙΑΚΙΜΙ ΑΛΚΕΝΤ του ΛΟΥΑΝ"},{"$f":"SUM(Αναλυτικά!F125:J125)","v":7},{"$f":"SUM(Αναλυτικά!K125)","v":1},{"$f":"SUM(Αναλυτικά!L125:M125)","v":0},{"$f":"SUM(Αναλυτικά!N125:P125)","v":3},{"$f":"SUM(Αναλυτικά!Q125:S125)","v":9},{"$f":"SUM(Αναλυτικά!T125:U125)","v":3},{"$f":"SUM(Αναλυτικά!V125:X125)","v":27},{"$f":"SUM(Αναλυτικά!Y125)","v":0},{"$f":"SUM(Αναλυτικά!Z125:AA125)","v":4},{"$f":"SUM(Αναλυτικά!AB125:AC125)","v":0},{"$f":"SUM(Αναλυτικά!AD125:AE125)","v":7},{"$f":"SUM(Αναλυτικά!AF125:AK125)","v":16},{"$f":"SUM(Αναλυτικά!AL125:AN125)","v":4},{"$f":"SUM(Αναλυτικά!AO125:AP125)","v":6}]
[{"$nulls":3},114,{"$f":"Αναλυτικά!E126","v":"ΣΑΡΒΑΛΗ ΓΕΩΡΓΙΑ του ΘΕΟΔΩΡΟΥ"},{"$f":"SUM(Αναλυτικά!F126:J126)","v":10},{"$f":"SUM(Αναλυτικά!K126)","v":5},{"$f":"SUM(Αναλυτικά!L126:M126)","v":1},{"$f":"SUM(Αναλυτικά!N126:P126)","v":4},{"$f":"SUM(Αναλυτικά!Q126:S126)","v":10},{"$f":"SUM(Αναλυτικά!T126:U126)","v":1},{"$f":"SUM(Αναλυτικά!V126:X126)","v":16},{"$f":"SUM(Αναλυτικά!Y126)","v":3},{"$f":"SUM(Αναλυτικά!Z126:AA126)","v":4},{"$f":"SUM(Αναλυτικά!AB126:AC126)","v":0},{"$f":"SUM(Αναλυτικά!AD126:AE126)","v":5},{"$f":"SUM(Αναλυτικά!AF126:AK126)","v":15},{"$f":"SUM(Αναλυτικά!AL126:AN126)","v":4},{"$f":"SUM(Αναλυτικά!AO126:AP126)","v":3}]
[145,null,null,115,{"$f":"Αναλυτικά!E127","v":"ΦΟΥΣΤΕΡΗΣ ΠΑΣΧΑΛΗΣ του ΑΡΤΕΜΙΟΥ"},{"$f":"SUM(Αναλυτικά!F127:J127)","v":8},{"$f":"SUM(Αναλυτικά!K127)","v":2},{"$f":"SUM(Αναλυτικά!L127:M127)","v":0},{"$f":"SUM(Αναλυτικά!N127:P127)","v":3},{"$f":"SUM(Αναλυτικά!Q127:S127)","v":5},{"$f":"SUM(Αναλυτικά!T127:U127)","v":1},{"$f":"SUM(Αναλυτικά!V127:X127)","v":60},{"$f":"SUM(Αναλυτικά!Y127)","v":2},{"$f":"SUM(Αναλυτικά!Z127:AA127)","v":1},{"$f":"SUM(Αναλυτικά!AB127:AC127)","v":2},{"$f":"SUM(Αναλυτικά!AD127:AE127)","v":8},{"$f":"SUM(Αναλυτικά!AF127:AK127)","v":7},{"$f":"SUM(Αναλυτικά!AL127:AN127)","v":4},{"$f":"SUM(Αναλυτικά!AO127:AP127)","v":1},104]
[146,"ΜΑΖΙ ΑΛΛΑΖΟΥΜΕ ΣΑΝΤΟΡΙΝΗ – ΘΗΡΑΣΙΑ",null,null,"ΔΗΜΟΤΙΚΗ ΕΝΟΤΗΤΑ ΘΗΡΑΣ"]
[147,null,null,116,{"$f":"Αναλυτικά!E129","v":"ΑΛΕΦΡΑΓΚΗΣ ΑΝΤΩΝΙΟΣ του ΑΡΤΕMIΟΥ"},{"$f":"SUM(Αναλυτικά!F129:J129)","v":25},{"$f":"SUM(Αναλυτικά!K129)","v":3},{"$f":"SUM(Αναλυτικά!L129:M129)","v":2},{"$f":"SUM(Αναλυτικά!N129:P129)","v":1},{"$f":"SUM(Αναλυτικά!Q129:S129)","v":6},{"$f":"SUM(Αναλυτικά!T129:U129)","v":1},{"$f":"SUM(Αναλυτικά!V129:X129)","v":5},{"$f":"SUM(Αναλυτικά!Y129)","v":1},{"$f":"SUM(Αναλυτικά!Z129:AA129)","v":0},{"$f":"SUM(Αναλυτικά!AB129:AC129)","v":0},{"$f":"SUM(Αναλυτικά!AD129:AE129)","v":4},{"$f":"SUM(Αναλυτικά!AF129:AK129)","v":2},{"$f":"SUM(Αναλυτικά!AL129:AN129)","v":1},{"$f":"SUM(Αναλυτικά!AO129:AP129)","v":0},{"$f":"SUM(F127:S127)","v":51}]
[148,null,null,117,{"$f":"Αναλυτικά!E130","v":"ΑΡΒΑΝΙΤΗΣ ΗΛΙΑΣ του ΕΜΜΑΝΟYHΛ (ΤΟΥΡΚΙ)"},{"$f":"SUM(Αναλυτικά!F130:J130)","v":24},{"$f":"SUM(Αναλυτικά!K130)","v":0},{"$f":"SUM(Αναλυτικά!L130:M130)","v":0},{"$f":"SUM(Αναλυτικά!N130:P130)","v":1},{"$f":"SUM(Αναλυτικά!Q130:S130)","v":14},{"$f":"SUM(Αναλυτικά!T130:U130)","v":1},{"$f":"SUM(Αναλυτικά!V130:X130)","v":4},{"$f":"SUM(Αναλυτικά!Y130)","v":2},{"$f":"SUM(Αναλυτικά!Z130:AA130)","v":0},{"$f":"SUM(Αναλυτικά!AB130:AC130)","v":0},{"$f":"SUM(Αναλυτικά!AD130:AE130)","v":4},{"$f":"SUM(Αναλυτικά!AF130:AK130)","v":1},{"$f":"SUM(Αναλυτικά!AL130:AN130)","v":1},{"$f":"SUM(Αναλυτικά!AO130:AP130)","v":0},52]
[149,null,null,118,{"$f":"Αναλυτικά!E131","v":"ΒΑΜΒΑΚΟΥΣΗ ΣΑΒΒΙΝΑ‑ΕΛΕΥΘΕΡΙΑ του ΑΝΤΩNIOΥ"},{"$f":"SUM(Αναλυτικά!F131:J131)","v":8},{"$f":"SUM(Αναλυτικά!K131)","v":1},{"$f":"SUM(Αναλυτικά!L131:M131)","v":0},{"$f":"SUM(Αναλυτικά!N131:P131)","v":2},{"$f":"SUM(Αναλυτικά!Q131:S131)","v":6},{"$f":"SUM(Αναλυτικά!T131:U131)","v":1},{"$f":"SUM(Αναλυτικά!V131:X131)","v":4},{"$f":"SUM(Αναλυτικά!Y131)","v":0},{"$f":"SUM(Αναλυτικά!Z131:AA131)","v":17},{"$f":"SUM(Αναλυτικά!AB131:AC131)","v":0},{"$f":"SUM(Αναλυτικά!AD131:AE131)","v":2},{"$f":"SUM(Αναλυτικά!AF131:AK131)","v":4},{"$f":"SUM(Αναλυτικά!AL131:AN131)","v":0},{"$f":"SUM(Αναλυτικά!AO131:AP131)","v":0},45]
[150,null,null,119,{"$f":"Αναλυτικά!E132","v":"ΒΑΣΣΑΛΟΣ ΛΟΥΚΑΣ του ΦΡΑΤZEΣΚΟΥ"},{"$f":"SUM(Αναλυτικά!F132:J132)","v":11},{"$f":"SUM(Αναλυτικά!K132)","v":1},{"$f":"SUM(Αναλυτικά!L132:M132)","v":0},{"$f":"SUM(Αναλυτικά!N132:P132)","v":14},{"$f":"SUM(Αναλυτικά!Q132:S132)","v":15},{"$f":"SUM(Αναλυτικά!T132:U132)","v":9},{"$f":"SUM(Αναλυτικά!V132:X132)","v":23},{"$f":"SUM(Αναλυτικά!Y132)","v":5},{"$f":"SUM(Αναλυτικά!Z132:AA132)","v":2},{"$f":"SUM(Αναλυτικά!AB132:AC132)","v":9},{"$f":"SUM(Αναλυτικά!AD132:AE132)","v":6},{"$f":"SUM(Αναλυτικά!AF132:AK132)","v":61},{"$f":"SUM(Αναλυτικά!AL132:AN132)","v":0},{"$f":"SUM(Αναλυτικά!AO132:AP132)","v":1},157]
[151,null,null,120,{"$f":"Αναλυτικά!E133","v":"ΓΙΑΝΝΑΚΙΔΟΥ ΧΑΡΑΛΑΜΠΙΑ του ΧΡΗΣΤΟΥ (ΧΑΡΑ)"},{"$f":"SUM(Αναλυτικά!F133:J133)","v":9},{"$f":"SUM(Αναλυτικά!K133)","v":1},{"$f":"SUM(Αναλυτικά!L133:M133)","v":0},{"$f":"SUM(Αναλυτικά!N133:P133)","v":30},{"$f":"SUM(Αναλυτικά!Q133:S133)","v":5},{"$f":"SUM(Αναλυτικά!T133:U133)","v":11},{"$f":"SUM(Αναλυτικά!V133:X133)","v":15},{"$f":"SUM(Αναλυτικά!Y133)","v":7},{"$f":"SUM(Αναλυτικά!Z133:AA133)","v":2},{"$f":"SUM(Αναλυτικά!AB133:AC133)","v":0},{"$f":"SUM(Αναλυτικά!AD133:AE133)","v":0},{"$f":"SUM(Αναλυτικά!AF133:AK133)","v":1},{"$f":"SUM(Αναλυτικά!AL133:AN133)","v":2},{"$f":"SUM(Αναλυτικά!AO133:AP133)","v":0},83]
[152,null,null,121,{"$f":"Αναλυτικά!E134","v":"ΓΡΑΤΣΙΑΣ ΙΩΑΝΝΗΣ του ΓΕΩΡΓΙΟΥ"},{"$f":"SUM(Αναλυτικά!F134:J134)","v":117},{"$f":"SUM(Αναλυτικά!K134)","v":30},{"$f":"SUM(Αναλυτικά!L134:M134)","v":6},{"$f":"SUM(Αναλυτικά!N134:P134)","v":69},{"$f":"SUM(Αναλυτικά!Q134:S134)","v":44},{"$f":"SUM(Αναλυτικά!T134:U134)","v":94},{"$f":"SUM(Αναλυτικά!V134:X134)","v":69},{"$f":"SUM(Αναλυτικά!Y134)","v":19},{"$f":"SUM(Αναλυτικά!Z134:AA134)","v":7},{"$f":"SUM(Αναλυτικά!AB134:AC134)","v":4},{"$f":"SUM(Αναλυτικά!AD134:AE134)","v":3},{"$f":"SUM(Αναλυτικά!AF134:AK134)","v":29},{"$f":"SUM(Αναλυτικά!AL134:AN134)","v":21},{"$f":"SUM(Αναλυτικά!AO134:AP134)","v":0},512]
[153,null,null,122,{"$f":"Αναλυτικά!E135","v":"ΔΑΜΙΓΟΥ ΜΑΡΙΑ του ΝΙΚΟΛΑΟΥ"},{"$f":"SUM(Αναλυτικά!F135:J135)","v":12},{"$f":"SUM(Αναλυτικά!K135)","v":0},{"$f":"SUM(Αναλυτικά!L135:M135)","v":9},{"$f":"SUM(Αναλυτικά!N135:P135)","v":1},{"$f":"SUM(Αναλυτικά!Q135:S135)","v":3},{"$f":"SUM(Αναλυτικά!T135:U135)","v":3},{"$f":"SUM(Αναλυτικά!V135:X135)","v":5},{"$f":"SUM(Αναλυτικά!Y135)","v":0},{"$f":"SUM(Αναλυτικά!Z135:AA135)","v":0},{"$f":"SUM(Αναλυτικά!AB135:AC135)","v":0},{"$f":"SUM(Αναλυτικά!AD135:AE135)","v":0},{"$f":"SUM(Αναλυτικά!AF135:AK135)","v":2},{"$f":"SUM(Αναλυτικά!AL135:AN135)","v":2},{"$f":"SUM(Αναλυτικά!AO135:AP135)","v":0},37]
[154,null,null,123,{"$f":"Αναλυτικά!E136","v":"ΔΡΟΣΟΣ ΣΠΥΡΙΔΩΝ του ΣΤΑΥΡΟΥ"},{"$f":"SUM(Αναλυτικά!F136:J136)","v":79},{"$f":"SUM(Αναλυτικά!K136)","v":5},{"$f":"SUM(Αναλυτικά!L136:M136)","v":1},{"$f":"SUM(Αναλυτικά!N136:P136)","v":246},{"$f":"SUM(Αναλυτικά!Q136:S136)","v":32},{"$f":"SUM(Αναλυτικά!T136:U136)","v":30},{"$f":"SUM(Αναλυτικά!V136:X136)","v":22},{"$f":"SUM(Αναλυτικά!Y136)","v":8},{"$f":"SUM(Αναλυτικά!Z136:AA136)","v":3},{"$f":"SUM(Αναλυτικά!AB136:AC136)","v":29},{"$f":"SUM(Αναλυτικά!AD136:AE136)","v":30},{"$f":"SUM(Αναλυτικά!AF136:AK136)","v":39},{"$f":"SUM(Αναλυτικά!AL136:AN136)","v":8},{"$f":"SUM(Αναλυτικά!AO136:AP136)","v":3},535]
[155,null,null,124,{"$f":"Αναλυτικά!E137","v":"ΖΑΜΠΕΛΗ ΕΙΡΗΝΗ του ΑΝΑΣΤΑΣΙΟΥ"},{"$f":"SUM(Αναλυτικά!F137:J137)","v":27},{"$f":"SUM(Αναλυτικά!K137)","v":1},{"$f":"SUM(Αναλυτικά!L137:M137)","v":2},{"$f":"SUM(Αναλυτικά!N137:P137)","v":2},{"$f":"SUM(Αναλυτικά!Q137:S137)","v":2},{"$f":"SUM(Αναλυτικά!T137:U137)","v":1},{"$f":"SUM(Αναλυτικά!V137:X137)","v":4},{"$f":"SUM(Αναλυτικά!Y137)","v":0},{"$f":"SUM(Αναλυτικά!Z137:AA137)","v":1},{"$f":"SUM(Αναλυτικά!AB137:AC137)","v":1},{"$f":"SUM(Αναλυτικά!AD137:AE137)","v":0},{"$f":"SUM(Αναλυτικά!AF137:AK137)","v":3},{"$f":"SUM(Αναλυτικά!AL137:AN137)","v":3},{"$f":"SUM(Αναλυτικά!AO137:AP137)","v":0},47]
[156,null,null,125,{"$f":"Αναλυτικά!E138","v":"ΖΑΜΠΕΛΗΣ ΓΕΩΡΓΙΟΣ του ΝΙΚΟΛΑΟΥ"},{"$f":"SUM(Αναλυτικά!F138:J138)","v":5},{"$f":"SUM(Αναλυτικά!K138)","v":1},{"$f":"SUM(Αναλυτικά!L138:M138)","v":1},{"$f":"SUM(Αναλυτικά!N138:P138)","v":1},{"$f":"SUM(Αναλυτικά!Q138:S138)","v":3},{"$f":"SUM(Αναλυτικά!T138:U138)","v":5},{"$f":"SUM(Αναλυτικά!V138:X138)","v":1},{"$f":"SUM(Αναλυτικά!Y138)","v":1},{"$f":"SUM(Αναλυτικά!Z138:AA138)","v":2},{"$f":"SUM(Αναλυτικά!AB138:AC138)","v":8},{"$f":"SUM(Αναλυτικά!AD138:AE138)","v":4},{"$f":"SUM(Αναλυτικά!AF138:AK138)","v":30},{"$f":"SUM(Αναλυτικά!AL138:AN138)","v":0},{"$f":"SUM(Αναλυτικά!AO138:AP138)","v":0},62]
[157,null,null,126,{"$f":"Αναλυτικά!E139","v":"ΖΩΤΟΥ ΑΝΤΩΝΙΑ του ΙΩΑΝΝΗ (ΤΟΝΙΑ)"},{"$f":"SUM(Αναλυτικά!F139:J139)","v":19},{"$f":"SUM(Αναλυτικά!K139)","v":1},{"$f":"SUM(Αναλυτικά!L139:M139)","v":0},{"$f":"SUM(Αναλυτικά!N139:P139)","v":6},{"$f":"SUM(Αναλυτικά!Q139:S139)","v":0},{"$f":"SUM(Αναλυτικά!T139:U139)","v":1},{"$f":"SUM(Αναλυτικά!V139:X139)","v":2},{"$f":"SUM(Αναλυτικά!Y139)","v":1},{"$f":"SUM(Αναλυτικά!Z139:AA139)","v":0},{"$f":"SUM(Αναλυτικά!AB139:AC139)","v":0},{"$f":"SUM(Αναλυτικά!AD139:AE139)","v":0},{"$f":"SUM(Αναλυτικά!AF139:AK139)","v":2},{"$f":"SUM(Αναλυτικά!AL139:AN139)","v":0},{"$f":"SUM(Αναλυτικά!AO139:AP139)","v":0},32]
[158,null,null,127,{"$f":"Αναλυτικά!E140","v":"ΚΑΛΑΪΔΟΠΟΥΛΟΥ ΚΥΡΙΑΚΗ του ΜΙΧΑΗΛ (ΚΑΙΤΗ)"},{"$f":"SUM(Αναλυτικά!F140:J140)","v":4},{"$f":"SUM(Αναλυτικά!K140)","v":1},{"$f":"SUM(Αναλυτικά!L140:M140)","v":1},{"$f":"SUM(Αναλυτικά!N140:P140)","v":9},{"$f":"SUM(Αναλυτικά!Q140:S140)","v":1},{"$f":"SUM(Αναλυτικά!T140:U140)","v":2},{"$f":"SUM(Αναλυτικά!V140:X140)","v":4},{"$f":"SUM(Αναλυτικά!Y140)","v":0},{"$f":"SUM(Αναλυτικά!Z140:AA140)","v":0},{"$f":"SUM(Αναλυτικά!AB140:AC140)","v":0},{"$f":"SUM(Αναλυτικά!AD140:AE140)","v":0},{"$f":"SUM(Αναλυτικά!AF140:AK140)","v":4},{"$f":"SUM(Αναλυτικά!AL140:AN140)","v":0},{"$f":"SUM(Αναλυτικά!AO140:AP140)","v":0},26]
[159,null,null,128,{"$f":"Αναλυτικά!E141","v":"ΚΑΛΟΥΔΗΣ ΘΕΟΔΩΡΟΣ του ΕΛΕΥΘΕΡΙΟΥ"},{"$f":"SUM(Αναλυτικά!F141:J141)","v":13},{"$f":"SUM(Αναλυτικά!K141)","v":9},{"$f":"SUM(Αναλυτικά!L141:M141)","v":5},{"$f":"SUM(Αναλυτικά!N141:P141)","v":12},{"$f":"SUM(Αναλυτικά!Q141:S141)","v":27},{"$f":"SUM(Αναλυτικά!T141:U141)","v":31},{"$f":"SUM(Αναλυτικά!V141:X141)","v":23},{"$f":"SUM(Αναλυτικά!Y141)","v":2},{"$f":"SUM(Αναλυτικά!Z141:AA141)","v":4},{"$f":"SUM(Αναλυτικά!AB141:AC141)","v":1},{"$f":"SUM(Αναλυτικά!AD141:AE141)","v":3},{"$f":"SUM(Αναλυτικά!AF141:AK141)","v":6},{"$f":"SUM(Αναλυτικά!AL141:AN141)","v":0},{"$f":"SUM(Αναλυτικά!AO141:AP141)","v":0},136]
[160,null,null,129,{"$f":"Αναλυτικά!E142","v":"ΚΑΝΤΖΕΛΗΣ ΧΡΗΣΤΟΣ του ΗΛΙΑ"},{"$f":"SUM(Αναλυτικά!F142:J142)","v":12},{"$f":"SUM(Αναλυτικά!K142)","v":4},{"$f":"SUM(Αναλυτικά!L142:M142)","v":0},{"$f":"SUM(Αναλυτικά!N142:P142)","v":12},{"$f":"SUM(Αναλυτικά!Q142:S142)","v":4},{"$f":"SUM(Αναλυτικά!T142:U142)","v":11},{"$f":"SUM(Αναλυτικά!V142:X142)","v":40},{"$f":"SUM(Αναλυτικά!Y142)","v":11},{"$f":"SUM(Αναλυτικά!Z142:AA142)","v":3},{"$f":"SUM(Αναλυτικά!AB142:AC142)","v":0},{"$f":"SUM(Αναλυτικά!AD142:AE142)","v":4},{"$f":"SUM(Αναλυτικά!AF142:AK142)","v":7},{"$f":"SUM(Αναλυτικά!AL142:AN142)","v":5},{"$f":"SUM(Αναλυτικά!AO142:AP142)","v":0},113]
[161,null,null,130,{"$f":"Αναλυτικά!E143","v":"ΚΑΤΣΙΠΗΣ ΑΝΤΩΝΙΟΣ του ΓΕΩΡΓΙΟΥ"},{"$f":"SUM(Αναλυτικά!F143:J143)","v":44},{"$f":"SUM(Αναλυτικά!K143)","v":4},{"$f":"SUM(Αναλυτικά!L143:M143)","v":0},{"$f":"SUM(Αναλυτικά!N143:P143)","v":3},{"$f":"SUM(Αναλυτικά!Q143:S143)","v":22},{"$f":"SUM(Αναλυτικά!T143:U143)","v":13},{"$f":"SUM(Αναλυτικά!V143:X143)","v":3},{"$f":"SUM(Αναλυτικά!Y143)","v":2},{"$f":"SUM(Αναλυτικά!Z143:AA143)","v":5},{"$f":"SUM(Αναλυτικά!AB143:AC143)","v":10},{"$f":"SUM(Αναλυτικά!AD143:AE143)","v":3},{"$f":"SUM(Αναλυτικά!AF143:AK143)","v":55},{"$f":"SUM(Αναλυτικά!AL143:AN143)","v":0},{"$f":"SUM(Αναλυτικά!AO143:AP143)","v":0},164]
[162,null,null,131,{"$f":"Αναλυτικά!E144","v":"ΚΑΤΣΙΠΗΣ ΕΜΜΑΝΟΥΗΛ του ΝΙΚΟΛΑΟΥ (ΣΠΕΗΣ)"},{"$f":"SUM(Αναλυτικά!F144:J144)","v":5},{"$f":"SUM(Αναλυτικά!K144)","v":0},{"$f":"SUM(Αναλυτικά!L144:M144)","v":0},{"$f":"SUM(Αναλυτικά!N144:P144)","v":2},{"$f":"SUM(Αναλυτικά!Q144:S144)","v":3},{"$f":"SUM(Αναλυτικά!T144:U144)","v":1},{"$f":"SUM(Αναλυτικά!V144:X144)","v":1},{"$f":"SUM(Αναλυτικά!Y144)","v":0},{"$f":"SUM(Αναλυτικά!Z144:AA144)","v":4},{"$f":"SUM(Αναλυτικά!AB144:AC144)","v":3},{"$f":"SUM(Αναλυτικά!AD144:AE144)","v":0},{"$f":"SUM(Αναλυτικά!AF144:AK144)","v":40},{"$f":"SUM(Αναλυτικά!AL144:AN144)","v":0},{"$f":"SUM(Αναλυτικά!AO144:AP144)","v":0},59]
[163,null,null,132,{"$f":"Αναλυτικά!E145","v":"ΚΑΤΣΙΠΗΣ ΣΑΜΨΩΝ του ΙΑΚΩΒΟΥ"},{"$f":"SUM(Αναλυτικά!F145:J145)","v":21},{"$f":"SUM(Αναλυτικά!K145)","v":6},{"$f":"SUM(Αναλυτικά!L145:M145)","v":2},{"$f":"SUM(Αναλυτικά!N145:P145)","v":5},{"$f":"SUM(Αναλυτικά!Q145:S145)","v":8},{"$f":"SUM(Αναλυτικά!T145:U145)","v":8},{"$f":"SUM(Αναλυτικά!V145:X145)","v":6},{"$f":"SUM(Αναλυτικά!Y145)","v":6},{"$f":"SUM(Αναλυτικά!Z145:AA145)","v":16},{"$f":"SUM(Αναλυτικά!AB145:AC145)","v":11},{"$f":"SUM(Αναλυτικά!AD145:AE145)","v":5},{"$f":"SUM(Αναλυτικά!AF145:AK145)","v":33},{"$f":"SUM(Αναλυτικά!AL145:AN145)","v":0},{"$f":"SUM(Αναλυτικά!AO145:AP145)","v":0},127]
[164,null,null,133,{"$f":"Αναλυτικά!E146","v":"ΚΟΥΡΟΥΠΗ ΑΙΚΑΤΕΡΙΝΗ του ΝΙΚΟΛΑΟΥ"},{"$f":"SUM(Αναλυτικά!F146:J146)","v":7},{"$f":"SUM(Αναλυτικά!K146)","v":1},{"$f":"SUM(Αναλυτικά!L146:M146)","v":0},{"$f":"SUM(Αναλυτικά!N146:P146)","v":1},{"$f":"SUM(Αναλυτικά!Q146:S146)","v":4},{"$f":"SUM(Αναλυτικά!T146:U146)","v":0},{"$f":"SUM(Αναλυτικά!V146:X146)","v":2},{"$f":"SUM(Αναλυτικά!Y146)","v":0},{"$f":"SUM(Αναλυτικά!Z146:AA146)","v":0},{"$f":"SUM(Αναλυτικά!AB146:AC146)","v":0},{"$f":"SUM(Αναλυτικά!AD146:AE146)","v":0},{"$f":"SUM(Αναλυτικά!AF146:AK146)","v":2},{"$f":"SUM(Αναλυτικά!AL146:AN146)","v":1},{"$f":"SUM(Αναλυτικά!AO146:AP146)","v":0},18]
[165,null,null,134,{"$f":"Αναλυτικά!E147","v":"ΛΙΓΝΟΥ ΠΑΡΑΣΚΕΥΗ του ΕΜΜΑΝΟΥΗΛ"},{"$f":"SUM(Αναλυτικά!F147:J147)","v":28},{"$f":"SUM(Αναλυτικά!K147)","v":12},{"$f":"SUM(Αναλυτικά!L147:M147)","v":0},{"$f":"SUM(Αναλυτικά!N147:P147)","v":8},{"$f":"SUM(Αναλυτικά!Q147:S147)","v":9},{"$f":"SUM(Αναλυτικά!T147:U147)","v":60},{"$f":"SUM(Αναλυτικά!V147:X147)","v":11},{"$f":"SUM(Αναλυτικά!Y147)","v":4},{"$f":"SUM(Αναλυτικά!Z147:AA147)","v":3},{"$f":"SUM(Αναλυτικά!AB147:AC147)","v":3},{"$f":"SUM(Αναλυτικά!AD147:AE147)","v":7},{"$f":"SUM(Αναλυτικά!AF147:AK147)","v":9},{"$f":"SUM(Αναλυτικά!AL147:AN147)","v":2},{"$f":"SUM(Αναλυτικά!AO147:AP147)","v":0},156]
[166,null,null,135,{"$f":"Αναλυτικά!E148","v":"ΜΑΪΝΑΣ ΙΩΑΝΝΗΣ του ΝΙΚΟΛΑΟΥ"},{"$f":"SUM(Αναλυτικά!F148:J148)","v":34},{"$f":"SUM(Αναλυτικά!K148)","v":31},{"$f":"SUM(Αναλυτικά!L148:M148)","v":3},{"$f":"SUM(Αναλυτικά!N148:P148)","v":27},{"$f":"SUM(Αναλυτικά!Q148:S148)","v":41},{"$f":"SUM(Αναλυτικά!T148:U148)","v":98},{"$f":"SUM(Αναλυτικά!V148:X148)","v":154},{"$f":"SUM(Αναλυτικά!Y148)","v":8},{"$f":"SUM(Αναλυτικά!Z148:AA148)","v":9},{"$f":"SUM(Αναλυτικά!AB148:AC148)","v":5},{"$f":"SUM(Αναλυτικά!AD148:AE148)","v":9},{"$f":"SUM(Αναλυτικά!AF148:AK148)","v":58},{"$f":"SUM(Αναλυτικά!AL148:AN148)","v":7},{"$f":"SUM(Αναλυτικά!AO148:AP148)","v":3},487]
[167,null,null,136,{"$f":"Αναλυτικά!E149","v":"ΝΟΜΙΚΟΣ ΕΥΘΥΜΙΟΣ του ΓΕΩΡΓΙΟΥ"},{"$f":"SUM(Αναλυτικά!F149:J149)","v":9},{"$f":"SUM(Αναλυτικά!K149)","v":0},{"$f":"SUM(Αναλυτικά!L149:M149)","v":0},{"$f":"SUM(Αναλυτικά!N149:P149)","v":6},{"$f":"SUM(Αναλυτικά!Q149:S149)","v":4},{"$f":"SUM(Αναλυτικά!T149:U149)","v":6},{"$f":"SUM(Αναλυτικά!V149:X149)","v":4},{"$f":"SUM(Αναλυτικά!Y149)","v":0},{"$f":"SUM(Αναλυτικά!Z149:AA149)","v":3},{"$f":"SUM(Αναλυτικά!AB149:AC149)","v":20},{"$f":"SUM(Αναλυτικά!AD149:AE149)","v":6},{"$f":"SUM(Αναλυτικά!AF149:AK149)","v":10},{"$f":"SUM(Αναλυτικά!AL149:AN149)","v":0},{"$f":"SUM(Αναλυτικά!AO149:AP149)","v":0},68]
[168,null,null,137,{"$f":"Αναλυτικά!E150","v":"ΝΟΜΙΚΟΥ ΚΥΡΙΑΚΗ του ΙΩΑΝΝΗ (ΚΕΛΛΥ)"},{"$f":"SUM(Αναλυτικά!F150:J150)","v":5},{"$f":"SUM(Αναλυτικά!K150)","v":2},{"$f":"SUM(Αναλυτικά!L150:M150)","v":0},{"$f":"SUM(Αναλυτικά!N150:P150)","v":8},{"$f":"SUM(Αναλυτικά!Q150:S150)","v":4},{"$f":"SUM(Αναλυτικά!T150:U150)","v":2},{"$f":"SUM(Αναλυτικά!V150:X150)","v":0},{"$f":"SUM(Αναλυτικά!Y150)","v":0},{"$f":"SUM(Αναλυτικά!Z150:AA150)","v":1},{"$f":"SUM(Αναλυτικά!AB150:AC150)","v":5},{"$f":"SUM(Αναλυτικά!AD150:AE150)","v":12},{"$f":"SUM(Αναλυτικά!AF150:AK150)","v":17},{"$f":"SUM(Αναλυτικά!AL150:AN150)","v":0},{"$f":"SUM(Αναλυτικά!AO150:AP150)","v":0},56]
[169,null,null,138,{"$f":"Αναλυτικά!E151","v":"ΝΟΜΙΚΟΥ ΜΑΡΙΑ του ΜΑΡΚΟΥ (ΜΟΔΑ ΜΑΡΙΑ)"},{"$f":"SUM(Αναλυτικά!F151:J151)","v":54},{"$f":"SUM(Αναλυτικά!K151)","v":4},{"$f":"SUM(Αναλυτικά!L151:M151)","v":3},{"$f":"SUM(Αναλυτικά!N151:P151)","v":4},{"$f":"SUM(Αναλυτικά!Q151:S151)","v":9},{"$f":"SUM(Αναλυτικά!T151:U151)","v":7},{"$f":"SUM(Αναλυτικά!V151:X151)","v":1},{"$f":"SUM(Αναλυτικά!Y151)","v":1},{"$f":"SUM(Αναλυτικά!Z151:AA151)","v":4},{"$f":"SUM(Αναλυτικά!AB151:AC151)","v":7},{"$f":"SUM(Αναλυτικά!AD151:AE151)","v":2},{"$f":"SUM(Αναλυτικά!AF151:AK151)","v":25},{"$f":"SUM(Αναλυτικά!AL151:AN151)","v":0},{"$f":"SUM(Αναλυτικά!AO151:AP151)","v":0},121]
[170,null,null,139,{"$f":"Αναλυτικά!E152","v":"ΠΑΓΚΑΛΙΔΗΣ ΚΥΡΟΣ του ΧΡΗΣΤΟΥ"},{"$f":"SUM(Αναλυτικά!F152:J152)","v":17},{"$f":"SUM(Αναλυτικά!K152)","v":12},{"$f":"SUM(Αναλυτικά!L152:M152)","v":0},{"$f":"SUM(Αναλυτικά!N152:P152)","v":13},{"$f":"SUM(Αναλυτικά!Q152:S152)","v":15},{"$f":"SUM(Αναλυτικά!T152:U152)","v":6},{"$f":"SUM(Αναλυτικά!V152:X152)","v":14},{"$f":"SUM(Αναλυτικά!Y152)","v":13},{"$f":"SUM(Αναλυτικά!Z152:AA152)","v":0},{"$f":"SUM(Αναλυτικά!AB152:AC152)","v":2},{"$f":"SUM(Αναλυτικά!AD152:AE152)","v":3},{"$f":"SUM(Αναλυτικά!AF152:AK152)","v":4},{"$f":"SUM(Αναλυτικά!AL152:AN152)","v":3},{"$f":"SUM(Αναλυτικά!AO152:AP152)","v":0},102]
[171,null,null,140,{"$f":"Αναλυτικά!E153","v":"ΠΑΠΑΓΙΑΝΝΟΠΟΥΛΟΥ ΝΕΦΕΛΗ ΕΥΑΓΓΕΛΙΑ του ΓΕΩΡΓΙΟΥ"},{"$f":"SUM(Αναλυτικά!F153:J153)","v":10},{"$f":"SUM(Αναλυτικά!K153)","v":0},{"$f":"SUM(Αναλυτικά!L153:M153)","v":0},{"$f":"SUM(Αναλυτικά!N153:P153)","v":5},{"$f":"SUM(Αναλυτικά!Q153:S153)","v":4},{"$f":"SUM(Αναλυτικά!T153:U153)","v":0},{"$f":"SUM(Αναλυτικά!V153:X153)","v":6},{"$f":"SUM(Αναλυτικά!Y153)","v":2},{"$f":"SUM(Αναλυτικά!Z153:AA153)","v":1},{"$f":"SUM(Αναλυτικά!AB153:AC153)","v":1},{"$f":"SUM(Αναλυτικά!AD153:AE153)","v":1},{"$f":"SUM(Αναλυτικά!AF153:AK153)","v":3},{"$f":"SUM(Αναλυτικά!AL153:AN153)","v":4},{"$f":"SUM(Αναλυτικά!AO153:AP153)","v":0},37]
[172,null,null,141,{"$f":"Αναλυτικά!E154","v":"ΠΟΥΛΗΣ ΧΑΡΑΛΑΜΠΟΣ του ΦΑΝΟΥΡΙΟΥ"},{"$f":"SUM(Αναλυτικά!F154:J154)","v":1},{"$f":"SUM(Αναλυτικά!K154)","v":0},{"$f":"SUM(Αναλυτικά!L154:M154)","v":1},{"$f":"SUM(Αναλυτικά!N154:P154)","v":2},{"$f":"SUM(Αναλυτικά!Q154:S154)","v":7},{"$f":"SUM(Αναλυτικά!T154:U154)","v":2},{"$f":"SUM(Αναλυτικά!V154:X154)","v":42},{"$f":"SUM(Αναλυτικά!Y154)","v":4},{"$f":"SUM(Αναλυτικά!Z154:AA154)","v":4},{"$f":"SUM(Αναλυτικά!AB154:AC154)","v":0},{"$f":"SUM(Αναλυτικά!AD154:AE154)","v":2},{"$f":"SUM(Αναλυτικά!AF154:AK154)","v":9},{"$f":"SUM(Αναλυτικά!AL154:AN154)","v":1},{"$f":"SUM(Αναλυτικά!AO154:AP154)","v":0},75]
[173,null,null,142,{"$f":"Αναλυτικά!E155","v":"ΠΡΕΒΟΛΗ ΑΙΚΑΤΕΡΙΝΗ του ΜΙΧΑΗΛ (ΣΤΑΚΟΥ)"},{"$f":"SUM(Αναλυτικά!F155:J155)","v":1},{"$f":"SUM(Αναλυτικά!K155)","v":1},{"$f":"SUM(Αναλυτικά!L155:M155)","v":0},{"$f":"SUM(Αναλυτικά!N155:P155)","v":4},{"$f":"SUM(Αναλυτικά!Q155:S155)","v":1},{"$f":"SUM(Αναλυτικά!T155:U155)","v":1},{"$f":"SUM(Αναλυτικά!V155:X155)","v":1},{"$f":"SUM(Αναλυτικά!Y155)","v":11},{"$f":"SUM(Αναλυτικά!Z155:AA155)","v":0},{"$f":"SUM(Αναλυτικά!AB155:AC155)","v":0},{"$f":"SUM(Αναλυτικά!AD155:AE155)","v":0},{"$f":"SUM(Αναλυτικά!AF155:AK155)","v":0},{"$f":"SUM(Αναλυτικά!AL155:AN155)","v":0},{"$f":"SUM(Αναλυτικά!AO155:AP155)","v":0},20]
[174,null,null,143,{"$f":"Αναλυτικά!E156","v":"ΡΟΥΣΣΟΣ ΓΕΩΡΓΙΟΣ του ΑΡΤΕΜΙΟΥ (ΑΡΑΠΗΣ)"},{"$f":"SUM(Αναλυτικά!F156:J156)","v":13},{"$f":"SUM(Αναλυτικά!K156)","v":2},{"$f":"SUM(Αναλυτικά!L156:M156)","v":1},{"$f":"SUM(Αναλυτικά!N156:P156)","v":6},{"$f":"SUM(Αναλυτικά!Q156:S156)","v":3},{"$f":"SUM(Αναλυτικά!T156:U156)","v":7},{"$f":"SUM(Αναλυτικά!V156:X156)","v":3},{"$f":"SUM(Αναλυτικά!Y156)","v":28},{"$f":"SUM(Αναλυτικά!Z156:AA156)","v":1},{"$f":"SUM(Αναλυτικά!AB156:AC156)","v":2},{"$f":"SUM(Αναλυτικά!AD156:AE156)","v":1},{"$f":"SUM(Αναλυτικά!AF156:AK156)","v":4},{"$f":"SUM(Αναλυτικά!AL156:AN156)","v":0},{"$f":"SUM(Αναλυτικά!AO156:AP156)","v":0},71]
[175,null,null,144,{"$f":"Αναλυτικά!E157","v":"ΡΟΥΣΣΟΣ ΓΕΩΡΓΙΟΣ του ΠΑΝΑΓΙΩΤΗ"},{"$f":"SUM(Αναλυτικά!F157:J157)","v":44},{"$f":"SUM(Αναλυτικά!K157)","v":3},{"$f":"SUM(Αναλυτικά!L157:M157)","v":1},{"$f":"SUM(Αναλυτικά!N157:P157)","v":30},{"$f":"SUM(Αναλυτικά!Q157:S157)","v":11},{"$f":"SUM(Αναλυτικά!T157:U157)","v":41},{"$f":"SUM(Αναλυτικά!V157:X157)","v":13},{"$f":"SUM(Αναλυτικά!Y157)","v":3},{"$f":"SUM(Αναλυτικά!Z157:AA157)","v":0},{"$f":"SUM(Αναλυτικά!AB157:AC157)","v":5},{"$f":"SUM(Αναλυτικά!AD157:AE157)","v":2},{"$f":"SUM(Αναλυτικά!AF157:AK157)","v":4},{"$f":"SUM(Αναλυτικά!AL157:AN157)","v":2},{"$f":"SUM(Αναλυτικά!AO157:AP157)","v":2},161]
[176,null,null,145,{"$f":"Αναλυτικά!E158","v":"ΣΙΓΑΛΑΣ ΕΠΙΦΑΝΙΟΣ του ΑΝΤΩΝΙΟΥ"},{"$f":"SUM(Αναλυτικά!F158:J158)","v":20},{"$f":"SUM(Αναλυτικά!K158)","v":10},{"$f":"SUM(Αναλυτικά!L158:M158)","v":4},{"$f":"SUM(Αναλυτικά!N158:P158)","v":13},{"$f":"SUM(Αναλυτικά!Q158:S158)","v":31},{"$f":"SUM(Αναλυτικά!T158:U158)","v":71},{"$f":"SUM(Αναλυτικά!V158:X158)","v":14},{"$f":"SUM(Αναλυτικά!Y158)","v":3},{"$f":"SUM(Αναλυτικά!Z158:AA158)","v":8},{"$f":"SUM(Αναλυτικά!AB158:AC158)","v":15},{"$f":"SUM(Αναλυτικά!AD158:AE158)","v":69},{"$f":"SUM(Αναλυτικά!AF158:AK158)","v":39},{"$f":"SUM(Αναλυτικά!AL158:AN158)","v":1},{"$f":"SUM(Αναλυτικά!AO158:AP158)","v":0},298]
[177,null,null,146,{"$f":"Αναλυτικά!E159","v":"ΦΟΥΣΤΕΡΗ ΜΑΡΙΑΝΝΑ του ΕΛΕΥΘΕΡΙΟΥ"},{"$f":"SUM(Αναλυτικά!F159:J159)","v":5},{"$f":"SUM(Αναλυτικά!K159)","v":1},{"$f":"SUM(Αναλυτικά!L159:M159)","v":0},{"$f":"SUM(Αναλυτικά!N159:P159)","v":1},{"$f":"SUM(Αναλυτικά!Q159:S159)","v":51},{"$f":"SUM(Αναλυτικά!T159:U159)","v":4},{"$f":"SUM(Αναλυτικά!V159:X159)","v":3},{"$f":"SUM(Αναλυτικά!Y159)","v":2},{"$f":"SUM(Αναλυτικά!Z159:AA159)","v":0},{"$f":"SUM(Αναλυτικά!AB159:AC159)","v":0},{"$f":"SUM(Αναλυτικά!AD159:AE159)","v":1},{"$f":"SUM(Αναλυτικά!AF159:AK159)","v":0},{"$f":"SUM(Αναλυτικά!AL159:AN159)","v":0},{"$f":"SUM(Αναλυτικά!AO159:AP159)","v":0},68]
[178,null,null,147,{"$f":"Αναλυτικά!E160","v":"ΦΟΥΣΤΕΡΗΣ ΙΩΑΝΝΗΣ του ΓΕΩΡΓΙΟΥ"},{"$f":"SUM(Αναλυτικά!F160:J160)","v":8},{"$f":"SUM(Αναλυτικά!K160)","v":1},{"$f":"SUM(Αναλυτικά!L160:M160)","v":0},{"$f":"SUM(Αναλυτικά!N160:P160)","v":0},{"$f":"SUM(Αναλυτικά!Q160:S160)","v":7},{"$f":"SUM(Αναλυτικά!T160:U160)","v":4},{"$f":"SUM(Αναλυτικά!V160:X160)","v":1},{"$f":"SUM(Αναλυτικά!Y160)","v":0},{"$f":"SUM(Αναλυτικά!Z160:AA160)","v":9},{"$f":"SUM(Αναλυτικά!AB160:AC160)","v":0},{"$f":"SUM(Αναλυτικά!AD160:AE160)","v":1},{"$f":"SUM(Αναλυτικά!AF160:AK160)","v":2},{"$f":"SUM(Αναλυτικά!AL160:AN160)","v":0},{"$f":"SUM(Αναλυτικά!AO160:AP160)","v":0},33]
[179,null,null,148,{"$f":"Αναλυτικά!E161","v":"ΦΟΥΣΤΕΡΗΣ ΙΩΑΝΝΗΣ του ΕΥΑΓΓΕΛΟΥ"},{"$f":"SUM(Αναλυτικά!F161:J161)","v":4},{"$f":"SUM(Αναλυτικά!K161)","v":3},{"$f":"SUM(Αναλυτικά!L161:M161)","v":1},{"$f":"SUM(Αναλυτικά!N161:P161)","v":4},{"$f":"SUM(Αναλυτικά!Q161:S161)","v":60},{"$f":"SUM(Αναλυτικά!T161:U161)","v":7},{"$f":"SUM(Αναλυτικά!V161:X161)","v":15},{"$f":"SUM(Αναλυτικά!Y161)","v":1},{"$f":"SUM(Αναλυτικά!Z161:AA161)","v":3},{"$f":"SUM(Αναλυτικά!AB161:AC161)","v":0},{"$f":"SUM(Αναλυτικά!AD161:AE161)","v":1},{"$f":"SUM(Αναλυτικά!AF161:AK161)","v":3},{"$f":"SUM(Αναλυτικά!AL161:AN161)","v":2},{"$f":"SUM(Αναλυτικά!AO161:AP161)","v":0},104]
[180,null,null,149,{"$f":"Αναλυτικά!E162","v":"ΧΑΛΑΡΗ ΜΑΡΙΑ του ΑΝΤΩΝΙΟΥ"},{"$f":"SUM(Αναλυτικά!F162:J162)","v":4},{"$f":"SUM(Αναλυτικά!K162)","v":11},{"$f":"SUM(Αναλυτικά!L162:M162)","v":0},{"$f":"SUM(Αναλυτικά!N162:P162)","v":3},{"$f":"SUM(Αναλυτικά!Q162:S162)","v":3},{"$f":"SUM(Αναλυτικά!T162:U162)","v":2},{"$f":"SUM(Αναλυτικά!V162:X162)","v":2},{"$f":"SUM(Αναλυτικά!Y162)","v":0},{"$f":"SUM(Αναλυτικά!Z162:AA162)","v":1},{"$f":"SUM(Αναλυτικά!AB162:AC162)","v":0},{"$f":"SUM(Αναλυτικά!AD162:AE162)","v":0},{"$f":"SUM(Αναλυτικά!AF162:AK162)","v":3},{"$f":"SUM(Αναλυτικά!AL162:AN162)","v":3},{"$f":"SUM(Αναλυτικά!AO162:AP162)","v":0},32]
[181,null,null,150,{"$f":"Αναλυτικά!E163","v":"ΧΑΛΑΡΗΣ ΑΝΤΩΝΙΟΣ του ΝΙΚΗΤΑ (ΣΚΑΡΑΜΑΓΚΑΣ)"},{"$f":"SUM(Αναλυτικά!F163:J163)","v":27},{"$f":"SUM(Αναλυτικά!K163)","v":22},{"$f":"SUM(Αναλυτικά!L163:M163)","v":2},{"$f":"SUM(Αναλυτικά!N163:P163)","v":102},{"$f":"SUM(Αναλυτικά!Q163:S163)","v":26},{"$f":"SUM(Αναλυτικά!T163:U163)","v":13},{"$f":"SUM(Αναλυτικά!V163:X163)","v":34},{"$f":"SUM(Αναλυτικά!Y163)","v":2},{"$f":"SUM(Αναλυτικά!Z163:AA163)","v":1},{"$f":"SUM(Αναλυτικά!AB163:AC163)","v":1},{"$f":"SUM(Αναλυτικά!AD163:AE163)","v":3},{"$f":"SUM(Αναλυτικά!AF163:AK163)","v":7},{"$f":"SUM(Αναλυτικά!AL163:AN163)","v":3},{"$f":"SUM(Αναλυτικά!AO163:AP163)","v":0},243]
[182,null,null,151,{"$f":"Αναλυτικά!E164","v":"ΧΗΤΑΣ ΡΕΝΟΣ του ΑΘΑΝΑΣΙΟΥ"},{"$f":"SUM(Αναλυτικά!F164:J164)","v":31},{"$f":"SUM(Αναλυτικά!K164)","v":5},{"$f":"SUM(Αναλυτικά!L164:M164)","v":0},{"$f":"SUM(Αναλυτικά!N164:P164)","v":133},{"$f":"SUM(Αναλυτικά!Q164:S164)","v":16},{"$f":"SUM(Αναλυτικά!T164:U164)","v":12},{"$f":"SUM(Αναλυτικά!V164:X164)","v":8},{"$f":"SUM(Αναλυτικά!Y164)","v":5},{"$f":"SUM(Αναλυτικά!Z164:AA164)","v":3},{"$f":"SUM(Αναλυτικά!AB164:AC164)","v":1},{"$f":"SUM(Αναλυτικά!AD164:AE164)","v":5},{"$f":"SUM(Αναλυτικά!AF164:AK164)","v":3},{"$f":"SUM(Αναλυτικά!AL164:AN164)","v":2},{"$f":"SUM(Αναλυτικά!AO164:AP164)","v":1},225]
[194,{"$nulls":3},"ΔΗΜΟΤΙΚΗ ΕΝΟΤΗΤΑ ΟΙΑΣ"]
[195,null,null,152,{"$f":"Αναλυτικά!E166","v":"ΚΑΡΡΑΣ ΜΙΧΑΗΛ του ΧΡΗΣΤΟΥ"},{"$f":"SUM(Αναλυτικά!F166:J166)","v":21},{"$f":"SUM(Αναλυτικά!K166)","v":16},{"$f":"SUM(Αναλυτικά!L166:M166)","v":0},{"$f":"SUM(Αναλυτικά!N166:P166)","v":15},{"$f":"SUM(Αναλυτικά!Q166:S166)","v":21},{"$f":"SUM(Αναλυτικά!T166:U166)","v":12},{"$f":"SUM(Αναλυτικά!V166:X166)","v":16},{"$f":"SUM(Αναλυτικά!Y166)","v":3},{"$f":"SUM(Αναλυτικά!Z166:AA166)","v":3},{"$f":"SUM(Αναλυτικά!AB166:AC166)","v":3},{"$f":"SUM(Αναλυτικά!AD166:AE166)","v":2},{"$f":"SUM(Αναλυτικά!AF166:AK166)","v":32},{"$f":"SUM(Αναλυτικά!AL166:AN166)","v":37},{"$f":"SUM(Αναλυτικά!AO166:AP166)","v":1},{"$f":"SUM(F164:S164)","v":182}]
[196,null,null,153,{"$f":"Αναλυτικά!E167","v":"ΜΑΡΚΟΖΑΝΕΣ ΙΩΑΝΝΗΣ του ΓΕΩΡΓΙΟΥ"},{"$f":"SUM(Αναλυτικά!F167:J167)","v":38},{"$f":"SUM(Αναλυτικά!K167)","v":10},{"$f":"SUM(Αναλυτικά!L167:M167)","v":1},{"$f":"SUM(Αναλυτικά!N167:P167)","v":92},{"$f":"SUM(Αναλυτικά!Q167:S167)","v":31},{"$f":"SUM(Αναλυτικά!T167:U167)","v":17},{"$f":"SUM(Αναλυτικά!V167:X167)","v":20},{"$f":"SUM(Αναλυτικά!Y167)","v":19},{"$f":"SUM(Αναλυτικά!Z167:AA167)","v":3},{"$f":"SUM(Αναλυτικά!AB167:AC167)","v":6},{"$f":"SUM(Αναλυτικά!AD167:AE167)","v":5},{"$f":"SUM(Αναλυτικά!AF167:AK167)","v":25},{"$f":"SUM(Αναλυτικά!AL167:AN167)","v":5},{"$f":"SUM(Αναλυτικά!AO167:AP167)","v":0},272]
[197,null,null,154,{"$f":"Αναλυτικά!E168","v":"ΜΟΥΤΣΑΤΣΟΥ ΚΥΡΙΑΚΗ του ΓΕΩΡΓΙΟΥ (ΚΙΚΗ)"},{"$f":"SUM(Αναλυτικά!F168:J168)","v":26},{"$f":"SUM(Αναλυτικά!K168)","v":6},{"$f":"SUM(Αναλυτικά!L168:M168)","v":1},{"$f":"SUM(Αναλυτικά!N168:P168)","v":25},{"$f":"SUM(Αναλυτικά!Q168:S168)","v":28},{"$f":"SUM(Αναλυτικά!T168:U168)","v":52},{"$f":"SUM(Αναλυτικά!V168:X168)","v":16},{"$f":"SUM(Αναλυτικά!Y168)","v":3},{"$f":"SUM(Αναλυτικά!Z168:AA168)","v":1},{"$f":"SUM(Αναλυτικά!AB168:AC168)","v":6},{"$f":"SUM(Αναλυτικά!AD168:AE168)","v":2},{"$f":"SUM(Αναλυτικά!AF168:AK168)","v":13},{"$f":"SUM(Αναλυτικά!AL168:AN168)","v":14},{"$f":"SUM(Αναλυτικά!AO168:AP168)","v":0},193]
[198,null,null,155,{"$f":"Αναλυτικά!E169","v":"ΣΟΡΩΤΟΣ ΙΩΑΝΝΗΣ του ΑΝΑΡΓΥΡΟΥ"},{"$f":"SUM(Αναλυτικά!F169:J169)","v":77},{"$f":"SUM(Αναλυτικά!K169)","v":19},{"$f":"SUM(Αναλυτικά!L169:M169)","v":11},{"$f":"SUM(Αναλυτικά!N169:P169)","v":65},{"$f":"SUM(Αναλυτικά!Q169:S169)","v":27},{"$f":"SUM(Αναλυτικά!T169:U169)","v":54},{"$f":"SUM(Αναλυτικά!V169:X169)","v":38},{"$f":"SUM(Αναλυτικά!Y169)","v":2},{"$f":"SUM(Αναλυτικά!Z169:AA169)","v":12},{"$f":"SUM(Αναλυτικά!AB169:AC169)","v":14},{"$f":"SUM(Αναλυτικά!AD169:AE169)","v":21},{"$f":"SUM(Αναλυτικά!AF169:AK169)","v":42},{"$f":"SUM(Αναλυτικά!AL169:AN169)","v":6},{"$f":"SUM(Αναλυτικά!AO169:AP169)","v":2},390]
[199,null,null,156,{"$f":"Αναλυτικά!E170","v":"ΣΥΡΙΓΟΥ ΑΝΝΑ του ΙΑΚΩΒΟΥ"},{"$f":"SUM(Αναλυτικά!F170:J170)","v":12},{"$f":"SUM(Αναλυτικά!K170)","v":5},{"$f":"SUM(Αναλυτικά!L170:M170)","v":1},{"$f":"SUM(Αναλυτικά!N170:P170)","v":9},{"$f":"SUM(Αναλυτικά!Q170:S170)","v":8},{"$f":"SUM(Αναλυτικά!T170:U170)","v":8},{"$f":"SUM(Αναλυτικά!V170:X170)","v":8},{"$f":"SUM(Αναλυτικά!Y170)","v":5},{"$f":"SUM(Αναλυτικά!Z170:AA170)","v":4},{"$f":"SUM(Αναλυτικά!AB170:AC170)","v":7},{"$f":"SUM(Αναλυτικά!AD170:AE170)","v":4},{"$f":"SUM(Αναλυτικά!AF170:AK170)","v":13},{"$f":"SUM(Αναλυτικά!AL170:AN170)","v":7},{"$f":"SUM(Αναλυτικά!AO170:AP170)","v":5},96]
[201,"ΤΩΡΑ! Για τη Σαντορίνη και τη Θηρασιά",null,null,"ΔΗΜΟΤΙΚΗ ΕΝΟΤΗΤΑ ΘΗΡΑΣ"]
[202,null,null,157,{"$f":"Αναλυτικά!E172","v":"ΑΓΓΕΛΑΚΗ ΜΑΡΙΑ του ΣΠΥΡΙΔΩΝΟΣ"},{"$f":"SUM(Αναλυτικά!F172:J172)","v":45},{"$f":"SUM(Αναλυτικά!K172)","v":15},{"$f":"SUM(Αναλυτικά!L172:M172)","v":3},{"$f":"SUM(Αναλυτικά!N172:P172)","v":18},{"$f":"SUM(Αναλυτικά!Q172:S172)","v":18},{"$f":"SUM(Αναλυτικά!T172:U172)","v":17},{"$f":"SUM(Αναλυτικά!V172:X172)","v":17},{"$f":"SUM(Αναλυτικά!Y172)","v":4},{"$f":"SUM(Αναλυτικά!Z172:AA172)","v":11},{"$f":"SUM(Αναλυτικά!AB172:AC172)","v":3},{"$f":"SUM(Αναλυτικά!AD172:AE172)","v":6},{"$f":"SUM(Αναλυτικά!AF172:AK172)","v":18},{"$f":"SUM(Αναλυτικά!AL172:AN172)","v":10},{"$f":"SUM(Αναλυτικά!AO172:AP172)","v":2},{"$f":"SUM(F170:S170)","v":187}]
[203,null,null,158,{"$f":"Αναλυτικά!E173","v":"ΑΛΑΦΟΥΖΟΣ ΒΑΣΙΛΕΙΟΣ του ΑΝΑΣΤΑΣΙΟΥ"},{"$f":"SUM(Αναλυτικά!F173:J173)","v":49},{"$f":"SUM(Αναλυτικά!K173)","v":14},{"$f":"SUM(Αναλυτικά!L173:M173)","v":10},{"$f":"SUM(Αναλυτικά!N173:P173)","v":29},{"$f":"SUM(Αναλυτικά!Q173:S173)","v":21},{"$f":"SUM(Αναλυτικά!T173:U173)","v":13},{"$f":"SUM(Αναλυτικά!V173:X173)","v":82},{"$f":"SUM(Αναλυτικά!Y173)","v":7},{"$f":"SUM(Αναλυτικά!Z173:AA173)","v":12},{"$f":"SUM(Αναλυτικά!AB173:AC173)","v":3},{"$f":"SUM(Αναλυτικά!AD173:AE173)","v":7},{"$f":"SUM(Αναλυτικά!AF173:AK173)","v":18},{"$f":"SUM(Αναλυτικά!AL173:AN173)","v":30},{"$f":"SUM(Αναλυτικά!AO173:AP173)","v":0},295]
[204,null,null,159,{"$f":"Αναλυτικά!E174","v":"ΑΛΕΞΙΟΥ ΝΙΚΟΛΕΤΑ (ΝΙΚΗ) του ΙΠΠΟΚΡΑΤΗ"},{"$f":"SUM(Αναλυτικά!F174:J174)","v":5},{"$f":"SUM(Αναλυτικά!K174)","v":4},{"$f":"SUM(Αναλυτικά!L174:M174)","v":1},{"$f":"SUM(Αναλυτικά!N174:P174)","v":3},{"$f":"SUM(Αναλυτικά!Q174:S174)","v":3},{"$f":"SUM(Αναλυτικά!T174:U174)","v":2},{"$f":"SUM(Αναλυτικά!V174:X174)","v":38},{"$f":"SUM(Αναλυτικά!Y174)","v":0},{"$f":"SUM(Αναλυτικά!Z174:AA174)","v":6},{"$f":"SUM(Αναλυτικά!AB174:AC174)","v":0},{"$f":"SUM(Αναλυτικά!AD174:AE174)","v":1},{"$f":"SUM(Αναλυτικά!AF174:AK174)","v":3},{"$f":"SUM(Αναλυτικά!AL174:AN174)","v":0},{"$f":"SUM(Αναλυτικά!AO174:AP174)","v":0},66]
[205,null,null,160,{"$f":"Αναλυτικά!E175","v":"ΒΑΛΒΗΣ ΧΑΡΑΛΑΜΠΟΣ (ΨΟΜΟΦΑΣ) του ΝΙΚΟΛΑΟΥ"},{"$f":"SUM(Αναλυτικά!F175:J175)","v":4},{"$f":"SUM(Αναλυτικά!K175)","v":1},{"$f":"SUM(Αναλυτικά!L175:M175)","v":0},{"$f":"SUM(Αναλυτικά!N175:P175)","v":0},{"$f":"SUM(Αναλυτικά!Q175:S175)","v":4},{"$f":"SUM(Αναλυτικά!T175:U175)","v":2},{"$f":"SUM(Αναλυτικά!V175:X175)","v":4},{"$f":"SUM(Αναλυτικά!Y175)","v":0},{"$f":"SUM(Αναλυτικά!Z175:AA175)","v":1},{"$f":"SUM(Αναλυτικά!AB175:AC175)","v":0},{"$f":"SUM(Αναλυτικά!AD175:AE175)","v":0},{"$f":"SUM(Αναλυτικά!AF175:AK175)","v":8},{"$f":"SUM(Αναλυτικά!AL175:AN175)","v":2},{"$f":"SUM(Αναλυτικά!AO175:AP175)","v":0},26]
[206,null,null,161,{"$f":"Αναλυτικά!E176","v":"ΒΛΑΒΙΑΝΟΥ ΕΙΡΗΝΗ του ΛΟΥΚΑ"},{"$f":"SUM(Αναλυτικά!F176:J176)","v":29},{"$f":"SUM(Αναλυτικά!K176)","v":50},{"$f":"SUM(Αναλυτικά!L176:M176)","v":5},{"$f":"SUM(Αναλυτικά!N176:P176)","v":11},{"$f":"SUM(Αναλυτικά!Q176:S176)","v":8},{"$f":"SUM(Αναλυτικά!T176:U176)","v":2},{"$f":"SUM(Αναλυτικά!V176:X176)","v":6},{"$f":"SUM(Αναλυτικά!Y176)","v":4},{"$f":"SUM(Αναλυτικά!Z176:AA176)","v":6},{"$f":"SUM(Αναλυτικά!AB176:AC176)","v":1},{"$f":"SUM(Αναλυτικά!AD176:AE176)","v":1},{"$f":"SUM(Αναλυτικά!AF176:AK176)","v":6},{"$f":"SUM(Αναλυτικά!AL176:AN176)","v":19},{"$f":"SUM(Αναλυτικά!AO176:AP176)","v":0},148]
[207,null,null,162,{"$f":"Αναλυτικά!E177","v":"ΓΑΛΑΙΟΣ ΝΙΚΟΛΑΟΣ του ΕΜΜΑΝΟΥΗΛ"},{"$f":"SUM(Αναλυτικά!F177:J177)","v":3},{"$f":"SUM(Αναλυτικά!K177)","v":1},{"$f":"SUM(Αναλυτικά!L177:M177)","v":0},{"$f":"SUM(Αναλυτικά!N177:P177)","v":3},{"$f":"SUM(Αναλυτικά!Q177:S177)","v":4},{"$f":"SUM(Αναλυτικά!T177:U177)","v":1},{"$f":"SUM(Αναλυτικά!V177:X177)","v":7},{"$f":"SUM(Αναλυτικά!Y177)","v":1},{"$f":"SUM(Αναλυτικά!Z177:AA177)","v":20},{"$f":"SUM(Αναλυτικά!AB177:AC177)","v":1},{"$f":"SUM(Αναλυτικά!AD177:AE177)","v":1},{"$f":"SUM(Αναλυτικά!AF177:AK177)","v":3},{"$f":"SUM(Αναλυτικά!AL177:AN177)","v":6},{"$f":"SUM(Αναλυτικά!AO177:AP177)","v":0},51]
[208,null,null,163,{"$f":"Αναλυτικά!E178","v":"ΓΑΛΑΙΟΣ ΠΑΝΑΓΙΩΤΗΣ του ΠΑΡΑΣΚΕΥΑ"},{"$f":"SUM(Αναλυτικά!F178:J178)","v":17},{"$f":"SUM(Αναλυτικά!K178)","v":2},{"$f":"SUM(Αναλυτικά!L178:M178)","v":3},{"$f":"SUM(Αναλυτικά!N178:P178)","v":0},{"$f":"SUM(Αναλυτικά!Q178:S178)","v":7},{"$f":"SUM(Αναλυτικά!T178:U178)","v":5},{"$f":"SUM(Αναλυτικά!V178:X178)","v":4},{"$f":"SUM(Αναλυτικά!Y178)","v":3},{"$f":"SUM(Αναλυτικά!Z178:AA178)","v":8},{"$f":"SUM(Αναλυτικά!AB178:AC178)","v":1},{"$f":"SUM(Αναλυτικά!AD178:AE178)","v":1},{"$f":"SUM(Αναλυτικά!AF178:AK178)","v":7},{"$f":"SUM(Αναλυτικά!AL178:AN178)","v":2},{"$f":"SUM(Αναλυτικά!AO178:AP178)","v":0},60]
[209,null,null,164,{"$f":"Αναλυτικά!E179","v":"ΔΑΚΟΡΩΝΙΑ‑ ΖΩΡΖΟΥ ΠΕΤΡΟΥΛΑ του ΓΕΩΡΓΙΟΥ"},{"$f":"SUM(Αναλυτικά!F179:J179)","v":30},{"$f":"SUM(Αναλυτικά!K179)","v":1},{"$f":"SUM(Αναλυτικά!L179:M179)","v":0},{"$f":"SUM(Αναλυτικά!N179:P179)","v":10},{"$f":"SUM(Αναλυτικά!Q179:S179)","v":8},{"$f":"SUM(Αναλυτικά!T179:U179)","v":5},{"$f":"SUM(Αναλυτικά!V179:X179)","v":5},{"$f":"SUM(Αναλυτικά!Y179)","v":2},{"$f":"SUM(Αναλυτικά!Z179:AA179)","v":5},{"$f":"SUM(Αναλυτικά!AB179:AC179)","v":1},{"$f":"SUM(Αναλυτικά!AD179:AE179)","v":4},{"$f":"SUM(Αναλυτικά!AF179:AK179)","v":12},{"$f":"SUM(Αναλυτικά!AL179:AN179)","v":1},{"$f":"SUM(Αναλυτικά!AO179:AP179)","v":2},86]
[210,null,null,165,{"$f":"Αναλυτικά!E180","v":"ΔΑΚΟΥΤΡΟΣ ΙΑΚΩΒΟΣ (ΒΑΚΗΣ) του ΑΝΔΡΕΑ"},{"$f":"SUM(Αναλυτικά!F180:J180)","v":59},{"$f":"SUM(Αναλυτικά!K180)","v":2},{"$f":"SUM(Αναλυτικά!L180:M180)","v":1},{"$f":"SUM(Αναλυτικά!N180:P180)","v":3},{"$f":"SUM(Αναλυτικά!Q180:S180)","v":12},{"$f":"SUM(Αναλυτικά!T180:U180)","v":4},{"$f":"SUM(Αναλυτικά!V180:X180)","v":3},{"$f":"SUM(Αναλυτικά!Y180)","v":2},{"$f":"SUM(Αναλυτικά!Z180:AA180)","v":8},{"$f":"SUM(Αναλυτικά!AB180:AC180)","v":0},{"$f":"SUM(Αναλυτικά!AD180:AE180)","v":0},{"$f":"SUM(Αναλυτικά!AF180:AK180)","v":2},{"$f":"SUM(Αναλυτικά!AL180:AN180)","v":3},{"$f":"SUM(Αναλυτικά!AO180:AP180)","v":2},101]
[211,null,null,166,{"$f":"Αναλυτικά!E181","v":"ΔΑΜΑΣΚΗΝΟΣ ΑΝΤΩΝΙΟΣ του ΙΩΑΝΝΗ"},{"$f":"SUM(Αναλυτικά!F181:J181)","v":4},{"$f":"SUM(Αναλυτικά!K181)","v":0},{"$f":"SUM(Αναλυτικά!L181:M181)","v":1},{"$f":"SUM(Αναλυτικά!N181:P181)","v":1},{"$f":"SUM(Αναλυτικά!Q181:S181)","v":2},{"$f":"SUM(Αναλυτικά!T181:U181)","v":4},{"$f":"SUM(Αναλυτικά!V181:X181)","v":2},{"$f":"SUM(Αναλυτικά!Y181)","v":0},{"$f":"SUM(Αναλυτικά!Z181:AA181)","v":0},{"$f":"SUM(Αναλυτικά!AB181:AC181)","v":4},{"$f":"SUM(Αναλυτικά!AD181:AE181)","v":4},{"$f":"SUM(Αναλυτικά!AF181:AK181)","v":7},{"$f":"SUM(Αναλυτικά!AL181:AN181)","v":1},{"$f":"SUM(Αναλυτικά!AO181:AP181)","v":0},30]
[212,null,null,167,{"$f":"Αναλυτικά!E182","v":"ΔΡΟΣΟΣ ΜΙΧΑΗΛ (ΜΠΙΣΤΟΛΗΣ) του ΕΥΣΤΑΘΙΟΥ"},{"$f":"SUM(Αναλυτικά!F182:J182)","v":0},{"$f":"SUM(Αναλυτικά!K182)","v":0},{"$f":"SUM(Αναλυτικά!L182:M182)","v":0},{"$f":"SUM(Αναλυτικά!N182:P182)","v":1},{"$f":"SUM(Αναλυτικά!Q182:S182)","v":0},{"$f":"SUM(Αναλυτικά!T182:U182)","v":0},{"$f":"SUM(Αναλυτικά!V182:X182)","v":0},{"$f":"SUM(Αναλυτικά!Y182)","v":0},{"$f":"SUM(Αναλυτικά!Z182:AA182)","v":0},{"$f":"SUM(Αναλυτικά!AB182:AC182)","v":0},{"$f":"SUM(Αναλυτικά!AD182:AE182)","v":0},{"$f":"SUM(Αναλυτικά!AF182:AK182)","v":9},{"$f":"SUM(Αναλυτικά!AL182:AN182)","v":0},{"$f":"SUM(Αναλυτικά!AO182:AP182)","v":0},10]
[213,null,null,168,{"$f":"Αναλυτικά!E183","v":"ΔΡΟΣΟΥ ΜΑΡΙΑ του ΕΥΑΓΓΕΛΟΥ"},{"$f":"SUM(Αναλυτικά!F183:J183)","v":5},{"$f":"SUM(Αναλυτικά!K183)","v":3},{"$f":"SUM(Αναλυτικά!L183:M183)","v":0},{"$f":"SUM(Αναλυτικά!N183:P183)","v":3},{"$f":"SUM(Αναλυτικά!Q183:S183)","v":2},{"$f":"SUM(Αναλυτικά!T183:U183)","v":3},{"$f":"SUM(Αναλυτικά!V183:X183)","v":7},{"$f":"SUM(Αναλυτικά!Y183)","v":1},{"$f":"SUM(Αναλυτικά!Z183:AA183)","v":3},{"$f":"SUM(Αναλυτικά!AB183:AC183)","v":0},{"$f":"SUM(Αναλυτικά!AD183:AE183)","v":1},{"$f":"SUM(Αναλυτικά!AF183:AK183)","v":25},{"$f":"SUM(Αναλυτικά!AL183:AN183)","v":3},{"$f":"SUM(Αναλυτικά!AO183:AP183)","v":1},57]
[214,null,null,169,{"$f":"Αναλυτικά!E184","v":"ΖΑΜΠΕΛΗ ΕΙΡΗΝΗ του ΣΤΑΥΡΟΥ"},{"$f":"SUM(Αναλυτικά!F184:J184)","v":5},{"$f":"SUM(Αναλυτικά!K184)","v":1},{"$f":"SUM(Αναλυτικά!L184:M184)","v":0},{"$f":"SUM(Αναλυτικά!N184:P184)","v":15},{"$f":"SUM(Αναλυτικά!Q184:S184)","v":3},{"$f":"SUM(Αναλυτικά!T184:U184)","v":3},{"$f":"SUM(Αναλυτικά!V184:X184)","v":8},{"$f":"SUM(Αναλυτικά!Y184)","v":1},{"$f":"SUM(Αναλυτικά!Z184:AA184)","v":3},{"$f":"SUM(Αναλυτικά!AB184:AC184)","v":0},{"$f":"SUM(Αναλυτικά!AD184:AE184)","v":0},{"$f":"SUM(Αναλυτικά!AF184:AK184)","v":31},{"$f":"SUM(Αναλυτικά!AL184:AN184)","v":3},{"$f":"SUM(Αναλυτικά!AO184:AP184)","v":0},73]
[215,null,null,170,{"$f":"Αναλυτικά!E185","v":"ΚΑΤΡΗΣ ΛΟΥΚΑΣ του ΓΕΩΡΓΙΟΥ"},{"$f":"SUM(Αναλυτικά!F185:J185)","v":30},{"$f":"SUM(Αναλυτικά!K185)","v":4},{"$f":"SUM(Αναλυτικά!L185:M185)","v":11},{"$f":"SUM(Αναλυτικά!N185:P185)","v":12},{"$f":"SUM(Αναλυτικά!Q185:S185)","v":9},{"$f":"SUM(Αναλυτικά!T185:U185)","v":2},{"$f":"SUM(Αναλυτικά!V185:X185)","v":4},{"$f":"SUM(Αναλυτικά!Y185)","v":3},{"$f":"SUM(Αναλυτικά!Z185:AA185)","v":4},{"$f":"SUM(Αναλυτικά!AB185:AC185)","v":0},{"$f":"SUM(Αναλυτικά!AD185:AE185)","v":2},{"$f":"SUM(Αναλυτικά!AF185:AK185)","v":2},{"$f":"SUM(Αναλυτικά!AL185:AN185)","v":2},{"$f":"SUM(Αναλυτικά!AO185:AP185)","v":0},85]
[216,null,null,171,{"$f":"Αναλυτικά!E186","v":"ΛΙΓΝΟΥ ΑΝΝΑ του ΕΥΑΓΓΕΛΟΥ"},{"$f":"SUM(Αναλυτικά!F186:J186)","v":12},{"$f":"SUM(Αναλυτικά!K186)","v":1},{"$f":"SUM(Αναλυτικά!L186:M186)","v":1},{"$f":"SUM(Αναλυτικά!N186:P186)","v":7},{"$f":"SUM(Αναλυτικά!Q186:S186)","v":16},{"$f":"SUM(Αναλυτικά!T186:U186)","v":25},{"$f":"SUM(Αναλυτικά!V186:X186)","v":1},{"$f":"SUM(Αναλυτικά!Y186)","v":1},{"$f":"SUM(Αναλυτικά!Z186:AA186)","v":1},{"$f":"SUM(Αναλυτικά!AB186:AC186)","v":0},{"$f":"SUM(Αναλυτικά!AD186:AE186)","v":0},{"$f":"SUM(Αναλυτικά!AF186:AK186)","v":2},{"$f":"SUM(Αναλυτικά!AL186:AN186)","v":3},{"$f":"SUM(Αναλυτικά!AO186:AP186)","v":2},72]
[217,null,null,172,{"$f":"Αναλυτικά!E187","v":"ΛΥΓΝΟΥ ΝΙΚΟΛΙΝΑ (ΝΙΚΗ) του ΕΥΑΓΓΕΛΟΥ"},{"$f":"SUM(Αναλυτικά!F187:J187)","v":5},{"$f":"SUM(Αναλυτικά!K187)","v":0},{"$f":"SUM(Αναλυτικά!L187:M187)","v":0},{"$f":"SUM(Αναλυτικά!N187:P187)","v":4},{"$f":"SUM(Αναλυτικά!Q187:S187)","v":19},{"$f":"SUM(Αναλυτικά!T187:U187)","v":0},{"$f":"SUM(Αναλυτικά!V187:X187)","v":1},{"$f":"SUM(Αναλυτικά!Y187)","v":0},{"$f":"SUM(Αναλυτικά!Z187:AA187)","v":0},{"$f":"SUM(Αναλυτικά!AB187:AC187)","v":0},{"$f":"SUM(Αναλυτικά!AD187:AE187)","v":0},{"$f":"SUM(Αναλυτικά!AF187:AK187)","v":0},{"$f":"SUM(Αναλυτικά!AL187:AN187)","v":3},{"$f":"SUM(Αναλυτικά!AO187:AP187)","v":0},32]
[218,null,null,173,{"$f":"Αναλυτικά!E188","v":"ΜΑΚΡΗΣ ΠΑΝΑΓΙΩΤΗΣ του ΧΡΗΣΤΟΥ"},{"$f":"SUM(Αναλυτικά!F188:J188)","v":2},{"$f":"SUM(Αναλυτικά!K188)","v":0},{"$f":"SUM(Αναλυτικά!L188:M188)","v":0},{"$f":"SUM(Αναλυτικά!N188:P188)","v":5},{"$f":"SUM(Αναλυτικά!Q188:S188)","v":2},{"$f":"SUM(Αναλυτικά!T188:U188)","v":2},{"$f":"SUM(Αναλυτικά!V188:X188)","v":26},{"$f":"SUM(Αναλυτικά!Y188)","v":0},{"$f":"SUM(Αναλυτικά!Z188:AA188)","v":5},{"$f":"SUM(Αναλυτικά!AB188:AC188)","v":0},{"$f":"SUM(Αναλυτικά!AD188:AE188)","v":1},{"$f":"SUM(Αναλυτικά!AF188:AK188)","v":0},{"$f":"SUM(Αναλυτικά!AL188:AN188)","v":0},{"$f":"SUM(Αναλυτικά!AO188:AP188)","v":0},43]
[219,null,null,174,{"$f":"Αναλυτικά!E189","v":"ΜΟΥΚΑΤΕΜΙΔΟΥ‑ΙΩΑΝΝΙΔΟΥ ΕΛΙΣΣΑΒΕΤ (ΛΙΖΑ) του ΙΩΑΝΝΗ"},{"$f":"SUM(Αναλυτικά!F189:J189)","v":15},{"$f":"SUM(Αναλυτικά!K189)","v":1},{"$f":"SUM(Αναλυτικά!L189:M189)","v":1},{"$f":"SUM(Αναλυτικά!N189:P189)","v":2},{"$f":"SUM(Αναλυτικά!Q189:S189)","v":2},{"$f":"SUM(Αναλυτικά!T189:U189)","v":1},{"$f":"SUM(Αναλυτικά!V189:X189)","v":25},{"$f":"SUM(Αναλυτικά!Y189)","v":0},{"$f":"SUM(Αναλυτικά!Z189:AA189)","v":2},{"$f":"SUM(Αναλυτικά!AB189:AC189)","v":2},{"$f":"SUM(Αναλυτικά!AD189:AE189)","v":2},{"$f":"SUM(Αναλυτικά!AF189:AK189)","v":3},{"$f":"SUM(Αναλυτικά!AL189:AN189)","v":1},{"$f":"SUM(Αναλυτικά!AO189:AP189)","v":0},57]
[220,null,null,175,{"$f":"Αναλυτικά!E190","v":"ΜΠΑΪΚΑ ΜΑΡΙΑ του ΧΡΗΣΤΟΥ"},{"$f":"SUM(Αναλυτικά!F190:J190)","v":13},{"$f":"SUM(Αναλυτικά!K190)","v":3},{"$f":"SUM(Αναλυτικά!L190:M190)","v":0},{"$f":"SUM(Αναλυτικά!N190:P190)","v":3},{"$f":"SUM(Αναλυτικά!Q190:S190)","v":1},{"$f":"SUM(Αναλυτικά!T190:U190)","v":2},{"$f":"SUM(Αναλυτικά!V190:X190)","v":3},{"$f":"SUM(Αναλυτικά!Y190)","v":1},{"$f":"SUM(Αναλυτικά!Z190:AA190)","v":1},{"$f":"SUM(Αναλυτικά!AB190:AC190)","v":0},{"$f":"SUM(Αναλυτικά!AD190:AE190)","v":29},{"$f":"SUM(Αναλυτικά!AF190:AK190)","v":5},{"$f":"SUM(Αναλυτικά!AL190:AN190)","v":3},{"$f":"SUM(Αναλυτικά!AO190:AP190)","v":0},64]
[221,null,null,176,{"$f":"Αναλυτικά!E191","v":"ΜΠΛΕΔΑΚΗΣ ΑΛΕΞΑΝΔΡΟΣ (ΑΛΕΚΟΣ) του ΑΝΤΩΝΙΟΥ"},{"$f":"SUM(Αναλυτικά!F191:J191)","v":63},{"$f":"SUM(Αναλυτικά!K191)","v":34},{"$f":"SUM(Αναλυτικά!L191:M191)","v":3},{"$f":"SUM(Αναλυτικά!N191:P191)","v":8},{"$f":"SUM(Αναλυτικά!Q191:S191)","v":12},{"$f":"SUM(Αναλυτικά!T191:U191)","v":7},{"$f":"SUM(Αναλυτικά!V191:X191)","v":16},{"$f":"SUM(Αναλυτικά!Y191)","v":2},{"$f":"SUM(Αναλυτικά!Z191:AA191)","v":2},{"$f":"SUM(Αναλυτικά!AB191:AC191)","v":1},{"$f":"SUM(Αναλυτικά!AD191:AE191)","v":0},{"$f":"SUM(Αναλυτικά!AF191:AK191)","v":4},{"$f":"SUM(Αναλυτικά!AL191:AN191)","v":4},{"$f":"SUM(Αναλυτικά!AO191:AP191)","v":0},156]
[222,null,null,177,{"$f":"Αναλυτικά!E192","v":"ΞΑΓΟΡΑΡΗΣ ΓΡΗΓΟΡΙΟΣ του ΝΙΚΟΛΑΟΥ"},{"$f":"SUM(Αναλυτικά!F192:J192)","v":30},{"$f":"SUM(Αναλυτικά!K192)","v":7},{"$f":"SUM(Αναλυτικά!L192:M192)","v":3},{"$f":"SUM(Αναλυτικά!N192:P192)","v":10},{"$f":"SUM(Αναλυτικά!Q192:S192)","v":13},{"$f":"SUM(Αναλυτικά!T192:U192)","v":8},{"$f":"SUM(Αναλυτικά!V192:X192)","v":11},{"$f":"SUM(Αναλυτικά!Y192)","v":4},{"$f":"SUM(Αναλυτικά!Z192:AA192)","v":27},{"$f":"SUM(Αναλυτικά!AB192:AC192)","v":0},{"$f":"SUM(Αναλυτικά!AD192:AE192)","v":7},{"$f":"SUM(Αναλυτικά!AF192:AK192)","v":11},{"$f":"SUM(Αναλυτικά!AL192:AN192)","v":1},{"$f":"SUM(Αναλυτικά!AO192:AP192)","v":4},136]
[223,null,null,178,{"$f":"Αναλυτικά!E193","v":"ΠΕΛΕΚΑΝΟΥ ΑΙΚΑΤΕΡΙΝΗ του ΚΩΝΣΤΑΝΤΙΝΟΥ"},{"$f":"SUM(Αναλυτικά!F193:J193)","v":26},{"$f":"SUM(Αναλυτικά!K193)","v":3},{"$f":"SUM(Αναλυτικά!L193:M193)","v":0},{"$f":"SUM(Αναλυτικά!N193:P193)","v":20},{"$f":"SUM(Αναλυτικά!Q193:S193)","v":15},{"$f":"SUM(Αναλυτικά!T193:U193)","v":3},{"$f":"SUM(Αναλυτικά!V193:X193)","v":6},{"$f":"SUM(Αναλυτικά!Y193)","v":3},{"$f":"SUM(Αναλυτικά!Z193:AA193)","v":3},{"$f":"SUM(Αναλυτικά!AB193:AC193)","v":2},{"$f":"SUM(Αναλυτικά!AD193:AE193)","v":4},{"$f":"SUM(Αναλυτικά!AF193:AK193)","v":5},{"$f":"SUM(Αναλυτικά!AL193:AN193)","v":8},{"$f":"SUM(Αναλυτικά!AO193:AP193)","v":4},102]
[224,null,null,179,{"$f":"Αναλυτικά!E194","v":"ΠΕΤΙΝΗΣ ΝΙΚΟΛΑΟΣ του ΕΜΜΑΝΟΥΗΛ"},{"$f":"SUM(Αναλυτικά!F194:J194)","v":34},{"$f":"SUM(Αναλυτικά!K194)","v":2},{"$f":"SUM(Αναλυτικά!L194:M194)","v":5},{"$f":"SUM(Αναλυτικά!N194:P194)","v":34},{"$f":"SUM(Αναλυτικά!Q194:S194)","v":24},{"$f":"SUM(Αναλυτικά!T194:U194)","v":10},{"$f":"SUM(Αναλυτικά!V194:X194)","v":6},{"$f":"SUM(Αναλυτικά!Y194)","v":2},{"$f":"SUM(Αναλυτικά!Z194:AA194)","v":4},{"$f":"SUM(Αναλυτικά!AB194:AC194)","v":1},{"$f":"SUM(Αναλυτικά!AD194:AE194)","v":3},{"$f":"SUM(Αναλυτικά!AF194:AK194)","v":11},{"$f":"SUM(Αναλυτικά!AL194:AN194)","v":7},{"$f":"SUM(Αναλυτικά!AO194:AP194)","v":0},143]
[{"$nulls":3},180,{"$f":"Αναλυτικά!E195","v":"ΠΡΕΚΑΣ ΓΕΩΡΓΙΟΣ του ΠΑΝΑΓΙΩΤΗ"},{"$f":"SUM(Αναλυτικά!F195:J195)","v":25},{"$f":"SUM(Αναλυτικά!K195)","v":1},{"$f":"SUM(Αναλυτικά!L195:M195)","v":0},{"$f":"SUM(Αναλυτικά!N195:P195)","v":9},{"$f":"SUM(Αναλυτικά!Q195:S195)","v":7},{"$f":"SUM(Αναλυτικά!T195:U195)","v":2},{"$f":"SUM(Αναλυτικά!V195:X195)","v":9},{"$f":"SUM(Αναλυτικά!Y195)","v":0},{"$f":"SUM(Αναλυτικά!Z195:AA195)","v":1},{"$f":"SUM(Αναλυτικά!AB195:AC195)","v":0},{"$f":"SUM(Αναλυτικά!AD195:AE195)","v":2},{"$f":"SUM(Αναλυτικά!AF195:AK195)","v":4},{"$f":"SUM(Αναλυτικά!AL195:AN195)","v":4},{"$f":"SUM(Αναλυτικά!AO195:AP195)","v":2},66]
[{"$nulls":3},181,{"$f":"Αναλυτικά!E196","v":"ΠΡΕΚΑΣ ΠΕΤΡΟΣ (ΣΒΟΡΩΝΟΣ) του ΕΜΜΑΝΟΥΗΛ"},{"$f":"SUM(Αναλυτικά!F196:J196)","v":99},{"$f":"SUM(Αναλυτικά!K196)","v":9},{"$f":"SUM(Αναλυτικά!L196:M196)","v":2},{"$f":"SUM(Αναλυτικά!N196:P196)","v":18},{"$f":"SUM(Αναλυτικά!Q196:S196)","v":3},{"$f":"SUM(Αναλυτικά!T196:U196)","v":2},{"$f":"SUM(Αναλυτικά!V196:X196)","v":6},{"$f":"SUM(Αναλυτικά!Y196)","v":0},{"$f":"SUM(Αναλυτικά!Z196:AA196)","v":53},{"$f":"SUM(Αναλυτικά!AB196:AC196)","v":2},{"$f":"SUM(Αναλυτικά!AD196:AE196)","v":2},{"$f":"SUM(Αναλυτικά!AF196:AK196)","v":9},{"$f":"SUM(Αναλυτικά!AL196:AN196)","v":7},{"$f":"SUM(Αναλυτικά!AO196:AP196)","v":1},213]
[{"$nulls":3},182,{"$f":"Αναλυτικά!E197","v":"ΡΟΥΣΣΟΣ ΣΤΑΥΡΟΣ του ΒΙΔΙΑΝΟΥ"},{"$f":"SUM(Αναλυτικά!F197:J197)","v":24},{"$f":"SUM(Αναλυτικά!K197)","v":13},{"$f":"SUM(Αναλυτικά!L197:M197)","v":6},{"$f":"SUM(Αναλυτικά!N197:P197)","v":48},{"$f":"SUM(Αναλυτικά!Q197:S197)","v":11},{"$f":"SUM(Αναλυτικά!T197:U197)","v":3},{"$f":"SUM(Αναλυτικά!V197:X197)","v":5},{"$f":"SUM(Αναλυτικά!Y197)","v":0},{"$f":"SUM(Αναλυτικά!Z197:AA197)","v":3},{"$f":"SUM(Αναλυτικά!AB197:AC197)","v":2},{"$f":"SUM(Αναλυτικά!AD197:AE197)","v":5},{"$f":"SUM(Αναλυτικά!AF197:AK197)","v":9},{"$f":"SUM(Αναλυτικά!AL197:AN197)","v":18},{"$f":"SUM(Αναλυτικά!AO197:AP197)","v":27},174]
[{"$nulls":3},183,{"$f":"Αναλυτικά!E198","v":"ΡΟΥΣΣΟΣ ΦΑΝΟΥΡΙΟΣ (ΦΑΝΗΣ) του ΒΑΣΙΛΕΙΟΥ"},{"$f":"SUM(Αναλυτικά!F198:J198)","v":11},{"$f":"SUM(Αναλυτικά!K198)","v":1},{"$f":"SUM(Αναλυτικά!L198:M198)","v":0},{"$f":"SUM(Αναλυτικά!N198:P198)","v":19},{"$f":"SUM(Αναλυτικά!Q198:S198)","v":4},{"$f":"SUM(Αναλυτικά!T198:U198)","v":2},{"$f":"SUM(Αναλυτικά!V198:X198)","v":2},{"$f":"SUM(Αναλυτικά!Y198)","v":0},{"$f":"SUM(Αναλυτικά!Z198:AA198)","v":3},{"$f":"SUM(Αναλυτικά!AB198:AC198)","v":0},{"$f":"SUM(Αναλυτικά!AD198:AE198)","v":0},{"$f":"SUM(Αναλυτικά!AF198:AK198)","v":4},{"$f":"SUM(Αναλυτικά!AL198:AN198)","v":2},{"$f":"SUM(Αναλυτικά!AO198:AP198)","v":0},48]
[225,null,null,184,{"$f":"Αναλυτικά!E199","v":"ΣΑΧ ΧΑΜΙΝΤ ΑΛΕΞΑΝΔΡΟΣ του ΦΙΝΤΑ ΧΟΥΣΕΪΝ"},{"$f":"SUM(Αναλυτικά!F199:J199)","v":38},{"$f":"SUM(Αναλυτικά!K199)","v":6},{"$f":"SUM(Αναλυτικά!L199:M199)","v":1},{"$f":"SUM(Αναλυτικά!N199:P199)","v":29},{"$f":"SUM(Αναλυτικά!Q199:S199)","v":24},{"$f":"SUM(Αναλυτικά!T199:U199)","v":4},{"$f":"SUM(Αναλυτικά!V199:X199)","v":18},{"$f":"SUM(Αναλυτικά!Y199)","v":7},{"$f":"SUM(Αναλυτικά!Z199:AA199)","v":5},{"$f":"SUM(Αναλυτικά!AB199:AC199)","v":2},{"$f":"SUM(Αναλυτικά!AD199:AE199)","v":17},{"$f":"SUM(Αναλυτικά!AF199:AK199)","v":7},{"$f":"SUM(Αναλυτικά!AL199:AN199)","v":12},{"$f":"SUM(Αναλυτικά!AO199:AP199)","v":2},172]
[{"$nulls":3},185,{"$f":"Αναλυτικά!E200","v":"ΣΙΓΑΛΑ ΧΡΙΣΤΙΝΑ του ΕΥΑΓΓΕΛΟΥ"},{"$f":"SUM(Αναλυτικά!F200:J200)","v":13},{"$f":"SUM(Αναλυτικά!K200)","v":3},{"$f":"SUM(Αναλυτικά!L200:M200)","v":2},{"$f":"SUM(Αναλυτικά!N200:P200)","v":13},{"$f":"SUM(Αναλυτικά!Q200:S200)","v":10},{"$f":"SUM(Αναλυτικά!T200:U200)","v":4},{"$f":"SUM(Αναλυτικά!V200:X200)","v":3},{"$f":"SUM(Αναλυτικά!Y200)","v":2},{"$f":"SUM(Αναλυτικά!Z200:AA200)","v":8},{"$f":"SUM(Αναλυτικά!AB200:AC200)","v":4},{"$f":"SUM(Αναλυτικά!AD200:AE200)","v":16},{"$f":"SUM(Αναλυτικά!AF200:AK200)","v":50},{"$f":"SUM(Αναλυτικά!AL200:AN200)","v":2},{"$f":"SUM(Αναλυτικά!AO200:AP200)","v":0},130]
[{"$nulls":3},186,{"$f":"Αναλυτικά!E201","v":"ΣΤΕΦΑΝΟΓΙΑΝΝΗΣ ΜΙΧΑΗΛ του ΙΩΑΝΝΗ"},{"$f":"SUM(Αναλυτικά!F201:J201)","v":19},{"$f":"SUM(Αναλυτικά!K201)","v":1},{"$f":"SUM(Αναλυτικά!L201:M201)","v":0},{"$f":"SUM(Αναλυτικά!N201:P201)","v":15},{"$f":"SUM(Αναλυτικά!Q201:S201)","v":8},{"$f":"SUM(Αναλυτικά!T201:U201)","v":3},{"$f":"SUM(Αναλυτικά!V201:X201)","v":8},{"$f":"SUM(Αναλυτικά!Y201)","v":0},{"$f":"SUM(Αναλυτικά!Z201:AA201)","v":4},{"$f":"SUM(Αναλυτικά!AB201:AC201)","v":0},{"$f":"SUM(Αναλυτικά!AD201:AE201)","v":1},{"$f":"SUM(Αναλυτικά!AF201:AK201)","v":5},{"$f":"SUM(Αναλυτικά!AL201:AN201)","v":3},{"$f":"SUM(Αναλυτικά!AO201:AP201)","v":1},68]
[{"$nulls":3},187,{"$f":"Αναλυτικά!E202","v":"ΣΥΚΗΝΙΩΤΗΣ ΙΩΑΝΝΗΣ του ΝΕΚΤΑΡΙΟΥ"},{"$f":"SUM(Αναλυτικά!F202:J202)","v":13},{"$f":"SUM(Αναλυτικά!K202)","v":32},{"$f":"SUM(Αναλυτικά!L202:M202)","v":3},{"$f":"SUM(Αναλυτικά!N202:P202)","v":4},{"$f":"SUM(Αναλυτικά!Q202:S202)","v":9},{"$f":"SUM(Αναλυτικά!T202:U202)","v":3},{"$f":"SUM(Αναλυτικά!V202:X202)","v":1},{"$f":"SUM(Αναλυτικά!Y202)","v":1},{"$f":"SUM(Αναλυτικά!Z202:AA202)","v":0},{"$f":"SUM(Αναλυτικά!AB202:AC202)","v":1},{"$f":"SUM(Αναλυτικά!AD202:AE202)","v":1},{"$f":"SUM(Αναλυτικά!AF202:AK202)","v":21},{"$f":"SUM(Αναλυτικά!AL202:AN202)","v":4},{"$f":"SUM(Αναλυτικά!AO202:AP202)","v":0},93]
[{"$nulls":3},188,{"$f":"Αναλυτικά!E203","v":"ΤΣΙΓΑΡΙΔΑΣ ΚΩΝΣΤΑΝΤΙΝΟΣ του ΛΑΜΠΡΟΥ"},{"$f":"SUM(Αναλυτικά!F203:J203)","v":12},{"$f":"SUM(Αναλυτικά!K203)","v":0},{"$f":"SUM(Αναλυτικά!L203:M203)","v":1},{"$f":"SUM(Αναλυτικά!N203:P203)","v":7},{"$f":"SUM(Αναλυτικά!Q203:S203)","v":10},{"$f":"SUM(Αναλυτικά!T203:U203)","v":1},{"$f":"SUM(Αναλυτικά!V203:X203)","v":2},{"$f":"SUM(Αναλυτικά!Y203)","v":0},{"$f":"SUM(Αναλυτικά!Z203:AA203)","v":3},{"$f":"SUM(Αναλυτικά!AB203:AC203)","v":0},{"$f":"SUM(Αναλυτικά!AD203:AE203)","v":1},{"$f":"SUM(Αναλυτικά!AF203:AK203)","v":0},{"$f":"SUM(Αναλυτικά!AL203:AN203)","v":0},{"$f":"SUM(Αναλυτικά!AO203:AP203)","v":0},37]
[{"$nulls":3},189,{"$f":"Αναλυτικά!E204","v":"ΤΣΟΛΑΚΑΚΗΣ ΓΕΩΡΓΙΟΣ του ΝΙΚΟΛΑΟΥ"},{"$f":"SUM(Αναλυτικά!F204:J204)","v":13},{"$f":"SUM(Αναλυτικά!K204)","v":0},{"$f":"SUM(Αναλυτικά!L204:M204)","v":2},{"$f":"SUM(Αναλυτικά!N204:P204)","v":2},{"$f":"SUM(Αναλυτικά!Q204:S204)","v":4},{"$f":"SUM(Αναλυτικά!T204:U204)","v":16},{"$f":"SUM(Αναλυτικά!V204:X204)","v":7},{"$f":"SUM(Αναλυτικά!Y204)","v":1},{"$f":"SUM(Αναλυτικά!Z204:AA204)","v":2},{"$f":"SUM(Αναλυτικά!AB204:AC204)","v":0},{"$f":"SUM(Αναλυτικά!AD204:AE204)","v":0},{"$f":"SUM(Αναλυτικά!AF204:AK204)","v":1},{"$f":"SUM(Αναλυτικά!AL204:AN204)","v":0},{"$f":"SUM(Αναλυτικά!AO204:AP204)","v":0},48]
[{"$nulls":3},190,{"$f":"Αναλυτικά!E205","v":"ΦΟΥΣΤΕΡΗ ΚΑΛΑΜΙΩΤΙΣΣΑ ‑ ΜΑΡΙΑ του ΣΤΥΛΙΑΝΟΥ"},{"$f":"SUM(Αναλυτικά!F205:J205)","v":9},{"$f":"SUM(Αναλυτικά!K205)","v":1},{"$f":"SUM(Αναλυτικά!L205:M205)","v":0},{"$f":"SUM(Αναλυτικά!N205:P205)","v":14},{"$f":"SUM(Αναλυτικά!Q205:S205)","v":2},{"$f":"SUM(Αναλυτικά!T205:U205)","v":2},{"$f":"SUM(Αναλυτικά!V205:X205)","v":2},{"$f":"SUM(Αναλυτικά!Y205)","v":1},{"$f":"SUM(Αναλυτικά!Z205:AA205)","v":16},{"$f":"SUM(Αναλυτικά!AB205:AC205)","v":0},{"$f":"SUM(Αναλυτικά!AD205:AE205)","v":6},{"$f":"SUM(Αναλυτικά!AF205:AK205)","v":1},{"$f":"SUM(Αναλυτικά!AL205:AN205)","v":2},{"$f":"SUM(Αναλυτικά!AO205:AP205)","v":0},56]
[{"$nulls":3},191,{"$f":"Αναλυτικά!E206","v":"ΦΟΥΣΤΕΡΗΣ ΔΗΜΗΤΡΙΟΣ του ΕΛΕΥΘΕΡΙΟΥ"},{"$f":"SUM(Αναλυτικά!F206:J206)","v":2},{"$f":"SUM(Αναλυτικά!K206)","v":0},{"$f":"SUM(Αναλυτικά!L206:M206)","v":1},{"$f":"SUM(Αναλυτικά!N206:P206)","v":2},{"$f":"SUM(Αναλυτικά!Q206:S206)","v":19},{"$f":"SUM(Αναλυτικά!T206:U206)","v":1},{"$f":"SUM(Αναλυτικά!V206:X206)","v":9},{"$f":"SUM(Αναλυτικά!Y206)","v":1},{"$f":"SUM(Αναλυτικά!Z206:AA206)","v":0},{"$f":"SUM(Αναλυτικά!AB206:AC206)","v":0},{"$f":"SUM(Αναλυτικά!AD206:AE206)","v":1},{"$f":"SUM(Αναλυτικά!AF206:AK206)","v":1},{"$f":"SUM(Αναλυτικά!AL206:AN206)","v":1},{"$f":"SUM(Αναλυτικά!AO206:AP206)","v":0},38]
[226,null,null,192,{"$f":"Αναλυτικά!E207","v":"ΦΟΥΣΤΕΡΗΣ ΦΩΤΙΟΣ του ΕΥΑΓΓΕΛΟΥ"},{"$f":"SUM(Αναλυτικά!F207:J207)","v":5},{"$f":"SUM(Αναλυτικά!K207)","v":0},{"$f":"SUM(Αναλυτικά!L207:M207)","v":0},{"$f":"SUM(Αναλυτικά!N207:P207)","v":4},{"$f":"SUM(Αναλυτικά!Q207:S207)","v":19},{"$f":"SUM(Αναλυτικά!T207:U207)","v":1},{"$f":"SUM(Αναλυτικά!V207:X207)","v":2},{"$f":"SUM(Αναλυτικά!Y207)","v":1},{"$f":"SUM(Αναλυτικά!Z207:AA207)","v":0},{"$f":"SUM(Αναλυτικά!AB207:AC207)","v":0},{"$f":"SUM(Αναλυτικά!AD207:AE207)","v":0},{"$f":"SUM(Αναλυτικά!AF207:AK207)","v":2},{"$f":"SUM(Αναλυτικά!AL207:AN207)","v":2},{"$f":"SUM(Αναλυτικά!AO207:AP207)","v":0},36]
[227,{"$nulls":3},"ΔΗΜΟΤΙΚΗ ΕΝΟΤΗΤΑ ΟΙΑΣ"]
[228,null,null,190,{"$f":"Αναλυτικά!E209","v":"ΑΛΑΦΡΑΓΚΗΣ ΕΥΑΓΓΕΛΟΣ (ΜΠΛΙΓΚΟΣ) του ΙΩΑΝΝΗ"},{"$f":"SUM(Αναλυτικά!F209:J209)","v":15},{"$f":"SUM(Αναλυτικά!K209)","v":4},{"$f":"SUM(Αναλυτικά!L209:M209)","v":2},{"$f":"SUM(Αναλυτικά!N209:P209)","v":13},{"$f":"SUM(Αναλυτικά!Q209:S209)","v":11},{"$f":"SUM(Αναλυτικά!T209:U209)","v":2},{"$f":"SUM(Αναλυτικά!V209:X209)","v":7},{"$f":"SUM(Αναλυτικά!Y209)","v":2},{"$f":"SUM(Αναλυτικά!Z209:AA209)","v":5},{"$f":"SUM(Αναλυτικά!AB209:AC209)","v":0},{"$f":"SUM(Αναλυτικά!AD209:AE209)","v":1},{"$f":"SUM(Αναλυτικά!AF209:AK209)","v":15},{"$f":"SUM(Αναλυτικά!AL209:AN209)","v":23},{"$f":"SUM(Αναλυτικά!AO209:AP209)","v":0},{"$f":"SUM(F207:S207)","v":100}]
[229,null,null,191,{"$f":"Αναλυτικά!E210","v":"ΑΡΧΟΝΤΟΥ‑ΚΡΕΒΒΑΤΑ ΟΛΓΑ του ΣΩΚΡΑΤΗ"},{"$f":"SUM(Αναλυτικά!F210:J210)","v":3},{"$f":"SUM(Αναλυτικά!K207)","v":0},{"$f":"SUM(Αναλυτικά!L207:M207)","v":0},{"$f":"SUM(Αναλυτικά!N207:P207)","v":4},{"$f":"SUM(Αναλυτικά!Q207:S207)","v":19},{"$f":"SUM(Αναλυτικά!T207:U207)","v":1},{"$f":"SUM(Αναλυτικά!V207:X207)","v":2},{"$f":"SUM(Αναλυτικά!Y207)","v":1},{"$f":"SUM(Αναλυτικά!Z207:AA207)","v":0},{"$f":"SUM(Αναλυτικά!AB207:AC207)","v":0},{"$f":"SUM(Αναλυτικά!AD207:AE207)","v":0},{"$f":"SUM(Αναλυτικά!AF207:AK207)","v":2},{"$f":"SUM(Αναλυτικά!AL207:AN207)","v":2},{"$f":"SUM(Αναλυτικά!AO207:AP207)","v":0},{"$f":"SUM(F208:S208)","v":34}]
[{"$nulls":3},192,{"$f":"Αναλυτικά!E211","v":"ΚΑΡΡΑ ΕΙΡΗΝΗ του ΓΕΩΡΓΙΟΥ"},{"$f":"SUM(Αναλυτικά!F211:J211)","v":31},{"$f":"SUM(Αναλυτικά!K208)","v":0},{"$f":"SUM(Αναλυτικά!L208:M208)","v":0},{"$f":"SUM(Αναλυτικά!N208:P208)","v":0},{"$f":"SUM(Αναλυτικά!Q208:S208)","v":0},{"$f":"SUM(Αναλυτικά!T208:U208)","v":0},{"$f":"SUM(Αναλυτικά!V208:X208)","v":0},{"$f":"SUM(Αναλυτικά!Y208)","v":0},{"$f":"SUM(Αναλυτικά!Z208:AA208)","v":0},{"$f":"SUM(Αναλυτικά!AB208:AC208)","v":0},{"$f":"SUM(Αναλυτικά!AD208:AE208)","v":0},{"$f":"SUM(Αναλυτικά!AF208:AK208)","v":0},{"$f":"SUM(Αναλυτικά!AL208:AN208)","v":0},{"$f":"SUM(Αναλυτικά!AO208:AP208)","v":0},31]
[{"$nulls":3},193,{"$f":"Αναλυτικά!E212","v":"ΠΙΤΣΙΚΑΛΗ ΜΑΡΙΑ του ΕΥΑΓΓΕΛΟΥ"},{"$f":"SUM(Αναλυτικά!F212:J212)","v":33},{"$f":"SUM(Αναλυτικά!K209)","v":4},{"$f":"SUM(Αναλυτικά!L209:M209)","v":2},{"$f":"SUM(Αναλυτικά!N209:P209)","v":13},{"$f":"SUM(Αναλυτικά!Q209:S209)","v":11},{"$f":"SUM(Αναλυτικά!T209:U209)","v":2},{"$f":"SUM(Αναλυτικά!V209:X209)","v":7},{"$f":"SUM(Αναλυτικά!Y209)","v":2},{"$f":"SUM(Αναλυτικά!Z209:AA209)","v":5},{"$f":"SUM(Αναλυτικά!AB209:AC209)","v":0},{"$f":"SUM(Αναλυτικά!AD209:AE209)","v":1},{"$f":"SUM(Αναλυτικά!AF209:AK209)","v":15},{"$f":"SUM(Αναλυτικά!AL209:AN209)","v":23},{"$f":"SUM(Αναλυτικά!AO209:AP209)","v":0},118]
[230,null,null,194,{"$f":"Αναλυτικά!E213","v":"ΧΑΛΑΡΗΣ ΑΝΤΩΝΙΟΣ του ΛΟΥΚΑ"},{"$f":"SUM(Αναλυτικά!F213:J213)","v":91},{"$f":"SUM(Αναλυτικά!K210)","v":2},{"$f":"SUM(Αναλυτικά!L210:M210)","v":0},{"$f":"SUM(Αναλυτικά!N210:P210)","v":3},{"$f":"SUM(Αναλυτικά!Q210:S210)","v":1},{"$f":"SUM(Αναλυτικά!T210:U210)","v":0},{"$f":"SUM(Αναλυτικά!V210:X210)","v":6},{"$f":"SUM(Αναλυτικά!Y210)","v":1},{"$f":"SUM(Αναλυτικά!Z210:AA210)","v":1},{"$f":"SUM(Αναλυτικά!AB210:AC210)","v":0},{"$f":"SUM(Αναλυτικά!AD210:AE210)","v":1},{"$f":"SUM(Αναλυτικά!AF210:AK210)","v":0},{"$f":"SUM(Αναλυτικά!AL210:AN210)","v":14},{"$f":"SUM(Αναλυτικά!AO210:AP210)","v":1},121]

{"sheet":"Παράμετροι","index":3,"n_rows":9,"n_cols":2,"rows_kept":9}
["Αριθμός Συνδυασμών",5]
["Τελευταία γραμμή υποψηφίων",213]
[]
["Συνδυασμοί"]
["Θηραϊκή Πολιτεία"]
["Σαντορίνη Θηρασία Ενότητα Αλλαγή"]
["Λαϊκή Συσπείρωση"]
["ΜΑΖΙ ΑΛΛΑΖΟΥΜΕ ΣΑΝΤΟΡΙΝΗ – ΘΗΡΑΣΙΑ"]
["ΤΩΡΑ! Για τη Σαντορίνη και τη Θηρασιά"]